BEGIN:VCALENDAR
VERSION:2.0
PRODID:-//ChamberMaster//Event Calendar 2.0//EN
METHOD:PUBLISH
X-PUBLISHED-TTL:P3D
REFRESH-INTERVAL:P3D
CALSCALE:GREGORIAN
BEGIN:VEVENT
DTSTART:20231004T123000Z
DTEND:20231004T140000Z
X-MICROSOFT-CDO-ALLDAYEVENT:FALSE
SUMMARY:Clinton Area Chamber Seminar Series - Employment Law
DESCRIPTION:Employment Law update 2023. This seminar will detail the most significant newly adopted  employment laws and an overview of the most significant court cases that will impact employers of all sizes.  \n\n\n\n\n\nPresenter - Joseph Bartulis\, Jr. Esq.\n\nFletcher Tilton PC
X-ALT-DESC;FMTTYPE=text/html:<br />\n<span style="font-family:arial\;">Employment Law update 2023. This seminar will detail the most significant newly adopted &nbsp\;employment laws and an overview of the most significant court cases that will impact employers of all sizes. &nbsp\;<br />\n<br />\n<br />\n<span style="font-size:14px\;">Presenter - Joseph Bartulis\, Jr. Esq.<br />\nFletcher Tilton PC</span></span>
LOCATION:Museum of Russian Icons 203 Union St\, Clinton\, MA 01510
UID:e.2083.14957
SEQUENCE:3
DTSTAMP:20260420T190721Z
URL:https://business.cmschamber.org/events/details/clinton-area-chamber-seminar-series-employment-law-14957
END:VEVENT

END:VCALENDAR
