BEGIN:VCALENDAR
VERSION:2.0
PRODID:-//ChamberMaster//Event Calendar 2.0//EN
METHOD:PUBLISH
X-PUBLISHED-TTL:P3D
REFRESH-INTERVAL:P3D
CALSCALE:GREGORIAN
BEGIN:VEVENT
DTSTART:20230427T130000Z
DTEND:20230427T143000Z
X-MICROSOFT-CDO-ALLDAYEVENT:FALSE
SUMMARY:Clinton Area Chamber Seminar Series -SBA 504 Loan Program
DESCRIPTION:Looking for the capital to expand your business by purchasing real estate\, a new commercial vehicle\, or machinery and equipment? The SBA 504 Loan Program is made just for you.\n\n \n\nPlease join the Clinton Area Chamber of Commerce for a seminar on the SBA's 504 Loan Program with an approved lender\, the Worcester Business Development Corporation (WBDC). The 504 loan is an SBA-funded program that provides long-term\, fixed rate financing for small businesses to purchase equipment or real estate. The funds are used for capital   for the purchase of land and buildings\, new construction and renovation\, and acquisition of equipment and vehicles.\n\n \n\nThe 504 loan provided by WBDC is an excellent way for small business owners to work with a local nonprofit lender to expand their business. With a low down payment\, fixed rates\, and long terms\, the SBA 504 Loan protects business owners against fluctuations in real estate valuations and other market changes\, and gives them the flexibility in their year-to-year budgets. Learn more about the program in this important seminar.
X-ALT-DESC;FMTTYPE=text/html:Looking for the capital to expand your business by purchasing real estate\, a new commercial vehicle\, or machinery and equipment? The SBA 504 Loan Program is made just for you.<br />\n&nbsp\;<br />\nPlease join the Clinton Area Chamber of Commerce for a seminar on the SBA&rsquo\;s 504 Loan Program with an approved lender\, the Worcester Business Development Corporation (WBDC). The 504 loan is an SBA-funded program that provides long-term\, fixed rate financing for small businesses to purchase equipment or real estate. The funds are used for capital &ndash\; for the purchase of land and buildings\, new construction and renovation\, and acquisition of equipment and vehicles.<br />\n&nbsp\;<br />\nThe 504 loan provided by WBDC is an excellent way for small business owners to work with a local nonprofit lender to expand their business. With a low down payment\, fixed rates\, and long terms\, the SBA 504 Loan protects business owners against fluctuations in real estate valuations and other market changes\, and gives them the flexibility in their year-to-year budgets. Learn more about the program in this important seminar.
LOCATION:Museum of Russian Icons 203 Union St\, Clinton\, MA
UID:e.2083.14995
SEQUENCE:3
DTSTAMP:20260421T042337Z
URL:https://business.cmschamber.org/events/details/clinton-area-chamber-seminar-series-sba-504-loan-program-14995
END:VEVENT

END:VCALENDAR
