BEGIN:VCALENDAR
VERSION:2.0
PRODID:-//ChamberMaster//Event Calendar 2.0//EN
METHOD:PUBLISH
X-PUBLISHED-TTL:P3D
REFRESH-INTERVAL:P3D
CALSCALE:GREGORIAN
BEGIN:VEVENT
DTSTART:20230202T210000Z
DTEND:20230202T220000Z
X-MICROSOFT-CDO-ALLDAYEVENT:FALSE
SUMMARY:Clinton Area Chamber Seminar Series(ZOOM) - Cybersecurity for Organizations
DESCRIPTION:Bryley Systems will present via zoom on the following Cybersecurity topics:\n\n \n\n\nWhat you should do today to defend against security threats!\n\n \n\n*Ransomware\, what is it and how to prevent it at your organization.\n\n \n\n*Business Email Compromise\, today's biggest threat and what you can do about it.\n\n \n\n*Backup Continuity Services - Ensure access to your data when & wherever you need it\n\n \n\n*Overview of Cyber Security Best practices to prevent data breaches\n\n \n\n*Q&A
X-ALT-DESC;FMTTYPE=text/html:<div style="margin-left:0in\;"><span style="font-family:arial\;">Bryley Systems will present via zoom on the following Cybersecurity topics:</span><br />\n&nbsp\;</div>\n<br />\nWhat you should do today to defend against security threats!<br />\n&nbsp\;<br />\n*Ransomware\, what is it and how to prevent it at your organization.<br />\n&nbsp\;<br />\n*Business Email Compromise\, today&#39\;s biggest threat and what you can do about it.<br />\n&nbsp\;<br />\n*Backup Continuity Services - Ensure access to your data when &amp\; wherever you need it<br />\n&nbsp\;<br />\n*Overview of Cyber Security Best practices to prevent data breaches<br />\n&nbsp\;<br />\n*Q&amp\;A<br />\n&nbsp\;
LOCATION:https://zoom.us/j/96965574829?pwd=dVRqTzloV1V0Q3RIRm5XdzI2QzJjQT09. Webinar ID is: 969 6557 4829 Webinar passcode: 313264
UID:e.2083.14954
SEQUENCE:3
DTSTAMP:20260421T093515Z
URL:https://business.cmschamber.org/events/details/clinton-area-chamber-seminar-series-zoom-cybersecurity-for-organizations-14954
END:VEVENT

END:VCALENDAR
