BEGIN:VCALENDAR
VERSION:2.0
PRODID:-//ChamberMaster//Event Calendar 2.0//EN
METHOD:PUBLISH
X-PUBLISHED-TTL:P3D
REFRESH-INTERVAL:P3D
CALSCALE:GREGORIAN
BEGIN:VEVENT
DTSTART:20220820T160000Z
DTEND:20220820T200000Z
X-MICROSOFT-CDO-ALLDAYEVENT:FALSE
SUMMARY:Clinton Area Chamber Sidewalk Festival
DESCRIPTION:Looking for a Something To Do event in the community?\n\n\n\nPlease join us for our 2022 Annual Sidewalk Fest brought to you by the Clinton Area Chamber of Commerce on August 20\, 2022 from 12pm-4pm. We invite all businesses\, organizations or vendors located in town to participate in this community event as we close High Street from the intersection of Church Street and Union Street. Even if you do not have a store front on High Street\, this is a great way to gain exposure for your business\, reach new customers and interact with the community.\n\n\n\nWe are also looking for sponsors\, Bronze\, Silver and Gold. \n\n* Bronze Sponsor's business name will be listed on all marketing materials and will receive a booth at the event.\n\n* Silver Sponsor's business logo will be used on all marketing materials and will receive a booth at the event.\n\n* Gold Sponsor's business logo will be used on all marketing material\, will be able to say a few words during the event\, and will receive a booth at the event.\n\n\n\nThere will be live performances\, music\, touch-a-truck\, sales\, giveaways\, and events for kids! Vendor booth tickets for Chamber members is $25.00 and $40.00 for non-members. Hope to see you on the street!
X-ALT-DESC;FMTTYPE=text/html:<span style="font-size:14px\;"><span style="font-family:arial\;"><span style="background:white\;"><span style="color:#050505\;">Looking for a <strong><em>Something To Do </em></strong>event in the community?<br />\n<br />\nPlease join us for our 2022 Annual Sidewalk</span></span>&nbsp\;Fest brought to you by the Clinton Area Chamber of Commerce on August 20\, 2022 from 12pm-4pm. We invite all businesses\, organizations or vendors located in town to participate in this community event as we close High Street from the intersection of Church Street and Union Street. Even if you do not have a store front on High Street\, this is a great way to gain exposure for your business\, reach new customers and interact with the community.<br />\n<br />\nWe are also looking for sponsors\, Bronze\, Silver and Gold.&nbsp\;<br />\n*&nbsp\;</span></span><span style="font-family: arial\; font-size: 14px\;">Bronze Sponsor&#39\;s business name will be listed on all marketing materials and will receive a booth at the event.</span><br />\n<span style="font-family: arial\; font-size: 14px\;">* Silver Sponsor&#39\;s business logo will be used on all marketing materials and will receive a booth at the event.</span><br style="font-family: arial\; font-size: 14px\;" />\n<span style="font-family: arial\; font-size: 14px\;">* Gold Sponsor&#39\;s business logo will be used on all marketing material\, will be able to say a few words during the event\, and will receive a booth at the event.</span><br />\n<br />\n<span style="font-size:14px\;"><span style="font-family:arial\;">There will be live performances\, music\, touch-a-truck\, sales\, giveaways\, and events for kids! Vendor booth tickets for Chamber members is $25.00 and $40.00 for non-members. Hope to see you on the street!</span></span>
LOCATION:High Street (between Church Street and Union Street) Clinton\, MA
UID:e.2083.13968
SEQUENCE:3
DTSTAMP:20260421T173508Z
URL:https://business.cmschamber.org/events/details/clinton-area-chamber-sidewalk-festival-13968
END:VEVENT

END:VCALENDAR
