BEGIN:VCALENDAR
VERSION:2.0
PRODID:-//ChamberMaster//Event Calendar 2.0//EN
METHOD:PUBLISH
X-PUBLISHED-TTL:P3D
REFRESH-INTERVAL:P3D
CALSCALE:GREGORIAN
BEGIN:VEVENT
DTSTART:20230912T123000Z
DTEND:20230912T140000Z
X-MICROSOFT-CDO-ALLDAYEVENT:FALSE
SUMMARY:Clinton Chamber Seminar Series -Recruit & Retain Employees
DESCRIPTION:The most valuable asset for any business is its employees.  During this high-powered\, interactive session you will engage with other business leaders to learn Ten Essentials for Building a Top-performing Team.  Your team defines your culture and represents your brand as ambassadors.  You need to attract the best of the best talent in this competitive environment today.  Tom Herald will share tips from some of the top recruiters in the business to help you get those first round picks before your competitors\n\n\n\nPresented by Small Business Develop Center (SBDC)
X-ALT-DESC;FMTTYPE=text/html:<div style="color:#2F5496\;margin-left:0in\;"><span style="color:#000000\;"><span style="font-family:calibri\,sans-serif\;"><span style="font-size:12.0pt\;">The most valuable asset for any business is its&nbsp\;employees.&nbsp\; During this high-powered\, interactive session you will engage with other business leaders to learn Ten Essentials for Building a Top-performing Team.&nbsp\; Your team defines your culture and represents your brand as ambassadors.&nbsp\; You need to attract the best of the best talent in this competitive environment today.&nbsp\; Tom Herald will share tips from some of the top recruiters in the business to help you get those first round picks before your competitors</span></span><br />\n<br />\n<span style="font-size:12.0pt\;">Presented by Small Business Develop Center (SBDC)</span></span></div>\n
LOCATION:Museum of Russian Icons 203 Union St\, Clinton
UID:e.2083.14969
SEQUENCE:3
DTSTAMP:20260420T210604Z
URL:https://business.cmschamber.org/events/details/clinton-chamber-seminar-series-recruit-retain-employees-14969
END:VEVENT

END:VCALENDAR
