BEGIN:VCALENDAR
VERSION:2.0
PRODID:-//ChamberMaster//Event Calendar 2.0//EN
METHOD:PUBLISH
X-PUBLISHED-TTL:P3D
REFRESH-INTERVAL:P3D
CALSCALE:GREGORIAN
BEGIN:VEVENT
DTSTART:20210318T140000Z
DTEND:20210318T153000Z
X-MICROSOFT-CDO-ALLDAYEVENT:FALSE
SUMMARY:Close More Business
DESCRIPTION:Are you or your salespeople meeting with prospects but not closing enough business?\n\n \n\nAre your close rates being impacted by the need to conduct meetings virtually? Or\, is the pandemic affecting your ability to get them to meet with you in the first place?\n\n \n\nMany of our clients operate in businesses with long sales cycles. This makes it more important to know what is going to close and when. Otherwise you are faced with unpredictability and inconsistent results. \n\n \n\nYou can still get better results in a virtual world. What would the revenue impact be if your close rate improved 10%? What if it were to double? \n\n \n\nIf you want to find out how to spend less time with people who don't buy\, "haven't had a chance to look at it"\, or need to "think about it\," and more time with people who are committed to following through\, this workshop is for you. The cost is compliments of Our Sales Coach.\n\n\n\nREGISTER HERE\n\n \nIn this workshop you will learn: \n\n \n\n\n	What simple thing you can do to get prospects to trust you and open up to you truthfully.\n	How to weed out the "tire kickers" early on in the process\n	How to uncover the compelling reasons for your prospects to do business with you\n	How to insert yourself into your prospect's recovery plan\n	How to get commitment\n	How to find out what they are willing to invest \n	How to get them to make quicker decisions and know how they will decide\n	How to get to the decision makers and influencers   \n	How to be sure about what will close and when so you can make important decision in your business\n\nThis workshop will be held in an online meeting format to encourage discussion. We will provide you with strategies for adjusting to the current environment and set your company up to close more business\, recover and maintain your predictions for top-line and bottom-line growth.
X-ALT-DESC;FMTTYPE=text/html:<div style="text-align:justify"><strong>Are you&nbsp\;or your salespeople meeting with&nbsp\;prospects but not closing enough business?</strong></div>\n\n<div style="text-align:justify">&nbsp\;</div>\n\n<div style="text-align:justify"><strong>Are your close rates being impacted by the need to conduct meetings virtually? Or\, is the pandemic affecting your ability to get them to meet with you in the first place?</strong></div>\n\n<div style="text-align:justify">&nbsp\;</div>\n\n<div><strong>Many of our clients operate in businesses with long sales cycles. This makes it more important to know what is going to close and when.&nbsp\;Otherwise you are faced with unpredictability and inconsistent results.&nbsp\;</strong></div>\n\n<div style="text-align:justify">&nbsp\;</div>\n\n<div style="text-align:justify"><strong>You can still get better results in a virtual world. What would the revenue impact be if your close rate improved 10%? What if it were to double?&nbsp\;</strong></div>\n\n<div style="text-align:justify">&nbsp\;</div>\n\n<div style="text-align:justify"><strong>If you want to find out how to spend less time with people who don&#39\;t buy\, &quot\;haven&#39\;t had a chance to look at it&quot\;\,&nbsp\;or need to &quot\;think about it\,&quot\;&nbsp\;and more time with people who are committed to following through\, this workshop is for you.&nbsp\;The cost is compliments of Our Sales Coach.<br />\n<br />\n<a href="https://events.r20.constantcontact.com/register/eventReg?llr=miryb7bab&amp\;oeidk=a07ehmqxtn779e73bf6"><span style="color:#0000FF">REGISTER HERE</span></a></strong><br />\n&nbsp\;\n<div><strong>In this workshop&nbsp\;you will learn:&nbsp\;</strong></div>\n\n<div>&nbsp\;</div>\n\n<ul>\n	<li><strong>What simple thing you can do to get prospects to trust you and open up to&nbsp\;you truthfully.</strong></li>\n	<li><strong>How to weed out the &quot\;tire kickers&quot\; early on in the process</strong></li>\n	<li><strong>How&nbsp\;to uncover the&nbsp\;compelling&nbsp\;reasons for&nbsp\;your prospects to do business with you</strong></li>\n	<li><strong>How to insert yourself into your prospect&#39\;s recovery plan</strong></li>\n	<li><strong>How&nbsp\;to get commitment</strong></li>\n	<li><strong>How&nbsp\;to find out what they are&nbsp\;willing to invest&nbsp\;</strong></li>\n	<li><strong>How&nbsp\;to&nbsp\;get them to&nbsp\;make quicker decisions and know how they will decide</strong></li>\n	<li><strong>How&nbsp\;to get to the decision makers and influencers</strong><strong>&nbsp\;&nbsp\;&nbsp\;</strong></li>\n	<li><strong>How to be sure about what will close and when so you can make important decision in your business</strong></li>\n</ul>\n<strong>This workshop will be held in an online meeting format to encourage discussion. We will provide you with strategies for adjusting to the current environment and set your company up to close more business\, recover and&nbsp\;</strong><em>maintain your predictions for top-line and bottom-line growth.</em><br />\n&nbsp\;</div>\n
LOCATION:Online Event
UID:e.2083.12718
SEQUENCE:3
DTSTAMP:20260422T174651Z
URL:https://business.cmschamber.org/events/details/close-more-business-12718
END:VEVENT

END:VCALENDAR
