BEGIN:VCALENDAR
VERSION:2.0
PRODID:-//ChamberMaster//Event Calendar 2.0//EN
METHOD:PUBLISH
X-PUBLISHED-TTL:P3D
REFRESH-INTERVAL:P3D
CALSCALE:GREGORIAN
BEGIN:VEVENT
DTSTART:20210908T160000Z
DTEND:20210908T170000Z
X-MICROSOFT-CDO-ALLDAYEVENT:FALSE
SUMMARY:Clubhouse: The Hottest New Social Media App
DESCRIPTION:Have you heard about Clubhouse\, the buzziest new social media app?  Here is your chance to learn all about it!\n\nClubhouse is an audio-based social media app. The company describes itself as "a new type of social product based on voice [that] allows people everywhere to talk\, tell stories\, develop ideas\, deepen friendships\, and meet interesting new people around the world."\n\nHow will this help your business?  The US Chamber of Commerce states:\n\n"Clubhouse offers the opportunity to connect with others in your industry\, as well as to network with other business leaders. Beyond the mentorship potential\, you can also use it to become a thought leader yourself. As more people slowly receive invites to join\, it will pay off big to have spent time positioning yourself as an expert and start gaining followers early."\n\nThe fabulous Jamie Cocco will be back to teach us all about it!\n\nAbout the instructor: Jamie Cocco is the founder of Empowered Social Media. He is a self proclaimed social media nerd that has spent the last 7 years of his life dedicated to understanding\, optimizing\, and teaching others how to use social media effectively. Jamie has presented to hundreds of professionals on social media and marketing strategy\, has spent thousands of hours honing his skills\, and has spent over $100\,000 on social media ads figuring out what works and doesn't work. He has worked with over 100 local businesses from restaurants\, health and fitness centers\, racing event companies\, real estate agents\, and photographers to non-profits and local chambers of commerce. Jamie is passionate about social media\, helping others\, and the community.
X-ALT-DESC;FMTTYPE=text/html:<p>Have you heard about Clubhouse\, the buzziest new social media app?&nbsp\; Here is your chance to learn all about it!</p>\n\n<p>Clubhouse is&nbsp\;<strong>an audio-based social media app</strong>. The company describes itself as &quot\;a new type of social product based on voice [that] allows people everywhere to talk\, tell stories\, develop ideas\, deepen friendships\, and meet interesting new people around the world.&quot\;</p>\n\n<p>How will this help your business?&nbsp\; The US Chamber of Commerce states:</p>\n\n<p>&quot\;Clubhouse offers the opportunity to connect with others in your industry\, as well as to network with other business leaders. Beyond the mentorship potential\, you can also use it to become a thought leader yourself. As more people slowly receive invites to join\, it will pay off big to have spent time positioning yourself as an expert and start gaining followers early.&quot\;</p>\n\n<p>The fabulous Jamie Cocco will be back to teach us all about it!</p>\n\n<p><strong>About the instructor:&nbsp\;</strong>Jamie Cocco is the founder of Empowered Social Media. He is a self proclaimed social media nerd that has spent the last 7 years of his life dedicated to understanding\, optimizing\, and teaching others how to use social media effectively. Jamie has presented to hundreds of professionals on social media and marketing strategy\, has spent thousands of hours honing his skills\, and has spent over $100\,000 on social media ads figuring out what works and doesn&rsquo\;t work. He has worked with over 100 local businesses from restaurants\, health and fitness centers\, racing event companies\, real estate agents\, and photographers to non-profits and local chambers of commerce. Jamie is passionate about social media\, helping others\, and the community.&nbsp\;</p>\n
LOCATION:Zoom Webinar
UID:e.2083.13102
SEQUENCE:3
DTSTAMP:20260422T091449Z
URL:https://business.cmschamber.org/events/details/clubhouse-the-hottest-new-social-media-app-13102
END:VEVENT

END:VCALENDAR
