BEGIN:VCALENDAR
VERSION:2.0
PRODID:-//ChamberMaster//Event Calendar 2.0//EN
METHOD:PUBLISH
X-PUBLISHED-TTL:P3D
REFRESH-INTERVAL:P3D
CALSCALE:GREGORIAN
BEGIN:VEVENT
DTSTART:20230418T160000Z
DTEND:20230418T170000Z
X-MICROSOFT-CDO-ALLDAYEVENT:FALSE
SUMMARY:CMS - Brown Bag Seminar: A Journey Into Herbalism
DESCRIPTION:Brown Bag Seminar: A Journey Into Herbalism\n\nPresented by Salli Greene: Owner\, Alternatives for Health Herbal Apothecary\n\nTuesday\, April 18\, Noon-1:00pm\n\nCMS Chamber Conference Room\, 46 Hall Road\, Sturbridge\n\n \n\nSalli Greene wanted an herb shop since 1977. She got it 13 years ago. Trained in the use of medicinal herbs\, and having studied further in Belize\, Salli's journey learning about herbs has been life changing.\n\n \n\nLearn about using herbs and oils for long term health benefits and the steps you can take to put your health in your own hands at April's Brown Bag Seminar!\n\n \n\nFREE for CMS Chamber Members\, $15 for non-Members. \n\nSpace is Limited! Please RSVP. \n\nCall 508-347-2761 or email info@cmschamber.org to save your spot!\n\n \n\nAbout the Presenter: Salli Greene\n\nSalli Greene began her herbal career with a cart in Quincy Marketplace in Boston in 1977 where she sold live plants and homemade products. The herbs were mostly culinary\, but her herb source introduced her to those wonderful\, scented geraniums and they were quickly added. Herbs were always part of her garden plans. Living in the Boston area her friends always wondered why there were green things in their iced tea. But when they tasted the different mints\, they were thrilled.\n\n \n\nFast forward to 2001 when she moved back Sturbridge (she had been raised here). The home she and her husband purchased had a large yard\, so she really went to town with her vegetable\, flower and herb gardens. In 2004 she took a 10 month herbal class that introduced her to the world of medicinal herbs. It was a life changing experience. Nothing is more wonderful than making products for your family's health. From there she studied in Belize with Rosita Arvega and with Rosemary Gladstar. She now teaches Rosemary's 10 month Herbal Apprenticeship.\n\n \n\nIn 2010\, Salli opened Alternatives For Health Herbal Apothecary. It was initially in Brimfield but when a storefront in Sturbridge became available\, Salli jumped on it. Her shop is located at 426 Main St. She carries dried bulk herbs\, teas and bath products\, herbal products and blends for health\, essential oils\, flower essences\, homeopathy\, supplies gifts and much more. She feels with this shop\, her love of herbs has really come full circle. She enjoys being there and meeting with customers. She also does mail order of her products. If you don't see something on the website\, call the shop. She may just have it!!\n\n \n\nThe goal at Alternatives For Health Herbal Apothecary is to provide quality products and services to help you get and stay healthy. Salli's greatest joy is to educate the consumer and have them make their own health products. There is an area dedicated to supplies\, and recipes are available. There is also a library area where you can sit and do research. The products carried have been carefully chosen to be of the highest quality.\n\n \n\nVisit the shop online at Alternatives-4Health.com.
X-ALT-DESC;FMTTYPE=text/html:<strong>Brown Bag Seminar: A Journey Into Herbalism</strong><br />\n<strong>Presented by Salli Greene: Owner\, Alternatives for Health Herbal Apothecary</strong><br />\n<strong>Tuesday\, April 18\, Noon-1:00pm</strong><br />\nCMS Chamber Conference Room\, 46 Hall Road\, Sturbridge<br />\n&nbsp\;<br />\nSalli Greene wanted an herb shop since 1977. She got it 13 years ago. Trained in the use of medicinal herbs\, and having studied further in Belize\, Salli&#39\;s journey learning about herbs has been life changing.<br />\n&nbsp\;<br />\nLearn about using herbs and oils for long term health benefits and the steps you can take to put your health in your own hands at April&#39\;s Brown Bag Seminar!<br />\n&nbsp\;<br />\n<strong>FREE for CMS Chamber Members\, $15 for non-Members. </strong><br />\n<strong>Space is Limited! Please RSVP. </strong><br />\n<strong>Call 508-347-2761 or email <a href="mailto:info@cmschamber.org?subject=Brown%20Bag%20Seminar%3A%20Herbalism">info@cmschamber.org</a> to save your spot!</strong><br />\n&nbsp\;<br />\n<strong>About the Presenter: Salli Greene</strong><br />\nSalli Greene began her herbal career with a cart in Quincy Marketplace in Boston in 1977 where she sold live plants and homemade products. The herbs were mostly culinary\, but her herb source introduced her to those wonderful\, scented geraniums and they were quickly added. Herbs were always part of her garden plans. Living in the Boston area her friends always wondered why there were green things in their iced tea. But when they tasted the different mints\, they were thrilled.<br />\n&nbsp\;<br />\nFast forward to 2001 when she moved back Sturbridge (she had been raised here). The home she and her husband purchased had a large yard\, so she really went to town with her vegetable\, flower and herb gardens. In 2004 she took a 10 month herbal class that introduced her to the world of medicinal herbs. It was a life changing experience. Nothing is more wonderful than making products for your family&rsquo\;s health. From there she studied in Belize with Rosita Arvega and with Rosemary Gladstar. She now teaches Rosemary&#39\;s 10 month Herbal Apprenticeship.<br />\n&nbsp\;<br />\nIn 2010\, Salli opened Alternatives For Health Herbal Apothecary. It was initially in Brimfield but when a storefront in Sturbridge became available\, Salli jumped on it. Her shop is located at 426 Main St. She carries dried bulk herbs\, teas and bath products\, herbal products and blends for health\, essential oils\, flower essences\, homeopathy\, supplies gifts and much more. She feels with this shop\, her love of herbs has really come full circle. She enjoys being there and meeting with customers. She also does mail order of her products. If you don&rsquo\;t see something on the website\, call the shop. She may just have it!!<br />\n&nbsp\;<br />\nThe goal at Alternatives For Health Herbal Apothecary is to provide quality products and services to help you get and stay healthy. Salli&rsquo\;s greatest joy is to educate the consumer and have them make their own health products. There is an area dedicated to supplies\, and recipes are available. There is also a library area where you can sit and do research. The products carried have been carefully chosen to be of the highest quality.<br />\n&nbsp\;<br />\n<strong>Visit the shop online at <a href="https://alternatives-4health.com/">Alternatives-4Health.com</a>.</strong><br />\n&nbsp\;
LOCATION:Chamber Conference Room\, 46 Hall Road\, Sturbridge
UID:e.2083.15505
SEQUENCE:3
DTSTAMP:20260421T042349Z
URL:https://business.cmschamber.org/events/details/cms-brown-bag-seminar-a-journey-into-herbalism-15505
END:VEVENT

END:VCALENDAR
