BEGIN:VCALENDAR
VERSION:2.0
PRODID:-//ChamberMaster//Event Calendar 2.0//EN
METHOD:PUBLISH
X-PUBLISHED-TTL:P3D
REFRESH-INTERVAL:P3D
CALSCALE:GREGORIAN
BEGIN:VEVENT
DTSTART:20221015T140000Z
DTEND:20221016T200000Z
X-MICROSOFT-CDO-ALLDAYEVENT:FALSE
SUMMARY:CMS CHAMBER - 32nd Annual Harvest Festival
DESCRIPTION:The 32nd Annual Harvest Festival on the Sturbridge Town Common is a family fun tradition. The event includes countless local crafters\, artisans\, specialty food vendors and farm fresh harvests.\n\n\n\nFestival hours are 10am to 5pm on Saturday and 11am to 4pm on Sunday. Rain or Shine.\n\n\n\nPresented by the Chamber of Central Mass South.\n\nSponsored by Sturbridge Tourist Association.\n\n\n\nCRAFTERS! LIVE MUSIC & ENTERTAINMENT! SPECIALTY FOOD TRUCKS!\n\n\n\nENTERTAINMENT SCHEDULE\n\n\n\nSat. Oct 15\n\n10:00   12:45     Still Pickin'\n\n1:15   2:00         Magician Pete Haddad\n\n                                Two hours roving magic\n\n2:30   5:00          Railroad House\n\n\n\nSun Oct 16\n\n11:30   12:15     Magician Pete Haddad\n\n                                Two hours roving magic\n\n1:00   3:45          Jared Adams & The Casters\n\n \nFOOD TRUCKS LINEUP\n\nUNCLE E's BBQ EXPRESS\n\nOFF THE HOOK ROADSIDE EATERY\n\nJ.B.'S MOBILE CAFE
X-ALT-DESC;FMTTYPE=text/html:The 32nd Annual Harvest Festival on the Sturbridge Town Common is a family fun tradition. The event includes countless local crafters\, artisans\, specialty food vendors and farm fresh harvests.<br />\n<br />\nFestival hours are 10am to 5pm on Saturday and 11am to 4pm on Sunday. Rain or Shine.<br />\n<br />\nPresented by the Chamber of Central Mass South.<br />\nSponsored by Sturbridge Tourist Association.<br />\n<br />\n<strong>CRAFTERS! LIVE MUSIC &amp\; ENTERTAINMENT! SPECIALTY FOOD TRUCKS!<br />\n<br />\n<u>ENTERTAINMENT SCHEDULE</u></strong><br />\n<br />\n<strong>Sat. Oct 15</strong><br />\n10:00 &ndash\; 12:45&nbsp\;&nbsp\;&nbsp\;&nbsp\; Still Pickin&rsquo\;<br />\n1:15 &ndash\; 2:00&nbsp\;&nbsp\;&nbsp\;&nbsp\;&nbsp\;&nbsp\;&nbsp\;&nbsp\; Magician Pete Haddad<br />\n&nbsp\;&nbsp\;&nbsp\;&nbsp\;&nbsp\;&nbsp\;&nbsp\;&nbsp\;&nbsp\;&nbsp\;&nbsp\;&nbsp\;&nbsp\;&nbsp\;&nbsp\;&nbsp\;&nbsp\;&nbsp\;&nbsp\;&nbsp\;&nbsp\;&nbsp\;&nbsp\;&nbsp\;&nbsp\;&nbsp\;&nbsp\;&nbsp\;&nbsp\;&nbsp\;&nbsp\; Two hours roving magic<br />\n2:30 &ndash\; 5:00&nbsp\;&nbsp\;&nbsp\;&nbsp\;&nbsp\;&nbsp\;&nbsp\;&nbsp\;&nbsp\; Railroad House<br />\n<br />\n<strong>Sun Oct 16</strong><br />\n11:30 &ndash\; 12:15&nbsp\;&nbsp\;&nbsp\;&nbsp\; Magician Pete Haddad<br />\n&nbsp\;&nbsp\;&nbsp\;&nbsp\;&nbsp\;&nbsp\;&nbsp\;&nbsp\;&nbsp\;&nbsp\;&nbsp\;&nbsp\;&nbsp\;&nbsp\;&nbsp\;&nbsp\;&nbsp\;&nbsp\;&nbsp\;&nbsp\;&nbsp\;&nbsp\;&nbsp\;&nbsp\;&nbsp\;&nbsp\;&nbsp\;&nbsp\;&nbsp\;&nbsp\;&nbsp\; Two hours roving magic<br />\n1:00 &ndash\; 3:45&nbsp\;&nbsp\;&nbsp\;&nbsp\;&nbsp\;&nbsp\;&nbsp\;&nbsp\;&nbsp\; Jared Adams &amp\; The Casters<br />\n&nbsp\;\n<p><u><strong>FOOD TRUCKS LINEUP</strong></u></p>\n\n<p>UNCLE E&#39\;s BBQ EXPRESS<br />\nOFF THE HOOK ROADSIDE EATERY<br />\nJ.B.&#39\;S MOBILE CAFE</p>\n
LOCATION:Sturbridge Town Common 277 Main Street\, (Route 131) Sturbridge\, MA
UID:e.2083.14707
SEQUENCE:3
DTSTAMP:20260421T141934Z
URL:https://business.cmschamber.org/events/details/cms-chamber-32nd-annual-harvest-festival-14707
END:VEVENT

END:VCALENDAR
