BEGIN:VCALENDAR
VERSION:2.0
PRODID:-//ChamberMaster//Event Calendar 2.0//EN
METHOD:PUBLISH
X-PUBLISHED-TTL:P3D
REFRESH-INTERVAL:P3D
CALSCALE:GREGORIAN
BEGIN:VEVENT
DTSTART:20220412T160000Z
DTEND:20220412T180000Z
X-MICROSOFT-CDO-ALLDAYEVENT:FALSE
SUMMARY:CMS Chamber Annual Meeting 2022
DESCRIPTION:CHAMBER OF CENTRAL MASS SOUTH\n\nANNUAL MEETING\n\nAPRIL 12\, 2022\, 12:00pm to 2:00pm\n\nSOUTHBRIDGE HOTEL & CONFERENCE CENTER\n\n\n\nYou are cordially invited to attend as The Chamber of Central Mass South holds its Annual Meeting on Tuesday\, April 12\, 2022 from Noon to 2:00pm in the Crystal Ballroom at Southbridge Hotel & Conference Center\, 14 Mechanics Street\, Southbridge.\n\n \n\nThe Chamber is very pleased to welcome Massachusetts Attorney General Maura Healey as our guest speaker. Attendees will receive an overview of the last two years and upcoming highlights from CMS Chamber Executive Director Alexandra McNitt\, hear remarks from Board of Directors Chair Erika Travinski\, and enjoy a three course plated lunch. There will also be an opportunity for questions and answers with the Attorney General.\n\n \n\nSPEAKER BIO:\n\nMA ATTORNEY GENERAL MAURA HEALEY\n\nMaura Healey began serving as Massachusetts Attorney General in January 2015 and is leading the people's law firm as the people's lawyer\, continuing a career spent fighting for justice and equal rights.\n\n \n\nAfter Maura's historic victory in her first-ever run for office\, she has spent her time in office working on the issues that matter to the people of the Commonwealth   from health care and energy costs to protecting consumers\, ensuring equality for all and keeping our communities safer. \n\n \n\nFor seven years prior to her election\, Maura helped lead the Attorney General's Office\, ultimately overseeing more than half of the office's 500 employees. Earlier in her career\, Maura was a prosecutor in Middlesex County and a litigation partner at WilmerHale. After college\, she also spent two years as a 5'4" starting point guard on a professional basketball team in Europe.\n\n \n\nREAD the Attorney General's full bio here.\n\n \n\nAgenda\n\nNoon Registration & Mingling\n\n12:30 Welcome & Opening Remarks: Alexandra McNitt Executive Director\n\n1:00 Welcome from Erika Travinski\, Chair of the Board\, Board members recognition\, introduces Attorney General Maura Healey\n\n1:20 Questions & Answers with Attorney General Maura Healey\n\n1:45 Closing Remarks from Erika Travinski\, Meeting Adjourns & Mingling\n\n \n\nThe Menu: Three Course Plated Lunch\n\nMixed Field Greens\, Raspberries\, Candied Walnuts\, Caprino Cheese Croutons with a Citrus Poppy Seed Dressing\n\nApricot and Brie Stuffed Chicken\n\nVegetarian Option   Spaghetti Squash with a Vegetable Ragu\n\nSpring Vegetable Medley\n\nRed Roasted Potatoes\n\nTriple Chocolate Cake\n\n \n\nThe cost to attend is $45 per person for Chamber Members ($420 for a table of 10)\n\nor $50 per person for non-Members.\n\n \n\nThank you to our Annual Meeting sponsor: Center of Hope Foundation: Proudly empowering people with disabilities to live meaningful\, productive lives as contributing members of their communities since 1956.\n\n \n\nPlease RSVP by phone or email by April 6. \n\nPlease note if you prefer the Vegetarian meal option when you reserve.\n\n \n\nChamber of Central Mass South\n\n508-347-2761\n\nemail: info@cmschamber.org
X-ALT-DESC;FMTTYPE=text/html:<strong>CHAMBER OF CENTRAL MASS SOUTH<br />\nANNUAL MEETING</strong><br />\nAPRIL 12\, 2022\, 12:00pm to 2:00pm<br />\nSOUTHBRIDGE HOTEL &amp\; CONFERENCE CENTER<br />\n<br />\nYou are cordially invited to attend as The Chamber of Central Mass South holds its Annual Meeting on Tuesday\, April 12\, 2022 from Noon to 2:00pm in the Crystal Ballroom at Southbridge Hotel &amp\; Conference Center\, 14 Mechanics Street\, Southbridge.<br />\n&nbsp\;<br />\nThe Chamber is very pleased to welcome Massachusetts Attorney General Maura Healey as our guest speaker. Attendees will receive an overview of the last two years and upcoming highlights from CMS Chamber Executive Director Alexandra McNitt\, hear remarks from Board of Directors Chair Erika Travinski\, and enjoy a three course plated lunch. There will also be an opportunity for questions and answers with the Attorney General.<br />\n&nbsp\;<br />\n<strong>SPEAKER BIO:</strong><br />\n<strong>MA ATTORNEY GENERAL MAURA HEALEY</strong><br />\nMaura Healey began serving as Massachusetts Attorney General in January 2015 and is leading the people&rsquo\;s law firm as the people&rsquo\;s lawyer\, continuing a career spent fighting for justice and equal rights.<br />\n&nbsp\;<br />\nAfter Maura&rsquo\;s historic victory in her first-ever run for office\, she has spent her time in office working on the issues that matter to the people of the Commonwealth &ndash\; from health care and energy costs to protecting consumers\, ensuring equality for all and keeping our communities safer.&nbsp\;<br />\n&nbsp\;<br />\nFor seven years prior to her election\, Maura helped lead the Attorney General&rsquo\;s Office\, ultimately overseeing more than half of the office&rsquo\;s 500 employees. Earlier in her career\, Maura was a prosecutor in Middlesex County and a litigation partner at WilmerHale. After college\, she also spent two years as a 5&rsquo\;4&rdquo\; starting point guard on a professional basketball team in Europe.<br />\n&nbsp\;<br />\n<a href="https://www.mass.gov/person/maura-healey-attorney-general">READ the Attorney General&#39\;s full bio here</a>.<br />\n&nbsp\;<br />\n<strong>Agenda</strong><br />\nNoon Registration &amp\; Mingling<br />\n12:30 Welcome &amp\; Opening Remarks: Alexandra McNitt Executive Director<br />\n1:00 Welcome from Erika Travinski\, Chair of the Board\, Board members recognition\, introduces Attorney General Maura Healey<br />\n1:20 Questions &amp\; Answers with Attorney General Maura Healey<br />\n1:45 Closing Remarks from Erika Travinski\, Meeting Adjourns &amp\; Mingling<br />\n&nbsp\;<br />\n<strong>The Menu: Three Course Plated Lunch</strong><br />\nMixed Field Greens\, Raspberries\, Candied Walnuts\, Caprino Cheese Croutons with a Citrus Poppy Seed Dressing<br />\nApricot and Brie Stuffed Chicken<br />\nVegetarian Option &ndash\; Spaghetti Squash with a Vegetable Ragu<br />\nSpring Vegetable Medley<br />\nRed Roasted Potatoes<br />\nTriple Chocolate Cake<br />\n&nbsp\;<br />\nThe cost to attend is $45 per person for Chamber Members ($420 for a table of 10)<br />\nor $50 per person for non-Members.<br />\n&nbsp\;<br />\n<strong>Thank you to our Annual Meeting sponsor: Center of Hope Foundation</strong>: Proudly empowering people with disabilities to live meaningful\, productive lives as contributing members of their communities since 1956.<br />\n&nbsp\;<br />\n<strong>Please RSVP by phone or email by April 6. </strong><br />\nPlease note if you prefer the Vegetarian meal option when you reserve.<br />\n&nbsp\;<br />\nChamber of Central Mass South<br />\n508-347-2761<br />\nemail: info@cmschamber.org
LOCATION:Southbridge Hotel and Conference Center - Crystal Ballroom 14 Mechanics Street\, Southbridge\, MA
UID:e.2083.13855
SEQUENCE:3
DTSTAMP:20260422T004346Z
URL:https://business.cmschamber.org/events/details/cms-chamber-annual-meeting-2022-13855
END:VEVENT

END:VCALENDAR
