BEGIN:VCALENDAR
VERSION:2.0
PRODID:-//ChamberMaster//Event Calendar 2.0//EN
METHOD:PUBLISH
X-PUBLISHED-TTL:P3D
REFRESH-INTERVAL:P3D
CALSCALE:GREGORIAN
BEGIN:VEVENT
DTSTART:20220222T220000Z
DTEND:20220223T000000Z
X-MICROSOFT-CDO-ALLDAYEVENT:FALSE
SUMMARY:CMS CHAMBER - Fun at Five
DESCRIPTION:Network with CMS Chamber at Sturbridge Porterhouse!\n\nSturbridge Porterhouse offers classic world cuisine using contemporary techniques and fresh ingredients in a casual environment. Chef Ken\, Chef Riley and their staff are passionate about providing great food within an amazing atmosphere for their guests. The menu features mouthwatering steaks\, chops and much more. You will also find an excellent selection of wines and an ever-changing cocktail menu that caters to fresh ingredients. They have 25 rotating beer taps and a full selection of canned craft beers. The restaurant also boasts an upstairs lounge area for a more intimate dining experience and can also be booked for private events!\n\nCome enjoy some delicious hors d'oeuvres & cocktails\, while you mingle and make connections in a relaxed\, casual setting at Fun at Five. You could even win some valuable prizes just for attending. Sturbridge Porterhouse is located at 407 Main Street (Route 20) in Sturbridge. Reach the restaurant by phone at 508-347-2700 and be sure to follow them on Facebook for updates and weekly specials!\nSturbridge Porterhouse is the brainchild of Chef Ken Yukimura\, who also operates Sturbridge Seafood. Chef Ken grew up in Somers\, CT\, graduated from Johnson & Wales culinary school in Providence\, Rhode Island and has worked in kitchens across New England. Chef Ken is best known for his work as executive chef of Fusion Cafe in East Longmeadow\, and Emperor of Hartford. Much of Chef Ken's culinary style has been influenced by Asian Fusion. Sturbridge Porterhouse is open Sunday-Thursday noon- 8pm\, Friday and Saturday noon to 9pm and closed on Wednesdays.
X-ALT-DESC;FMTTYPE=text/html:<p><strong>Network with CMS Chamber at Sturbridge Porterhouse!</strong><br />\nSturbridge Porterhouse offers classic world cuisine using contemporary techniques and fresh ingredients in a casual environment. Chef Ken\, Chef Riley and their staff are passionate about providing great food within an amazing atmosphere for their guests. The menu features mouthwatering steaks\, chops and much more. You will also find an excellent selection of wines and an ever-changing cocktail menu that caters to fresh ingredients. They have 25 rotating beer taps and a full selection of canned craft beers. The restaurant also boasts an upstairs lounge area for a more intimate dining experience and can also be booked for private events!</p>\n\n<p>Come enjoy some delicious hors d&rsquo\;oeuvres &amp\; cocktails\, while you mingle and make connections in a relaxed\, casual setting at Fun at Five. You could even win some valuable prizes just for attending. Sturbridge Porterhouse is located at 407 Main Street (Route 20) in Sturbridge. Reach the restaurant by phone at 508-347-2700 and be sure to follow them on Facebook for updates and weekly specials!</p>\nSturbridge Porterhouse is the brainchild of Chef Ken Yukimura\, who also operates Sturbridge Seafood. Chef Ken grew up in Somers\, CT\, graduated from Johnson &amp\; Wales culinary school in Providence\, Rhode Island and has worked in kitchens across New England. Chef Ken is best known for his work as executive chef of Fusion Cafe in East Longmeadow\, and Emperor of Hartford. Much of Chef Ken&rsquo\;s culinary style has been influenced by Asian Fusion. Sturbridge Porterhouse is open Sunday-Thursday noon- 8pm\, Friday and Saturday noon to 9pm and closed on Wednesdays.
LOCATION:STURBRIDGE PORTERHOUSE 407 Main Street (Route 20)\, Sturbridge MA 01566
UID:e.2083.13793
SEQUENCE:3
DTSTAMP:20260422T022129Z
URL:https://business.cmschamber.org/events/details/cms-chamber-fun-at-five-02-22-2022-13793
END:VEVENT

END:VCALENDAR
