BEGIN:VCALENDAR
VERSION:2.0
PRODID:-//ChamberMaster//Event Calendar 2.0//EN
METHOD:PUBLISH
X-PUBLISHED-TTL:P3D
REFRESH-INTERVAL:P3D
CALSCALE:GREGORIAN
BEGIN:VEVENT
DTSTART:20210914T210000Z
DTEND:20210914T230000Z
X-MICROSOFT-CDO-ALLDAYEVENT:FALSE
SUMMARY:CMS Chamber - Fun at Five
DESCRIPTION:Fun at Five!\n\nTuesday\, September 14\, 2021\n\nThe Winthrop Room\n\nat The Collection at Wight Farm\n\n420 Main Street\, Sturbridge\, 774-241-8450\n\nwww.thebarnatwightfarm.com\n\nExperience the NEW function room at The Collection at Wight Farm! The Winthrop Room\n\n(Newly opened in June 2021)\n\nThe Winthrop Room is our newest reception space on the grounds of The Collection at Wight Farm. Adjacent to The Barn\, The Winthrop Room is a beautiful post and beam building finished with a farmhouse feel in soft whites and sandalwood tones.\n\nGuests can expect the same highly acclaimed cuisine and hospitality The Barn at Wight Farm is known for. The Winthrop Room will be perfect for weddings and events of all types with a capacity of up to 125. A spacious and comfortable bridal suite will be available to couples who book this space.\n\n\n\nJoin us for networking and fun!\n\n\n\nRegister for Fun at Five by email or phone.\n\ninfo@cmschamber.org or 508-347-2761\n\nCost is $12 for Members who pre-register\,\n\n$15 at the door\, or $20 for non-Members.\n\nWe hope to see you there!\n\nThank you to our September Fun at Five Sponsor!\n\nUMass Memorial - Harrington Hospital\n\nThe mission of UMass Memorial - Harrington Hospital is to deliver optimal healthcare to the residents and communities of South Central Massachusetts and Northeastern Connecticut. We are committed to providing personalized\, compassionate care and advanced technology.\n\nOur vision is to continue a long tradition of caring and expand our comprehensive inpatient and outpatient services along with community outreach programs.\n\nLearn more at HarringtonHospital.org
X-ALT-DESC;FMTTYPE=text/html:<p><strong>Fun at Five!</strong><br />\n<strong>Tuesday\, September 14\, 2021</strong></p>\n\n<p><strong>The Winthrop Room</strong><br />\n<strong>at The Collection at Wight Farm</strong><br />\n420 Main Street\, Sturbridge\, 774-241-8450<br />\n<a href="https://thebarnatwightfarm.com/" rel="noopener" target="_blank">www.thebarnatwightfarm.com</a></p>\n\n<p><strong>Experience the NEW function room at The Collection at Wight Farm!&nbsp\;</strong><strong>The Winthrop Room</strong><br />\n(Newly opened in June 2021)<br />\nThe Winthrop Room is our newest reception space on the grounds of The Collection at Wight Farm. Adjacent to The Barn\, The Winthrop Room is a beautiful post and beam building finished with a farmhouse feel in soft whites and sandalwood tones.</p>\n\n<p>Guests can expect the same highly acclaimed cuisine and hospitality The Barn at Wight Farm is known for. The Winthrop Room will be perfect for weddings and events of all types with a capacity of up to 125. A spacious and comfortable bridal suite will be available to couples who book this space.<br />\n<br />\n<em>Join us for networking and fun!</em><br />\n<br />\n<strong>Register for Fun at Five by email or phone.</strong><br />\n<strong>info@cmschamber.org or 508-347-2761</strong><br />\nCost is $12 for Members who pre-register\,<br />\n$15 at the door\, or $20 for non-Members.<br />\n<em>We hope to see you there!</em></p>\n\n<p><strong>Thank you to our September Fun at Five Sponsor!</strong></p>\n\n<p><strong>UMass Memorial - Harrington Hospital</strong></p>\n\n<p>The mission of UMass Memorial - Harrington Hospital is to deliver optimal healthcare to the residents and communities of South Central Massachusetts and Northeastern Connecticut. We are committed to providing personalized\, compassionate care and advanced technology.</p>\n\n<p>Our vision is to continue a long tradition of caring and expand our comprehensive inpatient and outpatient services along with community outreach programs.</p>\n\n<p>Learn more at <a href="https://www.harringtonhospital.org/" rel="noopener" target="_blank">HarringtonHospital.org</a></p>\n
LOCATION:The Winthrop Room at The Collection at Wight Farm 420 Main Street\, Sturbridge\, 774-241-8450 www.thebarnatwightfarm.com
UID:e.2083.13021
SEQUENCE:3
DTSTAMP:20260422T085828Z
URL:https://business.cmschamber.org/events/details/cms-chamber-fun-at-five-13021
END:VEVENT

END:VCALENDAR
