BEGIN:VCALENDAR
VERSION:2.0
PRODID:-//ChamberMaster//Event Calendar 2.0//EN
METHOD:PUBLISH
X-PUBLISHED-TTL:P3D
REFRESH-INTERVAL:P3D
CALSCALE:GREGORIAN
BEGIN:VEVENT
DTSTART:20210805T120000Z
DTEND:20210805T200000Z
X-MICROSOFT-CDO-ALLDAYEVENT:FALSE
SUMMARY:CMS Chamber - GOLF CLASSIC 2021
DESCRIPTION:2021 GOLF CLASSIC! It's back!!\n\nJoin us for a fun-filled day of golf and camaraderie on the course at Heritage Country Club\, Charlton at our annual Golf Classic.\n\n\n\nAll to help benefit the CMS Chamber Charities and Scholarship Fund.\n\n\n\nSCHEDULE OF EVENTS\n\n8:00 am    Registration\n\n9:00 am    Shot Gun Start\n\n2:30 pm    Dinner Reception\n\n\n\nYOUR DAY INCLUDES:\n\n Continental breakfast\n\n Greens and cart fees\n\n   Heritage Country Club in Charlton\, MA\n\n Cookout lunch on the course\n\n Spectacular raffle prizes!\n\n Contests\n\n Refreshments on the course\n\n Reception and dinner after play\n\n\n\nSCRAMBLE FORMAT:\n\nAll players hit from the best lie\n\nSponsored by Cornerstone Bank.\n\nLunch Sponsored by\; Karl Storz\n\nVisit the GOLF CLASSIC webpage on the CMS Chamber website for more details and to download the brochure and registration form.
X-ALT-DESC;FMTTYPE=text/html:<p><strong><span style="font-size:12pt">2021 GOLF CLASSIC! It&#39\;s back!!</span></strong></p>\n\n<p>Join us for a fun-filled day of golf and camaraderie on the course at Heritage Country Club\, Charlton at our annual Golf Classic.<br />\n<br />\nAll to help benefit the CMS Chamber Charities and Scholarship Fund.<br />\n<br />\nSCHEDULE OF EVENTS<br />\n8:00 am&nbsp\;&nbsp\;&nbsp\; Registration<br />\n9:00 am&nbsp\;&nbsp\;&nbsp\; Shot Gun Start<br />\n2:30 pm&nbsp\;&nbsp\;&nbsp\; Dinner Reception<br />\n<br />\nYOUR DAY INCLUDES:<br />\n&bull\;Continental breakfast<br />\n&bull\;Greens and cart fees<br />\n&nbsp\;&nbsp\; Heritage Country Club in Charlton\, MA<br />\n&bull\;Cookout lunch on the course<br />\n&bull\;Spectacular raffle prizes!<br />\n&bull\;Contests<br />\n&bull\;Refreshments on the course<br />\n&bull\;Reception and dinner after play<br />\n<br />\nSCRAMBLE FORMAT:<br />\nAll players hit from the best lie</p>\n\n<p>Sponsored by <a href="https://cornerstonebank.com/" rel="noopener" target="_blank">Cornerstone Bank</a>.<br />\nLunch Sponsored by\; <a href="https://www.karlstorz.com">Karl Storz</a></p>\n\n<p><strong>Visit the <a href="http://cmschamber.ning.com/page/golf-classic-2" rel="noopener" target="_blank">GOLF CLASSIC webpage</a> on the CMS Chamber website for more details and to download the brochure and registration form.</strong></p>\n
LOCATION:Heritage Country Club\, Charlton\, MA
UID:e.2083.13022
SEQUENCE:3
DTSTAMP:20260422T114936Z
URL:https://business.cmschamber.org/events/details/cms-chamber-golf-classic-2021-13022
END:VEVENT

END:VCALENDAR
