BEGIN:VCALENDAR
VERSION:2.0
PRODID:-//ChamberMaster//Event Calendar 2.0//EN
METHOD:PUBLISH
X-PUBLISHED-TTL:P3D
REFRESH-INTERVAL:P3D
CALSCALE:GREGORIAN
BEGIN:VEVENT
DTSTART:20230728T224500Z
DTEND:20230729T010000Z
X-MICROSOFT-CDO-ALLDAYEVENT:FALSE
SUMMARY:CMS Chamber Night with the Woo Sox
DESCRIPTION:On Friday July 28\, 2023\, come join members of CMS Chamber of Commerce at Polar Park to watch the WooSox take on the Rochester Red Wings!\n\nFor $50\, you get access to the private party space on Right Field called JetBlue Hangar for the entire game as well as an all-you-can-eat buffet for 2 hours!\n\nBuffet includes burgers\, hot dogs\, mac & cheese\, potato salad\, water\, lemonade\, & more!\n\nPortion of tickets would also go back to the organization for good cause.\n\nDon't forget to join the party early for the National Anthem by your fellow member Rita Schiano and stick around after the final out for Fireworks presented by UniBank!\n\nSeat numbers do not matter.\n\nPurchase your tickets online at this link: https://fevogm.com/event/cmschamber\n\n$50 per person + $4 fee.\n\nFor parking pass\, please visit: www.woosox.com/parking for more information.\n\nPlease contact Alexandra McNitt\, alexandra_mcnitt@cmschamber.org with general questions.\n\nTHANK YOU TO OUR EVENT CO-SPONSORS:\n\nMICHAEL L. WALES PAINTING & PAW PLAZA
X-ALT-DESC;FMTTYPE=text/html:<p><span style="font-family:markot\,helvetica\,arial">On Friday July 28\, 2023\, come join members of CMS Chamber of Commerce at Polar Park to watch the WooSox take on the Rochester Red Wings!</span></p>\n\n<p>For $50\, you get access to the private party space on Right Field called <strong>JetBlue Hangar</strong> for the entire game as well as an <strong>all-you-can-eat buffet for 2 hours!</strong></p>\n\n<p>Buffet includes burgers\, hot dogs\, mac &amp\; cheese\, potato salad\, water\, lemonade\, &amp\; more!</p>\n\n<p>Portion of tickets would also go back to the organization for good cause.</p>\n\n<p>Don&rsquo\;t forget to join the party early for the <strong>National Anthem</strong> by your fellow member <strong>Rita Schiano</strong> and stick around after the final out for <strong>Fireworks</strong> presented by UniBank!</p>\n\n<p>Seat numbers do not matter.</p>\n\n<p><strong>Purchase your tickets online at this link:&nbsp\;</strong><a href="https://fevogm.com/event/cmschamber" rel="noopener noreferrer" style="user-select: auto\;" target="_blank"><strong>https://fevogm.com/event/cmschamber</strong></a></p>\n\n<p><strong>$50 per person + $4 fee.</strong></p>\n\n<p>For parking pass\, please visit: <a href="http://www.woosox.com/parking" style="user-select: auto\;">www.woosox.com/parking</a> for more information.</p>\n\n<p><em>Please contact Alexandra McNitt\,&nbsp\;</em><a href="mailto:alexandra_mcnitt@cmschamber.org" style="user-select: auto\;"><em>alexandra_mcnitt@cmschamber.org</em></a><em>&nbsp\;with general questions.</em></p>\n\n<p><span style="font-size:18px"><strong><em><strong>THANK YOU TO OUR EVENT CO-SPONSORS:</strong></em></strong></span></p>\n\n<p><span style="font-size:18px"><a href="http://www.mlwalespainting.com/index.html" rel="noopener noreferrer" style="user-select: auto\;" target="_blank"><strong><em><strong>MICHAEL L. WALES PAINTING</strong></em></strong></a><strong><em><strong>&nbsp\;&amp\;&nbsp\;</strong></em></strong><a href="https://pawplaza.com" rel="noopener noreferrer" style="user-select: auto\;" target="_blank"><strong><em><strong>PAW PLAZA</strong></em></strong></a></span></p>\n
LOCATION:Polar Park\, 100 Madison Street\, Worcester\, MA
UID:e.2083.15931
SEQUENCE:3
DTSTAMP:20260420T224741Z
URL:https://business.cmschamber.org/events/details/cms-chamber-night-with-the-woo-sox-15931
END:VEVENT

END:VCALENDAR
