BEGIN:VCALENDAR
VERSION:2.0
PRODID:-//ChamberMaster//Event Calendar 2.0//EN
METHOD:PUBLISH
X-PUBLISHED-TTL:P3D
REFRESH-INTERVAL:P3D
CALSCALE:GREGORIAN
BEGIN:VEVENT
DTSTART:20220804T210000Z
DTEND:20220805T000000Z
X-MICROSOFT-CDO-ALLDAYEVENT:FALSE
SUMMARY:CMS Chamber Summer Outing: A Traditional New England Clambake
DESCRIPTION:CMS Chamber Summer Outing\n\nA Traditional New England Clambake\n\nat The Publick House\n\n277 Main Street\, On The Common\, Sturbridge\, MA 01566\n\nAugust 4\, 5:00-8:00pm\n\n\n\nThis is our chance to get together with our Members and friends at a beautiful venue and\n\nenjoy a traditional summer clambake with all the fixin's! Beginning with a cocktail hour with live music\,\n\nthe outing includes a clambake buffet with juicy steaks\, mouthwatering lobsters\,\n\nand more tantalizing tastes of summer!\n\n\n\nTHE MENU\n\nYOUR CHOICE: Lobster\, Steak or Vegetarian Entr e\n\nwith Hors D'oeuvres\, Dinner Rolls\, Seafood Chowder\, Mussels\, Cornbread\, Chef's Potato\,\n\nCorn on the Cob\, Chef's Vegetable\, Salads\, and Peach Cobbler\n\n\n\nAlso featuring our annual raffle benefiting the\n\nChamber's Charities & Scholarships Fund\n\nJust $10 per ticket for\n\n"Your Chance to be a Millionaire!"\n\n$1000 worth of lottery scratch tickets!\n\nThis will be your last chance to buy tickets!\n\nThe winners will be drawn at the Clambake!\n\n\n\nWhy not make this your company outing?\n\nGroups of any size can be accommodated. Just tell us how many are in your party\,\n\nand we'll reserve your table.\n\n\n\nCOST: $65 PER PERSON\n\nRSVP DEADLINE IS JULY 28.\n\nRESERVE NOW BY PHONE 508-347-2761 OR EMAIL INFO@CMSCHAMBER.ORG\n\n*PLEASE INCLUDE YOUR MEAL CHOICE(S) LOBSTER\, STEAK OR VEGGIE ENTREE\n\n\n\nWITH GRATITUDE TO OUR SUMMER CLAMBAKE SPONSOR\n\nHyde Tools\, Inc.\n\nA Hyde Group Company\n\n54 Eastford Road\, Southbridge\, MA\, 01550
X-ALT-DESC;FMTTYPE=text/html:<strong>CMS Chamber Summer Outing<br />\nA Traditional New England Clambake</strong><br />\nat The Publick House<br />\n277 Main Street\, On The Common\, Sturbridge\, MA 01566<br />\n<strong>August 4\, 5:00-8:00pm</strong><br />\n<br />\nThis is our chance to get together with our Members and friends at a beautiful venue and<br />\nenjoy a traditional summer clambake with all the fixin&#39\;s! Beginning with a cocktail hour with live music\,<br />\nthe outing includes a clambake buffet with juicy steaks\, mouthwatering lobsters\,<br />\nand more tantalizing tastes of summer!<br />\n<br />\n<strong>THE MENU</strong><br />\n<strong>YOUR CHOICE: Lobster\, Steak or Vegetarian Entr&eacute\;e</strong><br />\nwith Hors D&rsquo\;oeuvres\, Dinner Rolls\, Seafood Chowder\, Mussels\, Cornbread\, Chef&#39\;s Potato\,<br />\nCorn on the Cob\, Chef&#39\;s Vegetable\, Salads\, and Peach Cobbler<br />\n<br />\nAlso featuring our annual raffle benefiting the<br />\nChamber&#39\;s Charities &amp\; Scholarships Fund<br />\nJust $10 per ticket for<br />\n<strong>&quot\;Your Chance to be a Millionaire!&quot\;</strong><br />\n$1000 worth of lottery scratch tickets!<br />\nThis will be your last chance to buy tickets!<br />\nThe winners will be drawn at the Clambake!<br />\n<br />\n<strong>Why not make this your company outing?</strong><br />\nGroups of any size can be accommodated. Just tell us how many are in your party\,<br />\nand we&#39\;ll reserve your table.<br />\n<br />\nCOST: $65 PER PERSON<br />\n<strong>RSVP DEADLINE IS JULY 28.</strong><br />\nRESERVE NOW BY PHONE 508-347-2761 OR EMAIL INFO@CMSCHAMBER.ORG<br />\n*PLEASE INCLUDE YOUR MEAL CHOICE(S) LOBSTER\, STEAK OR VEGGIE ENTREE<br />\n<br />\nWITH GRATITUDE TO OUR SUMMER CLAMBAKE SPONSOR<br />\n<strong><span style="font-size:18px">Hyde Tools\, Inc.</span></strong><br />\nA Hyde Group Company<br />\n54 Eastford Road\, Southbridge\, MA\, 01550
LOCATION:The Publick House 277 Main Street\, On The Common\, Sturbridge\, MA 01566
UID:e.2083.13996
SEQUENCE:3
DTSTAMP:20260421T184618Z
URL:https://business.cmschamber.org/events/details/cms-chamber-summer-outing-a-traditional-new-england-clambake-13996
END:VEVENT

END:VCALENDAR
