BEGIN:VCALENDAR
VERSION:2.0
PRODID:-//ChamberMaster//Event Calendar 2.0//EN
METHOD:PUBLISH
X-PUBLISHED-TTL:P3D
REFRESH-INTERVAL:P3D
CALSCALE:GREGORIAN
BEGIN:VEVENT
DTSTART:20230422T230000Z
DTEND:20230423T010000Z
X-MICROSOFT-CDO-ALLDAYEVENT:FALSE
SUMMARY:CMS - Comedy & Live Music Show
DESCRIPTION:COMEDY & LIVE MUSIC SHOW\n\nApril 22 from 7:00-9:00pm\n\nThe Performing Arts Center at the Overlook\n\n88 Masonic Home Rd\, Charlton\, MA 01507\n\nSponsored by bankHometown\n\n \n\nFEATURING BOSTON COMEDIANS\n\nHost: Dan Miller\n\nFeature: Caroline Cooke\n\nHeadliner: Tony V.  (Tony Viveiros)\n\n \n\nMUSICAL GUESTS: Gracie Day & Jordyn Doyle\n\n \n\n$30 per person\n\nCash Bar\n\nCall 508-347-2761 or email info@cmschamber.org for tickets!
X-ALT-DESC;FMTTYPE=text/html:<strong><span style="font-size:24.0pt">COMEDY &amp\; LIVE MUSIC SHOW</span></strong><br />\n<strong><span style="font-size:14.0pt">April 22 from 7:00-9:00pm</span></strong><br />\n<span style="font-size:14.0pt">The Performing Arts Center at the Overlook</span><br />\n<span style="font-size:14.0pt">88 Masonic Home Rd\, Charlton\, MA 01507</span><br />\n<strong><span style="font-size:14.0pt">Sponsored by bankHometown</span></strong><br />\n&nbsp\;<br />\n<strong><span style="font-size:14.0pt">FEATURING BOSTON COMEDIANS</span></strong><br />\n<strong><span style="font-size:14.0pt">Host:</span></strong><span style="font-size:14.0pt"> Dan Miller</span><br />\n<strong><span style="font-size:14.0pt">Feature:</span></strong><span style="font-size:14.0pt"> Caroline Cooke</span><br />\n<strong><span style="font-size:14.0pt">Headliner:</span></strong><span style="font-size:14.0pt"> Tony V. &nbsp\;(Tony Viveiros)</span><br />\n&nbsp\;<br />\n<strong><span style="font-size:14.0pt">MUSICAL GUESTS</span></strong><span style="font-size:14.0pt">: Gracie Day &amp\; Jordyn Doyle</span><br />\n&nbsp\;<br />\n<strong><span style="font-size:14.0pt">$30 per person</span></strong><br />\n<span style="font-size:14.0pt">Cash Bar</span><br />\n<strong><span style="font-size:14.0pt">Call 508-347-2761 or email </span></strong><a href="mailto:info@cmschamber.org"><strong><span style="font-size:14.0pt">info@cmschamber.org</span></strong></a><strong><span style="font-size:14.0pt"> for tickets!</span></strong><br />\n&nbsp\;
LOCATION:The Performing Arts Center at the Overlook 88 Masonic Home Rd\, Charlton\, MA 01507
UID:e.2083.15510
SEQUENCE:3
DTSTAMP:20260421T055604Z
URL:https://business.cmschamber.org/events/details/cms-comedy-live-music-show-15510
END:VEVENT

END:VCALENDAR
