BEGIN:VCALENDAR
VERSION:2.0
PRODID:-//ChamberMaster//Event Calendar 2.0//EN
METHOD:PUBLISH
X-PUBLISHED-TTL:P3D
REFRESH-INTERVAL:P3D
CALSCALE:GREGORIAN
BEGIN:VEVENT
DTSTART:20230715T130000Z
DTEND:20230715T180000Z
X-MICROSOFT-CDO-ALLDAYEVENT:FALSE
SUMMARY:CMS - DRIVIN' IT HO(L)ME For Health & Education Car Show
DESCRIPTION:DRIVIN' IT HO(L)ME For Health & Education CAR SHOW\n\nSaturday\, July 15\, 2023\, 9:00 AM - 2:00 PM (Rain Date: July 16)\n\nOakholm Brewing Company\, Brookfield\n\nFeaturing: Classic Cars\, Family Fun\, Music\, Raffles\, Craft Brews\, Food\n\n$15 per car\; Registration begins at 9:00AM.\n\nGeneral Admission is FREE!\n\n\n\nPRESENTED BY\n\nChamber of Central Mass South\, Harrington Hospital Auxiliary\, Oakholm Brewing Company\, UMass Memorial Health   Harrington Hospital\, The Valley's Classic Hits (97.7FM)\n\n \n\nPREMIER SPONSOR\n\nLamoureux Ford\n\n\n\nCLASSIC SPONSORS\n\nOld Sturbridge Village\, ColBro First Aid & Safety Training\, The Valley's Classic Hits (97.7FM)\n\n\n\nFOOD TRUCKS\n\nTraveling Clam Box   food truck\, Holm Cookin   food truck\, Pup's Wood Fired Pizza   food truck\, Suzy Qs Ice Cream Truck\n\n\n\nACTIVITIES\n\nParty Time Face Painting\, Simonz Sayz Entertainment Obstacle Course\n\n\n\nHere are just SOME of the ways we make a difference for health and education working with our community partners:\n\n  Provide scholarships to support students pursuing a career in the health care field\, including Nursing\, Doctor of Medicine\, Technologist\, and Therapist (among others)\n\n  Provide coloring books & crayons for children\n\n  Provide sensory items for the Behavioral Health Unit\n\n  Provide knitted hats for patients receiving treatment in the Cancer Center Unit\n\n  Support the R.E.A.L Program which provides clothing for patients in the ER when their clothing is soiled or damaged\, provides transportation and assists patients during discharge\n\n  Provide financial support to the hospital departments by funding equipment and projects not within their budgets
X-ALT-DESC;FMTTYPE=text/html:<div><strong>DRIVIN&#39\; IT HO(L)ME For Health &amp\; Education CAR SHOW<br />\nSaturday\, July 15\, 2023\, 9:00 AM - 2:00 PM (Rain Date: July 16)<br />\nOakholm Brewing Company\, Brookfield</strong></div>\n\n<div><strong>Featuring: Classic Cars\, Family Fun\, Music\, Raffles\, Craft Brews\, Food</strong></div>\n\n<div>$15 per car\; Registration begins at 9:00AM.<br />\n<strong>General Admission is FREE!</strong></div>\n\n<div><br />\n<strong>PRESENTED BY</strong><br />\nChamber of Central Mass South\, Harrington Hospital Auxiliary\, Oakholm Brewing Company\, UMass Memorial Health &ndash\; Harrington Hospital\, The Valley&rsquo\;s Classic Hits (97.7FM)<br />\n&nbsp\;</div>\n\n<div><strong>PREMIER SPONSOR</strong><br />\nLamoureux Ford</div>\n\n<div><br />\n<strong>CLASSIC SPONSORS</strong><br />\nOld Sturbridge Village\, ColBro First Aid &amp\; Safety Training\, The Valley&rsquo\;s Classic Hits (97.7FM)</div>\n\n<div><br />\n<strong>FOOD TRUCKS</strong><br />\nTraveling Clam Box &ndash\; food truck\, Holm Cookin &ndash\; food truck\, Pup&rsquo\;s Wood Fired Pizza &ndash\; food truck\, Suzy Qs Ice Cream Truck</div>\n\n<div><br />\n<strong>ACTIVITIES</strong><br />\nParty Time Face Painting\, Simonz Sayz Entertainment Obstacle Course</div>\n\n<div><br />\n<strong>Here are just SOME of the ways we make a difference for health and education working with our community partners:</strong></div>\n\n<div>&bull\; Provide scholarships to support students pursuing a career in the health care field\, including Nursing\, Doctor of Medicine\, Technologist\, and Therapist (among others)<br />\n&bull\; Provide coloring books &amp\; crayons for children<br />\n&bull\; Provide sensory items for the Behavioral Health Unit<br />\n&bull\; Provide knitted hats for patients receiving treatment in the Cancer Center Unit<br />\n&bull\; Support the R.E.A.L Program which provides clothing for patients in the ER when their clothing is soiled or damaged\, provides transportation and assists patients during discharge<br />\n&bull\; Provide financial support to the hospital departments by funding equipment and projects not within their budgets</div>\n
LOCATION:Oakholm Brewing Company\, 80 Lake Road\, Brookfield\, MA
UID:e.2083.15948
SEQUENCE:3
DTSTAMP:20260420T225213Z
URL:https://business.cmschamber.org/events/details/cms-drivin-it-ho-l-me-for-health-education-car-show-15948
END:VEVENT

END:VCALENDAR
