BEGIN:VCALENDAR
VERSION:2.0
PRODID:-//ChamberMaster//Event Calendar 2.0//EN
METHOD:PUBLISH
X-PUBLISHED-TTL:P3D
REFRESH-INTERVAL:P3D
CALSCALE:GREGORIAN
BEGIN:VEVENT
DTSTART:20240124T220000Z
DTEND:20240125T000000Z
X-MICROSOFT-CDO-ALLDAYEVENT:FALSE
SUMMARY:CMS - Fun at Five Networking
DESCRIPTION:Fun at Five!\n\nWednesday\, January 24\, 5:00-7:00pm\n\nComfort Inn & Suites Sturbridge\, MA\n\n83 Hall Road\, Sturbridge\, MA\n\nReservations: 508.347.3306\n\nwww.sturbridgecomfortinn.com\n\n\n\nLet's meet up at The Lounge at Comfort Inn for a casual evening of cocktails and networking!\n\nCome and network with your fellow members!\n\nEnjoy cheese and crackers and drinks from the cash bar and catch up on all that is new in the New Year!\n\n\n\nYou could win:\n\nAn Overnight Stay for Two at Comfort Inn & Suites Sturbridge just for attending Fun at Five!\n\n\n\nWill you join us for FUN?\n\nRegister for Fun at Five by email or phone. info@cmschamber.org\n\n508-347-2761\n\n\n\nCost is $12 for Members who register\, $15 at the door\, or $20 for non-Members.\n\n\n\nThank you to our January Fun at Five Sponsor!\n\n\n\nThe Center of Hope Foundation\, Inc.\n\n\n\nFor over 66 years\, The Center of Hope Foundation\, Inc. has served individuals with intellectual and developmental disabilities from 64 towns in South Central MA and Northeastern CT.\n\n\n\nThe mission of the Center of Hope Foundation is to provide people with disabilities and their families from different cultural and ethnic backgrounds with the resources\, services\, and opportunities to be contributing members of their communities and to achieve the most fulfilling and meaningful lives possible. This is achieved through day programs\, employment support\, in-home support\, residential\, and advocacy.\n\n\n\nThe Center of Hope's small businesses are designed as training facilities and work experience opportunities for program members. These businesses offer services directly to the local community and provide additional funding for programs. Every business is staffed by experienced workers who are licensed\, certified\, and/or trained in the business. Core employees ensure a high-quality product or service\, which provides an important set of affordable resources for our community.\n\n\n\nCenter of Hope Foundation\, 100 Foster Street\, Southbridge\, 508-764-4085\n\nwww.thecenterofhope.org
X-ALT-DESC;FMTTYPE=text/html:<strong><span style="font-size:24px">Fun at Five!</span></strong><br />\n<strong>Wednesday\, January 24\, 5:00-7:00pm<br />\nComfort Inn &amp\; Suites Sturbridge\, MA</strong><br />\n83 Hall Road\, Sturbridge\, MA<br />\nReservations: 508.347.3306<br />\n<a href="https://sturbridgecomfortinn.com/" rel="noopener noreferrer" style="user-select: auto\;" target="_blank">www.sturbridgecomfortinn.com</a><br />\n<br />\nLet&#39\;s meet up at The Lounge at Comfort Inn for a casual evening of cocktails and networking!<br />\nCome and network with your fellow members!<br />\nEnjoy cheese and crackers and drinks from the cash bar and catch up on all that is new in the New Year!<br />\n<br />\n<strong>You could win:</strong><br />\nAn Overnight Stay for Two at Comfort Inn &amp\; Suites Sturbridge just for attending Fun at Five!<br />\n<br />\n<strong><em>Will you join us for FUN?</em></strong><br />\nRegister for Fun at Five by email or phone. <a href="mailto:info@cmschamber.org" style="user-select: auto\;">info@cmschamber.org</a><br />\n508-347-2761<br />\n<br />\nCost is $12 for Members who register\, $15 at the door\, or $20 for non-Members.<br />\n<br />\n<strong>Thank you to our January Fun at Five Sponsor!<br />\n<br />\nThe Center of Hope Foundation\, Inc.</strong><br />\n<br />\nFor over 66 years\, The Center of Hope Foundation\, Inc. has served individuals with intellectual and developmental disabilities from 64 towns in South Central MA and Northeastern CT.<br />\n<br />\nThe mission of the Center of Hope Foundation is to provide people with disabilities and their families from different cultural and ethnic backgrounds with the resources\, services\, and opportunities to be contributing members of their communities and to achieve the most fulfilling and meaningful lives possible. This is achieved through day programs\, employment support\, in-home support\, residential\, and advocacy.<br />\n<br />\nThe Center of Hope&rsquo\;s small businesses are designed as training facilities and work experience opportunities for program members. These businesses offer services directly to the local community and provide additional funding for programs. Every business is staffed by experienced workers who are licensed\, certified\, and/or trained in the business. Core employees ensure a high-quality product or service\, which provides an important set of affordable resources for our community.<br />\n<br />\nCenter of Hope Foundation\, 100 Foster Street\, Southbridge\, 508-764-4085<br />\n<a href="https://www.thecenterofhope.org/" rel="noopener noreferrer" style="user-select: auto\;" target="_blank">www.thecenterofhope.org</a><br />\n&nbsp\;
LOCATION:Comfort Inn & Suites Sturbridge\, MA 83 Hall Road\, Sturbridge\, MA
UID:e.2083.17231
SEQUENCE:3
DTSTAMP:20260420T120130Z
URL:https://business.cmschamber.org/events/details/cms-fun-at-five-networking-01-24-2024-17231
END:VEVENT

END:VCALENDAR
