BEGIN:VCALENDAR
VERSION:2.0
PRODID:-//ChamberMaster//Event Calendar 2.0//EN
METHOD:PUBLISH
X-PUBLISHED-TTL:P3D
REFRESH-INTERVAL:P3D
CALSCALE:GREGORIAN
BEGIN:VEVENT
DTSTART:20240227T220000Z
DTEND:20240228T000000Z
X-MICROSOFT-CDO-ALLDAYEVENT:FALSE
SUMMARY:CMS - Fun at Five Networking
DESCRIPTION:Fun at Five!\n\nNetworking with CMS Chamber\n\nTuesday\, February 27\, 5:00-7:00pm (rescheduled due to the storm on the 13th)\n\n \n\nWellsworth Hotel\n\n14 Mechanic Street\, Southbridge\, MA\, 508-765-8000\n\nwww.wellsworthhotel.com\n\n\n\nRefined\, Renewed\, and Refreshed   Welcome to the Wellsworth Hotel\n\n?After 23 wonderful years as Southbridge Hotel and Conference Center\, we're excited to showcase our new name: Wellsworth Hotel\, a symbol of our commitment to innovation\, excellence\, and renewed vision. Wellsworth pays homage to American Optical Company\, founded by George Wells more than 160 years ago in the very spot we're in now. Wellsworth Hotel today honors the legacy of its name with careful preservation of the American Optical historic clock tower\, fa ade\, foyer\, and elegant marble staircase. For more information and our detailed history\, head to the History page of our new website. \n\n\n\nA variety of food selections from our menu will be served at Fun at Five. Try a specialty drink or grab a cold craft brew from one of our 10 taps! \n\n \n\n?You could win: An Overnight Stay for Two including Breakfast at Wellsworth Hotel\n\njust for attending Fun at Five!\n\n \n\nWill you join us for FUN? Register for Fun at Five by email or phone. 508-347-2761 \n\n \n\nCost is $12 for Members who register\, $15 at the door\, or $20 for non-Members. \n\n \n\nThank you to our February Fun at Five Sponsor?!\n\n \n\nHyde Tools\, Inc.\n\nA Hyde Group Company\n\n54 Eastford Road\, Southbridge\, MA\, 01550\n\n \n\nOur Mission\n\nConsistently deliver tools defined by unparalleled quality\, usability\, and craftsmanship\, ensuring exceptional value for our customers with every ?HYDE  product.
X-ALT-DESC;FMTTYPE=text/html:<span style="font-size:16px"><strong><span style="font-family:calibri\,sans-serif">Fun at Five!</span></strong></span><br />\n<span style="font-family:calibri\,sans-serif">Networking with CMS Chamber</span><br />\n<strong><span style="font-family:calibri\,sans-serif">Tuesday\, February 27\, 5:00-7:00pm (rescheduled due to the storm on the 13th)</span></strong><br />\n&nbsp\;<br />\n<span style="font-size:16px"><strong><span style="font-family:calibri\,sans-serif">Wellsworth Hotel</span></strong></span><br />\n<span style="font-family:calibri\,sans-serif">14 Mechanic Street\, Southbridge\, MA\, 508-765-8000</span><br />\n<span style="font-family:calibri\,sans-serif"><a href="https://wellsworthhotel.com/" target="_blank"><strong><span style="color:windowtext">www.wellsworthhotel.com</span></strong></a></span><br />\n<br />\n<strong><span style="font-family:calibri\,sans-serif">Refined\, Renewed\, and Refreshed &ndash\; Welcome to the Wellsworth Hotel</span></strong><br />\n<span style="font-family:calibri\,sans-serif">?After 23 wonderful years as Southbridge Hotel and Conference Center\, we&rsquo\;re excited to showcase our new name: Wellsworth Hotel\, a symbol of our commitment to innovation\, excellence\, and renewed vision. Wellsworth pays homage to American Optical Company\, founded by George Wells more than 160 years ago in the very spot we&#39\;re in now. Wellsworth Hotel today honors the legacy of its name with careful preservation of the American Optical historic clock tower\, fa&ccedil\;ade\, foyer\, and elegant marble staircase. For more information and our detailed history\, head to the <a href="https://wellsworthhotel.com/our-story/history/" target="_blank"><span style="color:windowtext">History</span></a> page of our new website. </span><br />\n<br />\n<span style="font-family:calibri\,sans-serif">A variety of food selections from our menu will be served at Fun at Five. </span><span style="font-family:calibri\,sans-serif">Try a specialty drink or grab a cold craft brew from one of our 10 taps! </span><br />\n&nbsp\;<br />\n<strong><span style="font-family:calibri\,sans-serif">?You could win:</span></strong> <strong><span style="font-family:calibri\,sans-serif">An Overnight Stay for Two including Breakfast at Wellsworth Hotel</span></strong><br />\n<span style="font-family:calibri\,sans-serif">just for attending Fun at Five!</span><br />\n&nbsp\;<br />\n<strong><em><span style="font-family:calibri\,sans-serif">Will you join us for FUN? </span></em></strong><strong><span style="font-family:calibri\,sans-serif">Register for Fun at Five by </span></strong><span style="font-family:calibri\,sans-serif"><a href="mailto:info@cmschamber.org" target="_blank"><strong><span style="color:windowtext">email</span></strong></a><strong> or phone.</strong> </span><strong><span style="font-family:calibri\,sans-serif">508-347-2761&nbsp\;</span></strong><br />\n&nbsp\;<br />\n<strong><span style="font-family:calibri\,sans-serif">Cost is $12</span></strong><span style="font-family:calibri\,sans-serif"> for Members who register\, $15 at the door\, or $20 for non-Members. </span><br />\n&nbsp\;<br />\n<span style="font-size:16px"><strong><span style="font-family:calibri\,sans-serif">Thank you to our February Fun at Five Sponsor?!</span></strong></span><br />\n&nbsp\;<br />\n<span style="font-size:16px"><span style="font-family:calibri\,sans-serif"><a href="https://hydetools.com/" target="_blank"><strong><span style="color:windowtext">Hyde Tools\, Inc.</span></strong></a></span></span><br />\n<span style="font-family:calibri\,sans-serif">A Hyde Group Company</span><br />\n<span style="font-family:calibri\,sans-serif">54 Eastford Road\, Southbridge\, MA\, 01550</span><br />\n&nbsp\;<br />\n<strong><span style="font-family:calibri\,sans-serif">Our Mission</span></strong><br />\n<span style="font-family:calibri\,sans-serif">Consistently deliver tools defined by unparalleled quality\, usability\, and craftsmanship\, ensuring exceptional value for our customers with every ?HYDE&reg\; product.</span><br />\n&nbsp\;
LOCATION:Wellsworth Hotel 14 Mechanic Street\, Southbridge\, MA\, 508-765-8000 www.wellsworthhotel.com
UID:e.2083.17255
SEQUENCE:3
DTSTAMP:20260420T102355Z
URL:https://business.cmschamber.org/events/details/cms-fun-at-five-networking-02-13-2024-17255
END:VEVENT

END:VCALENDAR
