BEGIN:VCALENDAR
VERSION:2.0
PRODID:-//ChamberMaster//Event Calendar 2.0//EN
METHOD:PUBLISH
X-PUBLISHED-TTL:P3D
REFRESH-INTERVAL:P3D
CALSCALE:GREGORIAN
BEGIN:VEVENT
DTSTART:20240312T210000Z
DTEND:20240312T230000Z
X-MICROSOFT-CDO-ALLDAYEVENT:FALSE
SUMMARY:CMS - Fun at Five Networking
DESCRIPTION:Network at Fun at Five!\n\nTuesday\, March 12\, 5:00-7:00pm\n\nThe Barn at Wight Farm\n\n420 Main Street\, Sturbridge\, MA\n\nwww.thebarnatwightfarm.com\n\n \n\nThe Barn at Wight Farm is the picture-perfect choice for a Barn wedding and reception. The Barn offers couples a rustic elegance that is unmatched in the area. Our three function rooms The Barn\, The Alpheus Room\, and our newest addition\, The Winthrop Room are set on nearly four acres of manicured grounds in a colonial village setting which includes a patio\, fire pit\, and gazebo. Part of the award-winning Table 3 Restaurant Group\, The Barn at Wight Farm brings barn weddings to a new level. Call The Barn at 774-241-8450 to learn more.\n\n \n\nMeet us there for networking\, prizes\, food\, drinks and FUN on March 12! \n\nEnjoy tasty treats\, cocktails from The Barn's rustic bar\, chances to win valuable drawing prizes\, and the opportunity to mingle with local professionals in a casual and relaxed setting!\n\n \n\nWill you join us for FUN?\n\nRegister for Fun at Five by email or phone. info@cmschamber.org 508-347-2761 \n\n \n\nCost is $12 for Members who register\, $15 at the door\, or $20 for non-Members.\n\n \n\nThank you to our March Fun at Five Sponsor!\n\nSavers Bank\n\n800-649-3036\n\n\n\nFor over 100 years\, Savers Bank has been known for strength and stability offering sound financial products and services\, professional expertise and loans and mortgages that help our communities grow. Our mission is to deliver genuine service to help our customers\, communities and businesses solve their problems\, fulfill their financial goals and excel at everything they do. Offering simpler\, better\, more innovative products and services with superior customer service is how we create a Simply Better banking experience.\n\n\n\nSavers Bank - Better service\, better solutions. It's really that simple.
X-ALT-DESC;FMTTYPE=text/html:<span style="font-size:16px"><strong><span style="font-family:cambria\,serif">Network at Fun at Five!</span></strong></span><br />\n<strong><span style="font-family:cambria\,serif">Tuesday\, March 12\, 5:00-7:00pm</span></strong><br />\n<strong><span style="font-family:cambria\,serif"><span style="font-size:12.0pt">The Barn at Wight Farm</span></span></strong><br />\n<span style="font-family:cambria\,serif">420 Main Street\, Sturbridge\, MA</span><br />\n<a href="https://thebarnatwightfarm.com/" target="_blank"><span style="color:windowtext"><span style="font-family:cambria\,serif">www.thebarnatwightfarm.com</span></span></a><br />\n&nbsp\;<br />\n<span style="font-family:cambria\,serif">The Barn at Wight Farm is the picture-perfect choice for a Barn wedding and reception. The Barn offers couples a rustic elegance that is unmatched in the area. Our three function rooms&mdash\;</span><a href="https://thebarnatwightfarm.com/function-rooms/#barn" target="_blank"><span style="color:windowtext"><span style="font-family:cambria\,serif">The Barn</span></span></a><span style="font-family:cambria\,serif">\, </span><a href="https://thebarnatwightfarm.com/function-rooms/#alpheus" target="_blank"><span style="color:windowtext"><span style="font-family:cambria\,serif">The Alpheus Room</span></span></a><span style="font-family:cambria\,serif">\, and our newest addition\, </span><a href="https://thebarnatwightfarm.com/function-rooms/#winthrop" target="_blank"><span style="color:windowtext"><span style="font-family:cambria\,serif">The Winthrop Room</span></span></a><span style="font-family:cambria\,serif">&mdash\;are set on nearly four acres of manicured grounds in a colonial village setting which includes a patio\, fire pit\, and gazebo. Part of the award-winning </span><a href="https://table3restaurantgroup.com/" target="_blank"><span style="color:windowtext"><span style="font-family:cambria\,serif">Table 3 Restaurant Group</span></span></a><span style="font-family:cambria\,serif">\, The Barn at Wight Farm brings barn weddings to a new level. Call The Barn at 774-241-8450 to learn more.</span><br />\n&nbsp\;<br />\n<strong><span style="font-family:cambria\,serif">Meet us there for networking\, prizes\, food\, drinks and FUN on March 12! </span></strong><br />\n<span style="font-family:cambria\,serif">Enjoy tasty treats\, cocktails from The Barn&#39\;s rustic bar\, chances to win valuable drawing prizes\, and the opportunity to mingle with local professionals in a casual and relaxed setting!</span><br />\n&nbsp\;<br />\n<strong><em><span style="font-family:cambria\,serif">Will you join us for FUN?</span></em></strong><br />\n<strong><span style="font-family:cambria\,serif">Register for Fun at Five by&nbsp\;</span></strong><a href="mailto:info@cmschamber.org" target="_blank"><strong><span style="color:windowtext"><span style="font-family:cambria\,serif">email</span></span></strong></a><strong><span style="font-family:cambria\,serif">&nbsp\;or phone. info@cmschamber.org 508-347-2761&nbsp\;</span></strong><br />\n&nbsp\;<br />\n<strong><span style="font-family:cambria\,serif">Cost is $12</span></strong><span style="font-family:cambria\,serif">&nbsp\;for Members who register\, $15 at the door\, or $20 for non-Members.</span><br />\n&nbsp\;<br />\n<span style="font-size:16px"><strong><span style="font-family:cambria\,serif">Thank you to our March Fun at Five Sponsor!</span></strong><br />\n<a href="https://saversbank.com/"><strong><span style="font-family:cambria\,serif">Savers Bank</span></strong></a></span><br />\n800-649-3036<br />\n<br />\n<span style="font-family:cambria\,serif">For over 100 years\, Savers Bank has been known for strength and stability offering sound financial products and services\, professional expertise and loans and mortgages that help our communities grow. Our mission is to deliver genuine service to help our customers\, communities and businesses solve their problems\, fulfill their financial goals and excel at everything they do. Offering simpler\, better\, more innovative products and services with superior customer service is how we create a Simply Better banking experience.</span><br />\n<br />\n<span style="font-family:cambria\,serif">Savers Bank - Better service\, better solutions. It&#39\;s really that simple.</span>
LOCATION:The Barn at Wight Farm 420 Main Street\, Sturbridge\, MA
UID:e.2083.17318
SEQUENCE:3
DTSTAMP:20260420T084816Z
URL:https://business.cmschamber.org/events/details/cms-fun-at-five-networking-03-12-2024-17318
END:VEVENT

END:VCALENDAR
