BEGIN:VCALENDAR
VERSION:2.0
PRODID:-//ChamberMaster//Event Calendar 2.0//EN
METHOD:PUBLISH
X-PUBLISHED-TTL:P3D
REFRESH-INTERVAL:P3D
CALSCALE:GREGORIAN
BEGIN:VEVENT
DTSTART:20230321T210000Z
DTEND:20230321T230000Z
X-MICROSOFT-CDO-ALLDAYEVENT:FALSE
SUMMARY:CMS - Fun at Five Networking
DESCRIPTION:Fun at Five!\n\nTuesday\, March 21\, 5:00-7:00pm\n\n\n\nHERITAGE COUNTRY CLUB\n\n85 Sampson Road\, Charlton\, MA 01507\, (508) 248-5111\n\nwww.heritagecountryclub.com\n\nOpen 7 Days A Week\n\n\n\nSpring into Networking!\n\nJoin us at The Club House at Heritage Country Club in Charlton as we get together for our first networking event of Spring! Come and network with your fellow members as you enjoy tasty appetizers and a beer or cocktail from the cash bar.\n\n\n\nABOUT OUR HOSTS\n\nHeritage Country Club is an 18 hole championship golf course located in the rolling hills of Central Massachusetts. It has long been considered one of the finest public golf courses in the Central Mass area. A par 71\, measuring 6\,710 yards\, offers players of all abilities a spectacular golf experience. Heritage offers private club conditions and amenities at affordable rates. The Function Hall at Heritage is available for your next Outing\, Event\, Wedding\, Banquet\, or Party. The banquet buffet menu features terrific food\, great prices\, and can accommodate up to 175 people. VISIT ONLINE FOR MORE!\n\n\n\nYou could win:\n\nOne of Two 18-Hole Greens Fees (valued at $80) just for attending!\n\n\n\nRegister for Fun at Five by email or phone. 508-347-2761\n\n\n\nCost is $12 for Members who register\, $15 at the door\, or $20 for non-Members.\n\n\n\nThank you to our March Fun at Five Sponsor!\n\n\n\nDAVE'S PEST CONTROL\n\n113 Main Street\, Sturbridge\, MA 01566\n\n(508) 347-2687\n\nwww.davespestcontrol.net\n\n\n\nProtect Your Biggest Investment! Dave's Pest Control has been providing homeowners and commercial property owners with complete pest control services throughout the Worcester County area for over 45 years. Dave's services are designed to protect your environment by following the changing habits of pest populations throughout the New England seasons\, and by treating and eliminating property damaging insects and rodents. Dave's exterminator services include cockroach control\, termite service\, complete bed bug services\, bee removal\, and more! VISIT ONLINE TO REQUEST AN EVALUATION.
X-ALT-DESC;FMTTYPE=text/html:<span style="font-size:16px"><strong>Fun at Five!</strong></span><br />\nTuesday\, March 21\, 5:00-7:00pm<br />\n<br />\n<strong>HERITAGE COUNTRY CLUB</strong><br />\n85 Sampson Road\, Charlton\, MA 01507\, (508) 248-5111<br />\n<a href="http://www.heritagecountryclub.com">www.heritagecountryclub.com</a><br />\nOpen 7 Days A Week<br />\n<br />\n<strong>Spring into Networking!</strong><br />\nJoin us at The Club House at Heritage Country Club in Charlton as we get together for our first networking event of Spring! Come and network with your fellow members as you enjoy tasty appetizers and a beer or cocktail from the cash bar.<br />\n<br />\n<strong>ABOUT OUR HOSTS</strong><br />\nHeritage Country Club is an 18 hole championship golf course located in the rolling hills of Central Massachusetts. It has long been considered one of the finest public golf courses in the Central Mass area. A par 71\, measuring 6\,710 yards\, offers players of all abilities a spectacular golf experience. Heritage offers private club conditions and amenities at affordable rates. The Function Hall at Heritage is available for your next Outing\, Event\, Wedding\, Banquet\, or Party. The banquet buffet menu features terrific food\, great prices\, and can accommodate up to 175 people. VISIT ONLINE FOR MORE!<br />\n<br />\n<strong>You could win:</strong><br />\nOne of Two 18-Hole Greens Fees (valued at $80) just for attending!<br />\n<br />\n<strong>Register for Fun at Five by email or phone. 508-347-2761</strong><br />\n<br />\n<strong>Cost </strong>is $12 for Members who register\, $15 at the door\, or $20 for non-Members.<br />\n<br />\n<strong>Thank you to our March Fun at Five Sponsor!</strong><br />\n<br />\n<strong>DAVE&rsquo\;S PEST CONTROL</strong><br />\n113 Main Street\, Sturbridge\, MA 01566<br />\n(508) 347-2687<br />\n<a href="http://www.davespestcontrol.net">www.davespestcontrol.net</a><br />\n<br />\n<em><strong>Protect Your Biggest Investment!</strong></em> Dave&rsquo\;s Pest Control has been providing homeowners and commercial property owners with complete pest control services throughout the Worcester County area for over 45 years. Dave&rsquo\;s services are designed to protect your environment by following the changing habits of pest populations throughout the New England seasons\, and by treating and eliminating property damaging insects and rodents. Dave&rsquo\;s exterminator services include cockroach control\, termite service\, complete bed bug services\, bee removal\, and more! VISIT ONLINE TO REQUEST AN EVALUATION.<br />\n&nbsp\;
LOCATION:HERITAGE COUNTRY CLUB 85 Sampson Road\, Charlton\, MA 01507
UID:e.2083.15472
SEQUENCE:3
DTSTAMP:20260421T055605Z
URL:https://business.cmschamber.org/events/details/cms-fun-at-five-networking-03-21-2023-15472
END:VEVENT

END:VCALENDAR
