BEGIN:VCALENDAR
VERSION:2.0
PRODID:-//ChamberMaster//Event Calendar 2.0//EN
METHOD:PUBLISH
X-PUBLISHED-TTL:P3D
REFRESH-INTERVAL:P3D
CALSCALE:GREGORIAN
BEGIN:VEVENT
DTSTART:20230515T210000Z
DTEND:20230515T230000Z
X-MICROSOFT-CDO-ALLDAYEVENT:FALSE
SUMMARY:CMS - Fun at Five Networking
DESCRIPTION:Fun at Five!\n\nMonday\, May 15\, 5:00-7:00pm\n\nOakholm Brewing Company\n\n80 Lake Road\, Brookfield\, MA\n\nwww.oakholmbrewing.com\n\n\n\nMeet us at Oakholm's Taproom for May Networking!\n\nThe taproom at Oakholm Brewing Company is a beautiful mortise and tenon timber framed hay barn constructed in the early 1900s. This historic barn has been completely renovated and a new timber framed addition has been added to maintain the classic look and create a large production area for the brewery. The team at Oakholm is excited to share their delicious beer\, malted seltzers and sours with you\, and show you the beauty of their stunning property!\n\n\n\nLearn more about Oakholm Brewing Co. below and join us for networking\, cold drinks and FUN on May 15th!\n\n    \n\nABOUT OUR HOSTS\n\nAfter purchasing Oakholm Farm in February 2018\, Chris "Babe" Predella asked his long-time employee Andrew Woodward for advice on utilizing an old barn as a tap room for Christmas Tree Sales in the winter. Andrew had been home brewing for over 7 years and his response was "you should put a brewery here."\n\n\n\nThey both soon started making plans on renovating the hay barn to create a beautiful brewery. They knew they needed one more person to create a great partnership\, and that person was Rick Predella\, Babe's Father. Rick's background in engineering and operations management was the perfect addition to the partnership. After a two year journey\, we were able to open in May 2020 to the public for can sales during the height of the pandemic. Since then\, the taproom has been opened for indoor and outdoor seating with firepits and outside draft pours on warmer days.\n\n\n\nOakholm Brewing Company is situated on Oakholm Farm Estate's land whose mission is to be a place of love\, respect\, fun\, celebration\, peace\, & relaxation\, nourishment for the soul\, and a place where families come together. A place where people enter as strangers and leave as friends.\n\n\n\nRegister for Fun at Five by email or phone.\n\n508-347-2761\n\nCost is $12 for Members who register\, $15 at the door\, or $20 for non-Members.\n\n\n\nThank you to our May Fun at Five Sponsor!\n\nDexter Russell\n\n44 River Street\, Southbridge\, MA\n\nwww.dexter1818.com\n\n\n\nA handle. A Blade. And 200 years of experience. Dexter-Russell is a leading manufacturer of high-quality professional cutlery\, with a history dating back to 1818. The company was founded in Southbridge\, Massachusetts and began crafting knives and tools for local farmers and tradespeople. Today\, Dexter-Russell is recognized as a top choice among chefs and foodservice professionals worldwide\, offering durable\, reliable\, and expertly crafted knives that are designed to meet the needs of the modern kitchen.
X-ALT-DESC;FMTTYPE=text/html:<strong><span style="font-size:18px">Fun at Five!</span><br />\nMonday\, May 15\, 5:00-7:00pm<br />\nOakholm Brewing Company</strong><br />\n80 Lake Road\, Brookfield\, MA<br />\n<strong><a href="https://www.oakholmbrewing.com/">www.oakholmbrewing.com</a></strong><br />\n<br />\n<strong>Meet us at Oakholm&#39\;s Taproom for May Networking!</strong><br />\nThe taproom at Oakholm Brewing Company is a beautiful mortise and tenon timber framed hay barn constructed in the early 1900s. This historic barn has been completely renovated and a new timber framed addition has been added to maintain the classic look and create a large production area for the brewery. The team at Oakholm is excited to share their delicious beer\, malted seltzers and sours with you\, and show you the beauty of their stunning property!<br />\n<br />\nLearn more about Oakholm Brewing Co. below and join us for networking\, cold drinks and FUN on May 15th!<br />\n&nbsp\;&nbsp\; &nbsp\;<br />\n<strong>ABOUT OUR HOSTS</strong><br />\nAfter purchasing Oakholm Farm in February 2018\, Chris &ldquo\;Babe&rdquo\; Predella asked his long-time employee Andrew Woodward for advice on utilizing an old barn as a tap room for Christmas Tree Sales in the winter. Andrew had been home brewing for over 7 years and his response was &ldquo\;you should put a brewery here.&rdquo\;<br />\n<br />\nThey both soon started making plans on renovating the hay barn to create a beautiful brewery. They knew they needed one more person to create a great partnership\, and that person was Rick Predella\, Babe&rsquo\;s Father. Rick&rsquo\;s background in engineering and operations management was the perfect addition to the partnership. After a two year journey\, we were able to open in May 2020 to the public for can sales during the height of the pandemic. Since then\, the taproom has been opened for indoor and outdoor seating with firepits and outside draft pours on warmer days.<br />\n<br />\nOakholm Brewing Company is situated on Oakholm Farm Estate&rsquo\;s land whose mission is to be a place of love\, respect\, fun\, celebration\, peace\, &amp\; relaxation\, nourishment for the soul\, and a place where families come together. A place where people enter as strangers and leave as friends.<br />\n<br />\n<strong>Register for Fun at Five by email or phone.</strong><br />\n508-347-2761<br />\nCost is $12 for Members who register\, $15 at the door\, or $20 for non-Members.<br />\n<br />\n<strong>Thank you to our May Fun at Five Sponsor!<br />\n<span style="font-size:18px">Dexter Russell</span></strong><br />\n44 River Street\, Southbridge\, MA<br />\n<a href="https://dexter1818.com/">www.dexter1818.com</a><br />\n<br />\n<strong>A handle. A Blade. And 200 years of experience.</strong> Dexter-Russell is a leading manufacturer of high-quality professional cutlery\, with a history dating back to 1818. The company was founded in Southbridge\, Massachusetts and began crafting knives and tools for local farmers and tradespeople. Today\, Dexter-Russell is recognized as a top choice among chefs and foodservice professionals worldwide\, offering durable\, reliable\, and expertly crafted knives that are designed to meet the needs of the modern kitchen.
LOCATION:Oakholm Brewing Company 80 Lake Road\, Brookfield\, MA
UID:e.2083.15920
SEQUENCE:3
DTSTAMP:20260421T023246Z
URL:https://business.cmschamber.org/events/details/cms-fun-at-five-networking-05-15-2023-15920
END:VEVENT

END:VCALENDAR
