BEGIN:VCALENDAR
VERSION:2.0
PRODID:-//ChamberMaster//Event Calendar 2.0//EN
METHOD:PUBLISH
X-PUBLISHED-TTL:P3D
REFRESH-INTERVAL:P3D
CALSCALE:GREGORIAN
BEGIN:VEVENT
DTSTART:20220517T210000Z
DTEND:20220517T230000Z
X-MICROSOFT-CDO-ALLDAYEVENT:FALSE
SUMMARY:CMS - Fun at Five Networking
DESCRIPTION:FUN AT FIVE!\n\nTUESDAY\, MAY 17\, 5:00-7:00PM\n\nRapscallion\n\n3 Arnold Road\, Sturbridge\, 508-347-7500\n\nwww.drinkrapscallion.com/sturbridge/\n\nJoin us for Networking at the NEW Rapscallion Pub!\n\nRecently moved to its new location at 3 Arnold Road\, Rapscallion Pub has maintained its inviting rustic ambience while adding the new flair of a full bar and kitchen. Enjoy Rapscallion's hand-brewed beer\, great company\, fresh bites\, and the warm and friendly vibes offered by one of Massachusetts' favorite brewpubs at Fun at Five!\n\nRaps Runs for Charity!\n\nJoin Rapscallion Table & Tap in Acton on May 22 for a fast\, fun 5K to benefit AccesSportAmerica\, and Rapscallion Brewery on August 28 for a beautiful country 5K to benefit Second Chance Animal Services.\n\nLearn more at drinkrapscallion.com.\n\nRegister for Fun at Five by email or phone.\n\n508-347-2761 or info@cmschamber.org\n\nCost is $12 for Members who pre-register\, $15 at the door\, or $20 for non-Members.\n\nThank you to our May Fun at Five Sponsor: Country Bank\n\nCountry Bank is one of the most highly capitalized mutual savings banks in the Commonwealth offering full-service consumer and commercial banking services. Country Bank serves Central and Western Massachusetts and is a proud Founding Member of the Worcester Red Sox. Deeply committed to helping local communities thrive\, Country Bank recently pledged $1 million dollars to the Worcester Country Food Bank and the Food Bank of Western Massachusetts. In 2021\, donations exceeded $1.1 million dollars and supported more than 300 organizations throughout the region.\n\nwww.countrybank.com\n\n800.322.8233
X-ALT-DESC;FMTTYPE=text/html:<p><span style="font-size:12pt"><strong>FUN AT FIVE!</strong></span><br />\n<strong>TUESDAY\, MAY 17\, 5:00-7:00PM</strong><br />\n<strong>Rapscallion</strong><br />\n3 Arnold Road\, Sturbridge\, 508-347-7500<br />\n<a href="http://drinkrapscallion.com/sturbridge/" rel="noopener" target="_blank"><strong>www.drinkrapscallion.com/sturbridge/</strong></a></p>\n\n<p><strong>Join us for Networking at the NEW Rapscallion Pub!</strong><br />\nRecently moved to its new location at 3 Arnold Road\, Rapscallion Pub has maintained its inviting rustic ambience while adding the new flair of a full bar and kitchen. Enjoy Rapscallion&rsquo\;s hand-brewed beer\, great company\, fresh bites\, and the warm and friendly vibes offered by one of Massachusetts&rsquo\; favorite brewpubs at Fun at Five!</p>\n\n<p><strong>Raps Runs for Charity!</strong><br />\nJoin Rapscallion Table &amp\; Tap in Acton on May 22 for a fast\, fun 5K to benefit AccesSportAmerica\, and Rapscallion Brewery on August 28 for a beautiful country 5K to benefit Second Chance Animal Services.</p>\n\n<p><strong>Learn more at <a href="http://drinkrapscallion.com" rel="noopener" target="_blank">drinkrapscallion.com</a>.</strong></p>\n\n<p><strong>Register for Fun at Five by email or phone.</strong><br />\n508-347-2761 or info@cmschamber.org</p>\n\n<p>Cost is $12 for Members who pre-register\, $15 at the door\, or $20 for non-Members.</p>\n\n<p><strong>Thank you to our May Fun at Five Sponsor: Country Bank</strong></p>\n\n<p>Country Bank is one of the most highly capitalized mutual savings banks in the Commonwealth offering full-service consumer and commercial banking services. Country Bank serves Central and Western Massachusetts and is a proud Founding Member of the Worcester Red Sox. Deeply committed to helping local communities thrive\, Country Bank recently pledged $1 million dollars to the Worcester Country Food Bank and the Food Bank of Western Massachusetts. In 2021\, donations exceeded $1.1 million dollars and supported more than 300 organizations throughout the region.</p>\n\n<p><a href="https://www.countrybank.com/" rel="noopener" target="_blank"><strong>www.countrybank.com</strong></a><br />\n800.322.8233</p>\n
LOCATION:Rapscallion Sturbridge Pub 3 Arnold Road\, Sturbridge\, 508-347-7500 www.drinkrapscallion.com/sturbridge/
UID:e.2083.13908
SEQUENCE:3
DTSTAMP:20260421T215116Z
URL:https://business.cmschamber.org/events/details/cms-fun-at-five-networking-05-17-2022-13908
END:VEVENT

END:VCALENDAR
