BEGIN:VCALENDAR
VERSION:2.0
PRODID:-//ChamberMaster//Event Calendar 2.0//EN
METHOD:PUBLISH
X-PUBLISHED-TTL:P3D
REFRESH-INTERVAL:P3D
CALSCALE:GREGORIAN
BEGIN:VEVENT
DTSTART:20220614T210000Z
DTEND:20220614T230000Z
X-MICROSOFT-CDO-ALLDAYEVENT:FALSE
SUMMARY:CMS - Fun at Five Networking
DESCRIPTION:FUN AT FIVE!\n\nTUESDAY\, JUNE 14\, 5:00-7:00PM\n\nBrimfield Winery\n\n35 Main Street Brimfield\, MA\, (413) 245-3436\n\nwww.brimfieldwinery.com\n\nJune Networking at Brimfield Winery!\n\nRusty and Katy Corriveau are privileged to bring you a gathering place for a respite from our busy lives. Set at the home and farm land of the late Asa & Sarah Lincoln (circa 1823)\, this unique local Seasonal Winery is the perfect place for friends and family to get together and taste & relax in a historic setting.\n\nThe Vision for this land is to collaborate with local charities\, fundraisers and the like to bring communities together outdoors. Think local music\, local talent\, local farms.\n\nWe hope you'll meet us there for networking\, prizes and FUN on Tuesday\, June 14!\n\nBrimfield Winery is currently available for private functions.\n\nCHECK OUT THEIR WEBSITE FOR COOL EVENTS COMING SOON!\n\nRegister for Fun at Five by email or phone. 508-347-2761 \n\nCost is $12 for Members who pre-register\, $15 at the door\, or $20 for non-Members.\n\nTHANK YOU TO OUR JUNE FUN AT FIVE SPONSOR!\n\nWebster First Federal Credit Union\n\nBanking done better\n\nHello! We're Webster First. We've been around Massachusetts for over 90 years helping people like you with their everyday banking needs. Our members love banking with us\, and we think you will too. For a financial institution that puts you first\, turn to Webster First Federal Credit Union.\n\nWebster First Federal Credit Union\n\nwww.websterfirst.com
X-ALT-DESC;FMTTYPE=text/html:<p><span style="font-size:12pt"><strong>FUN AT FIVE!</strong></span><br />\n<strong>TUESDAY\, JUNE 14\, 5:00-7:00PM</strong><br />\n<strong>Brimfield Winery</strong><br />\n35 Main Street Brimfield\, MA\, (413) 245-3436</p>\n\n<p><a href="https://brimfieldwinery.com/"><strong>www.brimfieldwinery.com</strong></a></p>\n\n<p><span style="font-size:12pt"><strong>June Networking at Brimfield Winery!</strong></span></p>\n\n<p>Rusty and Katy Corriveau are privileged to bring you a gathering place for a respite from our busy lives. Set at the home and farm land of the late Asa &amp\; Sarah Lincoln (circa 1823)\, this unique local Seasonal Winery is the perfect place for friends and family to get together and taste &amp\; relax in a historic setting.</p>\n\n<p>The Vision for this land is to collaborate with local charities\, fundraisers and the like to bring communities together outdoors. Think local music\, local talent\, local farms.</p>\n\n<p><strong>We hope you&#39\;ll meet us there for networking\, prizes and FUN on Tuesday\, June 14!</strong></p>\n\n<p>Brimfield Winery is currently available for private functions.</p>\n\n<p><a href="https://brimfieldwinery.com/" rel="noopener" target="_blank"><strong>CHECK OUT THEIR WEBSITE FOR COOL EVENTS COMING SOON!</strong></a></p>\n\n<p><strong>Register for Fun at Five</strong> by <a href="mailto:info@cmschamber.org" rel="noopener" target="_blank">email</a> or phone. 508-347-2761&nbsp\;</p>\n\n<p>Cost is $12 for Members who pre-register\,&nbsp\;$15 at the door\, or $20 for non-Members.</p>\n\n<p><strong>THANK YOU TO OUR JUNE FUN AT FIVE SPONSOR!</strong></p>\n\n<p><span style="font-size:12pt"><strong>Webster First Federal Credit Union</strong></span></p>\n\n<p><strong>Banking done better</strong></p>\n\n<p>Hello! We&rsquo\;re Webster First. We&rsquo\;ve been around Massachusetts for over 90 years helping people like you with their everyday banking needs. Our members love banking with us\, and we think you will too. For a financial institution that puts you first\, turn to Webster First Federal Credit Union.</p>\n\n<p><strong>Webster First Federal Credit Union</strong></p>\n\n<p><a href="https://www.websterfirst.com/" rel="noopener" target="_blank"><strong>www.websterfirst.com</strong></a></p>\n
LOCATION:Brimfield Winery\, 35 Main Street\, Brimfield
UID:e.2083.13961
SEQUENCE:3
DTSTAMP:20260421T202120Z
URL:https://business.cmschamber.org/events/details/cms-fun-at-five-networking-06-14-2022-13961
END:VEVENT

END:VCALENDAR
