BEGIN:VCALENDAR
VERSION:2.0
PRODID:-//ChamberMaster//Event Calendar 2.0//EN
METHOD:PUBLISH
X-PUBLISHED-TTL:P3D
REFRESH-INTERVAL:P3D
CALSCALE:GREGORIAN
BEGIN:VEVENT
DTSTART:20220720T210000Z
DTEND:20220720T230000Z
X-MICROSOFT-CDO-ALLDAYEVENT:FALSE
SUMMARY:CMS - Fun at Five Networking
DESCRIPTION:Fun at Five!\n\nEnrico's Brick Oven Pizzeria\n\nJuly 20\, 2022\, 5:00-7:00pm\n\n\n\nEnrico's\n\n500 Main Street\, Sturbridge\, MA\, (508) 347-1740\n\nwww.enricosbrickovenpizzeria.com\n\n\n\nJoin us at Enrico's for networking and fun in July!\n\nEnrico's thin-crust pizza is baked in an authentic wood-burning brick oven that can reach temperatures as high as 900 degrees. The intense heat locks in freshness\, creates a crispy crust\, and gives the pizza its unique flavor.\n\n\n\nCome and network with your fellow Chamber members!\n\nEnjoy a hot slice (or three!)\, a cold craft brew or cocktail while you mingle.\n\n\n\nEvery Fun at Five attendee will receive a\n\n$25 Gift Card to Enrico's!!\n\nto use at a future visit thanks to our generous hosts!\n\n\n\nRegister for Fun at Five by email or phone. INFO@CMSCHAMBER.ORG\n\n508-347-2761\n\nCost is $12 for Members who pre-register\, $15 at the door\, or $20 for non-Members.\n\n\n\nThank you to our July Fun at Five Sponsor!\n\nPremier Exteriors & Design\n\nProviding New England home owners with the very best in exterior remodeling product's\, by a strongly branded company that prides themselves on longevity\, quality\, and experience. Producing a maintenance free lifestyle while creating an amazing start to completion experience for our customers while cultivating a work environment that promotes education\, growth\, and stability through teamwork. We are a values-driven company with our core belief system being centered around Integrity\, respect\, accountability\, loyalty\, structure\, discipline\, effort\, and teamwork. Visit online or call for FREE QUOTE!\n\n\n\nRoofing | Siding | Windows | Baths & Showers | Premier Exteriors & Designs\n\n\n\nPremier Exteriors & Design\n\n(413) 299-2429   \n\n500 Main St.\, Suite 1\, Sturbridge\, MA 01518\n\nwww.premierexteriorsanddesign.com
X-ALT-DESC;FMTTYPE=text/html:<strong>Fun at Five!<br />\nEnrico&#39\;s Brick Oven Pizzeria</strong><br />\nJuly 20\, 2022\, 5:00-7:00pm<br />\n<br />\n<strong>Enrico&#39\;s</strong><br />\n500 Main Street\, Sturbridge\, MA\, (508) 347-1740<br />\nwww.enricosbrickovenpizzeria.com<br />\n<br />\n<strong>Join us at Enrico&#39\;s for networking and fun in July!</strong><br />\nEnrico&#39\;s thin-crust pizza is baked in an authentic wood-burning brick oven that can reach temperatures as high as 900 degrees. The intense heat locks in freshness\, creates a crispy crust\, and gives the pizza its unique flavor.<br />\n<br />\nCome and network with your fellow Chamber members!<br />\nEnjoy a hot slice (or three!)\, a cold craft brew or cocktail while you mingle.<br />\n<br />\n<strong>Every Fun at Five attendee will receive a<br />\n$25 Gift Card to Enrico&#39\;s!!</strong><br />\nto use at a future visit thanks to our generous hosts!<br />\n<br />\n<strong>Register for Fun at Five by email or phone. INFO@CMSCHAMBER.ORG</strong><br />\n508-347-2761<br />\nCost is $12 for Members who pre-register\, $15 at the door\, or $20 for non-Members.<br />\n<br />\n<strong>Thank you to our July Fun at Five Sponsor!<br />\nPremier Exteriors &amp\; Design</strong><br />\nProviding New England home owners with the very best in exterior remodeling product&rsquo\;s\, by a strongly branded company that prides themselves on longevity\, quality\, and experience. Producing a maintenance free lifestyle while creating an amazing start to completion experience for our customers while cultivating a work environment that promotes education\, growth\, and stability through teamwork. We are a values-driven company with our core belief system being centered around Integrity\, respect\, accountability\, loyalty\, structure\, discipline\, effort\, and teamwork. Visit online or call for FREE QUOTE!<br />\n<br />\n<strong>Roofing | Siding | Windows | Baths &amp\; Showers | Premier Exteriors &amp\; Designs</strong><br />\n<br />\n<strong>Premier Exteriors &amp\; Design<br />\n(413) 299-2429&nbsp\; &nbsp\;</strong><br />\n500 Main St.\, Suite 1\, Sturbridge\, MA 01518<br />\nwww.premierexteriorsanddesign.com
LOCATION:Enrico's 500 Main Street\, Sturbridge\, MA\, (508) 347-1740
UID:e.2083.13972
SEQUENCE:3
DTSTAMP:20260421T184126Z
URL:https://business.cmschamber.org/events/details/cms-fun-at-five-networking-07-20-2022-13972
END:VEVENT

END:VCALENDAR
