BEGIN:VCALENDAR
VERSION:2.0
PRODID:-//ChamberMaster//Event Calendar 2.0//EN
METHOD:PUBLISH
X-PUBLISHED-TTL:P3D
REFRESH-INTERVAL:P3D
CALSCALE:GREGORIAN
BEGIN:VEVENT
DTSTART:20230720T210000Z
DTEND:20230720T230000Z
X-MICROSOFT-CDO-ALLDAYEVENT:FALSE
SUMMARY:CMS - Fun at Five Networking
DESCRIPTION:Fun at Five!\n\nBrimfield Winery\n\nThursday\, July 20\, 2023\n\n5:00-7:00pm \n\n \n\nBrimfield Winery \n\n35 Main Street Brimfield\, MA\, (413) 245-3436\n\nwww.brimfieldwinery.com\n\n \n\nBrimfield Winery for Summer Networking!\n\nRusty and Katy Corriveau are privileged to bring you a gathering place for a respite from our busy lives. Set at the home and farm land of the late Asa & Sarah Lincoln (circa 1823)\, this unique local seasonal Winery is the perfect place for friends and family to get together and taste & relax in a historic setting.\n\n \n\nThe Vision for this land is to collaborate with local charities\, fundraisers and the like to bring communities together outdoors. Think local music\, local talent\, local farms.\n\n \n\nThe Brimfield Winery will be serving their wines\, hard cider & seltzer\, and locally sourced beer at Fun at Five! \n\n \n\nWe hope you'll meet us there for networking\, prizes and FUN on Thursday\, July 20!\n\nThe FUN starts at 5!\n\n \n\nCHECK OUT THEIR WEBSITE FOR FANTASTIC UPCOMING EVENTS!\n\nBrimfield Winery is currently available for private functions.\n\n \n\nRegister for Fun at Five by email or phone.\n\n508-347-2761 \n\nCost is $12 for Members who pre-register\, $15 at the door\, or $20 for non-Members.\n\n \n\nThank you to our July Fun at Five Co-Sponsors!\n\nEdward Jones\n\nEdward Jones\, a FORTUNE 500 firm\, provides financial services for individual investors in the United States and\, through its affiliate\, in Canada. Every aspect of the firm's business\, from the types of investment options offered to the location of branch offices\, is designed to cater to individual investors in the communities in which they live and work. The firm's 14\,000-plus financial advisors work directly with nearly 7 million clients. Member SIPC.\n\n\n\nThe office of local Edward Jones advisor Trevor Nielsen is located at 419 Main Street (Rte. 131) in Sturbridge. \n\nTrevor invites you to call the office and schedule a complimentary portfolio review. Reach the Sturbridge office of Edward Jones by phone at 508-347-1420.\n\n\n\nOpacum Land Trust\n\nOpacum Land Trust is a south-central Massachusetts regional land trust formed in 2000 whose mission is to protect land\, water\, and wildlife for current and future generations. We work to maintain the rural character of our local communities\, promote conservation\, and facilitate the creation of greenways and wildlife corridors through conservation of critical land and habitat. \n\n\n\nTo date\, Opacum has conserved 3\,852 acres of land on 28 different properties. Many of these properties provide recreational opportunities for members of the public to visit and enjoy\, with trails to hike\, bike\, explore\, and more! In addition to land conservation\, Opacum Land Trust promotes the ideals of conservation and environmental protection through educational programming. Throughout the year\, we host naturalist-led walks\, educational talks\, and family friendly programs.
X-ALT-DESC;FMTTYPE=text/html:<span style="font-size:14px"><strong><span style="color:#6A0A09"><span style="font-family:cambria\,serif">Fun at Five!</span></span></strong><br />\n<strong><span style="color:#6A0A09"><span style="font-family:cambria\,serif">Brimfield Winery</span></span></strong><br />\n<strong><span style="color:#323232"><span style="font-family:cambria\,serif">Thursday\, July 20\, 2023</span></span></strong><br />\n<strong><span style="color:#323232"><span style="font-family:cambria\,serif">5:00-7:00pm&nbsp\;</span></span></strong><br />\n&nbsp\;<br />\n<strong><span style="color:#6A0A09"><span style="font-family:cambria\,serif">Brimfield Winery&nbsp\;</span></span></strong><br />\n<span style="font-family:cambria\,serif">35 Main Street Brimfield\, MA\, (413) 245-3436</span><br />\n<a href="https://brimfieldwinery.com/" target="_blank"><span style="color:#6A0A09"><span style="font-family:georgia\,serif">www.brimfieldwinery.com</span></span></a><br />\n&nbsp\;<br />\n<strong><span style="color:#862C21"><span style="font-family:cambria\,serif">Brimfield Winery for Summer Networking!</span></span></strong><br />\n<span style="font-family:cambria\,serif">Rusty and Katy Corriveau are privileged to bring you a gathering place for a respite from our busy lives. Set at the home and farm land of the late Asa &amp\; Sarah Lincoln (circa 1823)\, this unique local seasonal Winery is the perfect place for friends and family to get together and taste &amp\; relax in a historic setting.</span><br />\n&nbsp\;<br />\n<span style="font-family:cambria\,serif">The Vision for this land is to collaborate with local charities\, fundraisers </span><span style="font-family:cambria\,serif">and the like to bring communities together outdoors.&nbsp\;</span><strong><span style="font-family:cambria\,serif">Think local music\, local talent\, local farms.</span></strong><br />\n&nbsp\;<br />\n<span style="font-family:cambria\,serif">The Brimfield Winery will be serving their <strong>wines\, hard cider &amp\; seltzer\, </strong></span><strong><span style="font-family:cambria\,serif">and locally sourced beer</span></strong><span style="font-family:cambria\,serif"> at Fun at Five! </span><br />\n&nbsp\;<br />\n<strong><span style="color:#6A0A09"><span style="font-family:cambria\,serif">We hope you&#39\;ll meet us there for networking\, prizes and FUN </span></span></strong><strong><span style="color:#6A0A09"><span style="font-family:cambria\,serif">on Thursday\, July 20!<br />\nThe FUN starts at 5!</span></span></strong><br />\n&nbsp\;<br />\n<a href="https://brimfieldwinery.com/" target="_blank"><strong><span style="color:#AA100E"><span style="font-family:cambria\,serif">CHECK OUT THEIR WEBSITE FOR FANTASTIC UPCOMING EVENTS!</span></span></strong></a><br />\n<span style="font-family:cambria\,serif">Brimfield Winery is currently available for private functions.</span><br />\n&nbsp\;<br />\n<strong><span style="color:#862C21"><span style="font-family:cambria\,serif">Register for Fun at Five</span></span></strong><span style="color:black"><span style="font-family:cambria\,serif"> by </span></span><a href="mailto:info@cmschamber.org" target="_blank"><span style="color:#275627"><span style="font-family:cambria\,serif">email</span></span></a><span style="color:black"><span style="font-family:cambria\,serif"> or phone.</span></span><br />\n<span style="color:black"><span style="font-family:cambria\,serif">508-347-2761&nbsp\;</span></span><br />\n<span style="color:black"><span style="font-family:cambria\,serif">Cost is $12 for Members who pre-register\,&nbsp\;$15 at the door\, </span></span><span style="color:black"><span style="font-family:cambria\,serif">or $20 for non-Members.</span></span><br />\n&nbsp\;<br />\n<span style="font-size:16px"><strong><span style="color:#0F4397"><span style="font-family:cambria\,serif">Thank you to our July Fun at Five Co-Sponsors!</span></span></strong></span><br />\n<strong><span style="font-family:cambria\,serif">Edward Jones</span></strong><br />\n<span style="font-family:cambria\,serif">Edward Jones\, a FORTUNE 500 firm\, provides financial services for individual investors in the United States and\, through its affiliate\, in Canada. Every aspect of the firm&#39\;s business\, from the types of investment options offered to the location of branch offices\, is designed to cater to individual investors in the communities in which they live and work. The firm&#39\;s 14\,000-plus financial advisors work directly with nearly 7 million clients. Member SIPC.</span><br />\n<br />\n<span style="font-family:cambria\,serif">The office of local Edward Jones advisor Trevor Nielsen is located at 419 Main Street (Rte. 131) in Sturbridge. </span><br />\n<span style="font-family:cambria\,serif">Trevor invites you to call the office and schedule a complimentary portfolio review. </span><span style="font-family:cambria\,serif">Reach the Sturbridge office of Edward Jones by phone at 508-347-1420.</span><br />\n<br />\n<strong><span style="font-family:cambria\,serif">Opacum Land Trust</span></strong><br />\n<span style="font-family:cambria\,serif">Opacum Land Trust is a south-central Massachusetts regional land trust formed in 2000 whose mission is to protect land\, water\, and wildlife for current and future generations. We work to maintain the rural character of our local communities\, promote conservation\, and facilitate the creation of greenways and wildlife corridors through conservation of critical land and habitat. </span><br />\n<br />\n<span style="font-family:cambria\,serif">To date\, Opacum has conserved 3\,852 acres of land on 28 different properties. Many of these properties provide recreational opportunities for members of the public to visit and enjoy\, with trails to hike\, bike\, explore\, and more! </span><span style="font-family:cambria\,serif">In addition to land conservation\, Opacum Land Trust promotes the ideals of conservation and environmental protection through educational programming. Throughout the year\, we host naturalist-led walks\, educational talks\, and family friendly programs.</span></span>
LOCATION:Brimfield Winery 35 Main Street\, Brimfield\, MA
UID:e.2083.15995
SEQUENCE:3
DTSTAMP:20260420T224642Z
URL:https://business.cmschamber.org/events/details/cms-fun-at-five-networking-07-20-2023-15995
END:VEVENT

END:VCALENDAR
