BEGIN:VCALENDAR
VERSION:2.0
PRODID:-//ChamberMaster//Event Calendar 2.0//EN
METHOD:PUBLISH
X-PUBLISHED-TTL:P3D
REFRESH-INTERVAL:P3D
CALSCALE:GREGORIAN
BEGIN:VEVENT
DTSTART:20220913T210000Z
DTEND:20220913T230000Z
X-MICROSOFT-CDO-ALLDAYEVENT:FALSE
SUMMARY:CMS - Fun at Five Networking
DESCRIPTION:Fun at Five Networking!\n\nTuesday\, September 13\, 5:00-7:00pm\n\n\n\nSouthbridge Hotel and Conference Center\n\n14 Mechanic Street\, Southbridge\, MA\, 508-765-8000\n\nwww.SouthbridgeHotel.com\n\n\n\nNetworking at Southbridge Hotel!\n\nWe will meet at the Southbridge Hotel & Conference Center in Shades Lounge and\, depending on the weather\, enjoy the outdoor Courtyard which features a fire pit and soft seating. Come and network with your fellow CMS Chamber members! A variety of food selections from our menu will be served. Try a specialty drink or grab a cold craft brew from one of our 10 taps!\n\n\n\nYou could win:\n\nAn Overnight Stay for Two including Breakfast at Southbridge Hotel\n\n\n\nRegister for Fun at Five by email or phone. info@cmschamber.org\n\n508-347-2761\n\n\n\nCost is $12 for Members who register\, $15 at the door\, or $20 for non-Members.\n\n\n\nWe hope to see you there!
X-ALT-DESC;FMTTYPE=text/html:<p><strong><span style="font-size:16px">Fun at Five Networking!</span><br />\nTuesday\, September 13\, 5:00-7:00pm</strong><br />\n<br />\n<strong>Southbridge Hotel and Conference Center</strong><br />\n14 Mechanic Street\, Southbridge\, MA\, 508-765-8000<br />\n<a href="https://www.southbridgehotel.com/" rel="noopener noreferrer" style="user-select: auto\;" target="_blank">www.SouthbridgeHotel.com</a><br />\n<br />\n<strong><em>Networking at Southbridge Hotel!</em></strong><br />\nWe will meet at the Southbridge Hotel &amp\; Conference Center in Shades Lounge and\, depending on the weather\, enjoy the outdoor Courtyard which features a fire pit and soft seating. Come and network with your fellow CMS Chamber members! A variety of food selections from our menu will be served. Try a specialty drink or grab a cold craft brew from one of our 10 taps!<br />\n<br />\n<strong>You could win:</strong><br />\nAn Overnight Stay for Two including Breakfast at Southbridge Hotel<br />\n<br />\n<strong>Register</strong> for Fun at Five by email or phone. <a href="mailto:info@cmschamber.org" style="user-select: auto\;">info@cmschamber.org</a><br />\n508-347-2761<br />\n<br />\n<strong>Cost</strong> is $12 for Members who register\, $15 at the door\, or $20 for non-Members.<br />\n<br />\n<em>We hope to see you there!</em></p>\n
LOCATION:Southbridge Hotel and Conference Center 14 Mechanic Street\, Southbridge\, MA\, 508-765-8000
UID:e.2083.14733
SEQUENCE:3
DTSTAMP:20260421T154634Z
URL:https://business.cmschamber.org/events/details/cms-fun-at-five-networking-09-13-2022-14733
END:VEVENT

END:VCALENDAR
