BEGIN:VCALENDAR
VERSION:2.0
PRODID:-//ChamberMaster//Event Calendar 2.0//EN
METHOD:PUBLISH
X-PUBLISHED-TTL:P3D
REFRESH-INTERVAL:P3D
CALSCALE:GREGORIAN
BEGIN:VEVENT
DTSTART:20221109T220000Z
DTEND:20221110T000000Z
X-MICROSOFT-CDO-ALLDAYEVENT:FALSE
SUMMARY:CMS - Fun at Five Networking
DESCRIPTION:Fun at Five!\n\nWednesday\, November 9\, 5:00pm\n\nThe Barn at Wight Farm\n\n420 Main Street\, Sturbridge\, MA\, 774-241-8450\n\nwww.TheBarnatWightFarm.com\n\n\n\nThe Barn at Wight Farm is the picture-perfect choice for Sturbridge weddings\, receptions\, corporate events\, anniversary parties and functions of all types. All our function rooms offer a rustic elegance that is unmatched in the area. Our three function rooms The Barn\, The Alpheus Room\, and our newest addition\, The Winthrop Room are set on nearly four acres of manicured grounds in a colonial village setting which includes a patio\, fire pit\, and gazebo.\n\n\n\nPart of the award-winning Table 3 Restaurant Group\, The Barn at Wight Farm brings barn weddings to a new level. With four Table 3 Group restaurants within one mile of the property\, we also have the perfect space to accommodate your rehearsal dinner or bridal shower.\n\n\n\nMeet us there for networking\, prizes\, food\, drinks and FUN on November 9!\n\n\n\nRegister for Fun at Five by email (info@cmschamber.org) phone.\n\n508-347-2761\n\nCost is $12 for Members who pre-register\,\n\n$15 at the door\, or $20 for non-Members.\n\n\n\nTHANK YOU TO OUR NOVEMBER FUN AT FIVE SPONSOR: COUNTRY BANK\n\n\n\nCountry Bank is one of the most highly capitalized mutual savings banks in the Commonwealth with 1.8 billion in assets offering full-service consumer and commercial banking services. Country Bank serves Central and Western Massachusetts with 14 offices in Ware\, Palmer\, West Brookfield\, Brimfield\, Belchertown\, Wilbraham\, Ludlow\, Leicester\, Paxton\, Charlton\, Springfield and Worcester. Country Bank is a member of FDIC\, DIF and the SUM network.\n\nOur Story\n\nEvery day is a new opportunity to make a difference.\nWhen we listen to our customers and learn what's important to them\, when we promise to support each other\, and strive always to do the right thing\, we can have a positive impact on our customers and our community. By working hard. By being accountable. By finding answers. By giving back. That's not just we believe in. It's what we were made for.\n\n\n\nwww.countrybank.com\n\n800.322.8233
X-ALT-DESC;FMTTYPE=text/html:<p><strong>Fun at Five!<br />\nWednesday\, November 9\, 5:00pm<br />\nThe Barn at Wight Farm</strong><br />\n420 Main Street\, Sturbridge\, MA\, 774-241-8450<br />\n<a href="https://thebarnatwightfarm.com/" rel="noopener noreferrer" style="user-select: auto\;" target="_blank">www.TheBarnatWightFarm.com</a><br />\n<br />\nThe Barn at Wight Farm is the picture-perfect choice for Sturbridge weddings\, receptions\, corporate events\, anniversary parties and functions of all types. All our function rooms offer a rustic elegance that is unmatched in the area. Our three function rooms&mdash\;The Barn\, The Alpheus Room\, and our newest addition\, The Winthrop Room&mdash\;are set on nearly four acres of manicured grounds in a colonial village setting which includes a patio\, fire pit\, and gazebo.<br />\n<br />\nPart of the award-winning Table 3 Restaurant Group\, The Barn at Wight Farm brings barn weddings to a new level. With four Table 3 Group restaurants within one mile of the property\, we also have the perfect space to accommodate your rehearsal dinner or bridal shower.<br />\n<br />\n<em><strong>Meet us there for networking\, prizes\, food\, drinks and FUN on November 9!</strong></em><br />\n<br />\n<strong>Register for Fun at Five</strong> by email (<a href="mailto:info@cmschamber.org" style="user-select: auto\;">info@cmschamber.org</a>) phone.<br />\n508-347-2761<br />\nCost is $12 for Members who pre-register\,<br />\n$15 at the door\, or $20 for non-Members.<br />\n<br />\n<strong>THANK YOU TO OUR NOVEMBER FUN AT FIVE SPONSOR: COUNTRY BANK</strong><br />\n<br />\nCountry Bank is one of the most highly capitalized mutual savings banks in the Commonwealth with 1.8 billion in assets offering full-service consumer and commercial banking services. Country Bank serves Central and Western Massachusetts with 14 offices in Ware\, Palmer\, West Brookfield\, Brimfield\, Belchertown\, Wilbraham\, Ludlow\, Leicester\, Paxton\, Charlton\, Springfield and Worcester. Country Bank is a member of FDIC\, DIF and the SUM network.</p>\n\n<p>Our Story</p>\n\n<p>Every day is a new opportunity to make a difference.</p>\nWhen we listen to our customers and learn what&rsquo\;s important to them\, when we promise to support each other\, and strive always to do the right thing\, we can have a positive impact on our customers and our community. By working hard. By being accountable. By finding answers. By giving back. That&rsquo\;s not just we believe in. It&rsquo\;s what we were made for.<br />\n<br />\n<a href="https://www.countrybank.com/" rel="noopener noreferrer" style="user-select: auto\;" target="_blank">www.countrybank.com</a><br />\n800.322.8233
LOCATION:The Barn at Wight Farm 420 Main Street\, Sturbridge
UID:e.2083.14839
SEQUENCE:3
DTSTAMP:20260421T142238Z
URL:https://business.cmschamber.org/events/details/cms-fun-at-five-networking-11-09-2022-14839
END:VEVENT

END:VCALENDAR
