BEGIN:VCALENDAR
VERSION:2.0
PRODID:-//ChamberMaster//Event Calendar 2.0//EN
METHOD:PUBLISH
X-PUBLISHED-TTL:P3D
REFRESH-INTERVAL:P3D
CALSCALE:GREGORIAN
BEGIN:VEVENT
DTSTART:20220323T210000Z
DTEND:20220323T230000Z
X-MICROSOFT-CDO-ALLDAYEVENT:FALSE
SUMMARY:CMS - Fun at Five Networking
DESCRIPTION:Fun at Five!\n\nWednesday\, March 23\, 2022\n\n5:00-7:00pm\n\nBaba Sushi\n\n453 Main Street\, Fiskdale\, 774-304-1068\n\nwww.babasushi.com/sturbridge/\n\nJoin us for Networking at BABA!\n\nStep into BABA. Feel the energy. Seductive\, Sophisticated\, Cozy and Subdued. Modern Asian d cor. Eclectic music. Enjoy the freshest\, most innovative\, mouthwatering sushi dishes anywhere. This is a total sensory feast.\n\nEnjoy spectacular hors d'oeuvres\, wine\, beer and cocktails\, chances to win awesome drawing prizes and the opportunity to mingle with local professionals at one of the area's most creative dining destinations!\n\nWilson Wang\, BABA's master chef and owner is Metrowest's premier sushi innovator and showman. He has created a world-class dining experience. Classically trained in China at the Zibo Chef School and Shandong University he came to the U.S. in 1995 where he trained under Master Sushi Chef Yen of the acclaimed Oishii Sushi Bar in Chestnut Hill\, consistently voted "Best of Boston." Wilson has been a master chef since 2001 and is well known in the area for his artistry.\n\nRegister for Fun at Five by email or phone. info@cmschamber.org\n\n508-347-2761 \n\nCost is $12 for Members who pre-register\, \n\n$15 at the door\, or $20 for non-Members.\n\nThank you to our March Fun at Five Sponsor!\n\nNorcom Mortgage - Sturbridge\n\nNorcom Mortgage - Sturbridge is Your Local Mortgage Lender specializing in Residential Mortgage Lending. As a Direct Lender\, Norcom is committed to providing the utmost in service and we offer a vast variety of loan products to meet your specific needs. We are here to guide you through the entire process whether you are looking to Purchase a Home\, Refinance for Cash out\, Renovate or Consolidate Debt. We also offer Renovation and Reverse Mortgage Lending. Contact a member of our team today for a no cost consultation to learn more.\n\nNorcom Mortgage - Sturbridge\n\nLicensed in MA\, CT\, NH\, RI\, ME\, FL\n\n774.241.0770\n\n135 Main Street (Route 131)\, Suite 4\, Sturbridge\, MA 01566
X-ALT-DESC;FMTTYPE=text/html:<p><span style="font-size:12pt"><strong>Fun at Five!</strong></span><br />\n<strong>Wednesday\, March 23\, 2022</strong><br />\n5:00-7:00pm<br />\n<span style="font-size:12pt"><strong>Baba Sushi</strong></span><br />\n453 Main Street\, Fiskdale\, 774-304-1068<br />\n<a href="https://babasushi.com/sturbridge/" rel="noopener" target="_blank">www.babasushi.com/sturbridge/</a></p>\n\n<p><strong>Join us for Networking at BABA!</strong><br />\nStep into BABA. Feel the energy. Seductive\, Sophisticated\, Cozy and Subdued. Modern Asian d&eacute\;cor. Eclectic music. Enjoy the freshest\, most innovative\, mouthwatering sushi dishes anywhere. This is a total sensory feast.</p>\n\n<p>Enjoy spectacular hors d&#39\;oeuvres\, wine\, beer and cocktails\, chances to win awesome drawing prizes and the opportunity to mingle with local professionals at one of the area&#39\;s most creative dining destinations!</p>\n\n<p>Wilson Wang\, BABA&#39\;s master chef and owner is Metrowest&#39\;s premier sushi innovator and showman. He has created a world-class dining experience. Classically trained in China at the Zibo Chef School and Shandong University he came to the U.S. in 1995 where he trained under Master Sushi Chef Yen of the acclaimed Oishii Sushi Bar in Chestnut Hill\, consistently voted &quot\;Best of Boston.&quot\; Wilson has been a master chef since 2001 and is well known in the area for his artistry.</p>\n\n<p><strong>Register for Fun at Five by email or phone. info@cmschamber.org</strong><br />\n<strong>508-347-2761 </strong><br />\n<strong>Cost is $12 for Members who pre-register\, </strong><br />\n<strong>$15 at the door\, or $20 for non-Members.</strong></p>\n\n<p><strong>Thank you to our March Fun at Five Sponsor!</strong><br />\n<span style="font-size:12pt"><strong>Norcom Mortgage - Sturbridge</strong></span></p>\n\n<p>Norcom Mortgage - Sturbridge is Your Local Mortgage Lender specializing in Residential Mortgage Lending. As a Direct Lender\, Norcom is committed to providing the utmost in service and we offer a vast variety of loan products to meet your specific needs. We are here to guide you through the entire process whether you are looking to Purchase a Home\, Refinance for Cash out\, Renovate or Consolidate Debt. We also offer Renovation and Reverse Mortgage Lending. Contact a member of our team today for a no cost consultation to learn more.</p>\n\n<p><strong><a href="https://sturbridge.norcommortgage.com/" rel="noopener" target="_blank"><span style="font-size:10pt">Norcom Mortgage - Sturbridge</span></a></strong><br />\n<strong>Licensed in MA\, CT\, NH\, RI\, ME\, FL</strong><br />\n774.241.0770<br />\n135 Main Street (Route 131)\, Suite 4\, Sturbridge\, MA 01566</p>\n
LOCATION:Baba Sushi Sturbridge 453 Main Street\, Fiskdale\, 774-304-1068
UID:e.2083.13830
SEQUENCE:3
DTSTAMP:20260422T021445Z
URL:https://business.cmschamber.org/events/details/cms-fun-at-five-networking-13830
END:VEVENT

END:VCALENDAR
