BEGIN:VCALENDAR
VERSION:2.0
PRODID:-//ChamberMaster//Event Calendar 2.0//EN
METHOD:PUBLISH
X-PUBLISHED-TTL:P3D
REFRESH-INTERVAL:P3D
CALSCALE:GREGORIAN
BEGIN:VEVENT
DTSTART:20221112T150000Z
DTEND:20221112T170000Z
X-MICROSOFT-CDO-ALLDAYEVENT:FALSE
SUMMARY:CMS - Grand Opening & Ribbon Cutting: CrossFit Charlton
DESCRIPTION:Grand Opening & Ribbon Cutting Ceremony!\n\nSaturday\, November 12\, 10:00am to Noon\n\nCrossFit Charlton\n\n168 Worcester Road (Route 20)\, Charlton\, MA 01507\n\n(508) 769-2308\n\nwww.crossfitcharlton.com\n\n\n\nCrossFit Charlton's official grand opening will take place on Saturday\, November 12th. \n\nThe event will kick off at 10 a.m. with a ribbon cutting ceremony presented by the Chamber of Central Mass South\, which will be followed by an open house of the brand new gym at 168 Worcester Road in Charlton until noon.\n\n\n\nThe ceremony will include presentations by local dignitaries and the snipping of the official red ribbon! Locally crafted food and beverages will be available at the open house! \n\nCrossFit Charlton's grand opening event will entail local visitors\, including Charlton Selectmen Stephen Koronis and Barbara Zurawski\, Charlton Town Administrator Andrew Golas\, Officer Derek Gaylord and K9 Officer Dozer of the Charlton Police Department\, the Charlton Fire Department's "Touch a Truck" program\, where kids are invited to explore and touch a real fire truck\, and food and beverages from local venues\, including Toasted Roasters\, Work of Art Cookies\, and Fay Mountain Farm. \n\n\n\nAll are welcome to attend. There is no cost and no need to RSVP.
X-ALT-DESC;FMTTYPE=text/html:<span style="font-family:arial\,helvetica\,sans-serif"><span style="font-size:16px"><strong><em>Grand Opening &amp\; Ribbon Cutting Ceremony!</em></strong><br />\n<strong>Saturday\, November 12\, 10:00am to Noon</strong><br />\n<strong><span style="color:#062F6D">CrossFit Charlton</span></strong><br />\n168 Worcester Road (Route 20)\, Charlton\, MA 01507<br />\n(508) 769-2308<br />\n<a href="http://www.crossfitcharlton.com/" target="_blank"><strong><span style="color:#062F6D">www.crossfitcharlton.com</span></strong></a><br />\n<br />\nCrossFit Charlton&#39\;s official grand opening will take place on Saturday\, November 12th.&nbsp\;<br />\nThe event will kick off at 10 a.m. with a ribbon cutting ceremony presented by the Chamber of Central Mass South\, which will be followed by an open house of the brand new gym at&nbsp\;<span style="color:#34383B">168 Worcester Road&nbsp\;in Charlton until noon.</span><br />\n<br />\nThe ceremony will include presentations by local dignitaries and the snipping of the official red ribbon! Locally crafted food and beverages will be available at the open house!&nbsp\;<br />\nCrossFit Charlton&rsquo\;s grand opening event will entail local visitors\, including Charlton Selectmen Stephen Koronis and Barbara Zurawski\, Charlton Town Administrator Andrew Golas\, Officer Derek Gaylord and K9 Officer Dozer of the Charlton Police Department\, the Charlton Fire Department&rsquo\;s &ldquo\;Touch a Truck&rdquo\; program\, where kids are invited to explore and touch a real fire truck\, and food and beverages from local venues\, including Toasted Roasters\, Work of Art Cookies\, and Fay Mountain Farm. </span></span><br />\n<br />\n<span style="font-size:16px"><span style="font-family:arial\,helvetica\,sans-serif"><strong>All are welcome to attend. There is no cost and no need to RSVP.&nbsp\;</strong></span></span><br />\n&nbsp\;
LOCATION:CrossFit Charlton\, 168 Worcester Road (Route 20)\, Charlton\, MA 01507
UID:e.2083.14822
SEQUENCE:3
DTSTAMP:20260421T130129Z
URL:https://business.cmschamber.org/events/details/cms-grand-opening-ribbon-cutting-crossfit-charlton-14822
END:VEVENT

END:VCALENDAR
