BEGIN:VCALENDAR
VERSION:2.0
PRODID:-//ChamberMaster//Event Calendar 2.0//EN
METHOD:PUBLISH
X-PUBLISHED-TTL:P3D
REFRESH-INTERVAL:P3D
CALSCALE:GREGORIAN
BEGIN:VEVENT
DTSTART:20231212T220000Z
DTEND:20231213T010000Z
X-MICROSOFT-CDO-ALLDAYEVENT:FALSE
SUMMARY:CMS - Holiday Fun at Five
DESCRIPTION:Holiday Fun at Five!\n\nTuesday\, December 12\, 5:00-8:00pm\n\nThe Publick House\, 277 Main Street\, Sturbridge\, MA\n\n\n\nCome and revel in the festive spirit at our Holiday Fun at Five on the evening of Tuesday\, December 12th! Join fellow Members and Guests for an unforgettable evening at The Publick House in Sturbridge.\n\n\n\nDelight in delectable cuisine\, soak in the festive ambiance of an illuminated hall\, and indulge in exciting activities with the chance to win fantastic prizes. There is always a surprise or two in store! Let's come together to celebrate the season in style!\n\n\n\nActivities include:\n\nUgly Sweater Contest\n\nHoliday Bingo\n\nand\n\nStuffed Stocking Silent Auction\n\n\n\nWhat is a Stuffed Stocking Silent Auction? Glad you asked!\n\nMembers are encouraged to donate a holiday stocking to our silent auction. A portion of proceeds will be used to purchase gift cards for teenagers in need. Stocking can be filled with product you make or sell\, you can fill the stocking based on a theme\, or use a tiny holiday stocking for a gift card   the possibilities are endless.\n\n\n\nPlease let Alix know if you will be donating to our Stuffed Stocking Silent Auction. \n\nThank you!\n\n\n\nCOST: $20 for Members who register\, $25 at the door\, or $30 for non-Members.\n\n\n\nPLEASE RSVP BY FRIDAY\, DECEMBER 8!\n\nHelp us help our hosts at The Publick House receive an accurate count\, so they can have plenty of goodies for all of us! Thank you!\n\n \n\nRSVP TO REGISTER: by phone at 508-347-2761 or email info@cmschamber.org\n\n\n\nThank you to our Holiday Fun at Five Sponsor!\n\nCORNERSTONE BANK\n\n\n\nIn a world where people have more choices than ever about how and where to manage their finances\, Cornerstone Bank inspires a true feeling of confidence among the customers who entrust us with their financial well-being.\n\n\n\nWhere large banks lack personal attention\, and local banks lack depth and expertise\, Cornerstone builds trust with its business and retail customers through respectful\, reliable relationships\, problem-solving proficiency\, and an unwavering commitment to community.\n\n\n\nCornerstone Bank rests on the foundation that relationships are built on trust.\n\ncornerstonebank.com
X-ALT-DESC;FMTTYPE=text/html:<span style="font-size:18px"><strong>Holiday Fun at Five!</strong></span><br />\n<strong>Tuesday\, December 12\, 5:00-8:00pm</strong><br />\n<strong>The Publick House\, 277 Main Street\, Sturbridge\, MA</strong><br />\n<br />\nCome and revel in the festive spirit at our Holiday Fun at Five on the evening of Tuesday\, December 12th! Join fellow Members and Guests for an unforgettable evening at The Publick House in Sturbridge.<br />\n<br />\nDelight in delectable cuisine\, soak in the festive ambiance of an illuminated hall\, and indulge in exciting activities with the chance to win fantastic prizes. <em>There is always a surprise or two in store! </em>Let&#39\;s come together to celebrate the season in style!<br />\n<br />\n<strong>Activities include:</strong><br />\n<strong>Ugly Sweater Contest</strong><br />\n<strong>Holiday Bingo</strong><br />\nand<br />\n<strong>Stuffed Stocking Silent Auction</strong><br />\n<br />\n<strong>What is a Stuffed Stocking Silent Auction? Glad you asked!</strong><br />\nMembers are encouraged to donate a holiday stocking to our silent auction. A portion of proceeds will be used to purchase gift cards for teenagers in need. Stocking can be filled with product you make or sell\, you can fill the stocking based on a theme\, or use a tiny holiday stocking for a gift card &ndash\; the possibilities are endless.<br />\n<br />\n<strong>Please&nbsp\;</strong><a href="mailto:alexandra_mcnitt@cmschamber.org" style="user-select:auto\;" target="_blank"><strong>let Alix know</strong></a><strong>&nbsp\;if you will be donating to our Stuffed Stocking Silent Auction.&nbsp\;</strong><br />\n<strong><em>Thank you!</em></strong><br />\n<br />\n<strong>COST</strong>: <strong>$20 for Members who register\, $25 at the door\, or $30 for non-Members.</strong><br />\n<br />\n<strong>PLEASE RSVP BY FRIDAY\, DECEMBER 8!</strong><br />\nHelp us help our hosts at The Publick House receive an accurate count\, so they can have plenty of goodies for all of us! Thank you!<br />\n&nbsp\;<br />\n<strong>RSVP TO REGISTER: </strong><strong>by phone</strong> at 508-347-2761 <strong>or email</strong> <a href="mailto:info@cmschamber.org" style="user-select:auto\;" target="_blank">info@cmschamber.org</a><br />\n<br />\n<strong>Thank you to our Holiday Fun at Five Sponsor!</strong><br />\n<strong>CORNERSTONE BANK</strong><br />\n<br />\nIn a world where people have more choices than ever about how and where to manage their finances\, Cornerstone Bank inspires a true feeling of confidence among the customers who entrust us with their financial well-being.<br />\n<br />\nWhere large banks lack personal attention\, and local banks lack depth and expertise\, Cornerstone builds trust with its business and retail customers through respectful\, reliable relationships\, problem-solving proficiency\, and an unwavering commitment to community.<br />\n<br />\nCornerstone Bank rests on the foundation that relationships are built on trust.<br />\n<a href="http://www.cornerstonebank.com/" style="user-select:auto\;" target="_blank"><strong>cornerstonebank.com</strong></a><br />\n&nbsp\;
LOCATION:The Publick House Historic Inn\, 277 Main Street\, Sturbridge\, MA
UID:e.2083.16875
SEQUENCE:3
DTSTAMP:20260420T134843Z
URL:https://business.cmschamber.org/events/details/cms-holiday-fun-at-five-12-12-2023-16875
END:VEVENT

END:VCALENDAR
