BEGIN:VCALENDAR
VERSION:2.0
PRODID:-//ChamberMaster//Event Calendar 2.0//EN
METHOD:PUBLISH
X-PUBLISHED-TTL:P3D
REFRESH-INTERVAL:P3D
CALSCALE:GREGORIAN
BEGIN:VEVENT
DTSTART:20211214T220000Z
DTEND:20211215T010000Z
X-MICROSOFT-CDO-ALLDAYEVENT:FALSE
SUMMARY:CMS - Holiday Fun at Five!
DESCRIPTION:Join the Chamber of Central Mass South for some holiday cheer with our Members and Guests on the evening of Tuesday\, December 14th! Be a part of the celebration at The Publick House in Sturbridge featuring fantastic food\, a festive atmosphere in a glowing hall\, great prizes and surprises\, a 50/50 Raffle\, and our chance to celebrate the season with you!\n\n \n\nWe will be collecting for\n\nTHE CENTER OF HOPE'S HOLIDAY GIVING PROGRAM\n\nMany of the individuals served by The Center of Hope struggle financially and without help from the Holiday Giving Program\, they may not receive a single gift. By contributing to the Center of Hope's Holiday Giving Program\, you can help put smiles on faces this holiday season. We will have a basket under the tree at the Holiday Fun at Five to collect Gift Cards in denominations of $10 or $20.\n\n(Klem's\, Sadie Greens\, Walmart\, Target\, Amazon\, etc.)\n\nWe thank you for your kindness and generosity!\n\n\n\nCOST\n\n$20 for Members who register\, $25 at the door\, or $30 for non-Members.\n\n\n\nRSVP to REGISTER\n\nby phone at 508-347-2761 or email info@cmschamber.org  \n\n\n\nPLEASE RSVP BY FRIDAY\, DECEMBER 10!\n\nHelp us help our hosts at The Publick House receive an accurate count\,\n\nso they can have plenty of goodies for all of us! Thank you!\n\n\n\nTHANK YOU TO OUR HOLIDAY FUN AT FIVE SPONSOR:\n\nCORNERSTONE BANK\n\n\n\nIn a world where people have more choices than ever about how and where to manage their finances\, Cornerstone Bank inspires a true feeling of confidence among the customers who entrust us with their financial well-being.\n\n \n\nWhere large banks lack personal attention\, and local banks lack depth and expertise\, Cornerstone builds trust with its business and retail customers through respectful\, reliable relationships\, problem-solving proficiency\, and an unwavering commitment to community.\n\n \n\nCornerstone Bank rests on the foundation that relationships are built on trust.\n\n\n\nwww.CornerstoneBank.com
X-ALT-DESC;FMTTYPE=text/html:Join the Chamber of Central Mass South for some holiday cheer with our Members and Guests on the evening of Tuesday\, December 14th! Be a part of the celebration at The Publick House in Sturbridge featuring fantastic food\, a festive atmosphere in a glowing hall\, great prizes and surprises\, a 50/50 Raffle\, and our chance to celebrate the season with you!<br />\n&nbsp\;<br />\nWe will be collecting for<br />\n<strong>THE CENTER OF HOPE&#39\;S HOLIDAY GIVING PROGRAM</strong><br />\nMany of the individuals served by The Center of Hope struggle financially and without help from the Holiday Giving Program\, they may not receive a single gift. By contributing to the Center of Hope&#39\;s Holiday Giving Program\, you can help put smiles on faces this holiday season. We will have a basket under the tree at the Holiday Fun at Five to collect Gift Cards in denominations of $10 or $20.<br />\n(Klem&#39\;s\, Sadie Greens\, Walmart\, Target\, Amazon\, etc.)<br />\nWe thank you for your kindness and generosity!<br />\n<br />\n<strong>COST</strong><br />\n$20 for Members who register\, $25 at the door\, or $30 for non-Members.<br />\n<br />\n<strong>RSVP to REGISTER</strong><br />\nby phone at 508-347-2761 or email info@cmschamber.org &nbsp\;<br />\n<br />\n<strong>PLEASE RSVP BY FRIDAY\, DECEMBER 10!</strong><br />\nHelp us help our hosts at The Publick House receive an accurate count\,<br />\nso they can have plenty of goodies for all of us! Thank you!<br />\n<br />\n<strong>THANK YOU TO OUR HOLIDAY FUN AT FIVE SPONSOR:</strong><br />\nCORNERSTONE BANK<br />\n<br />\nIn a world where people have more choices than ever about how and where to manage their finances\, Cornerstone Bank inspires a true feeling of confidence among the customers who entrust us with their financial well-being.<br />\n&nbsp\;<br />\nWhere large banks lack personal attention\, and local banks lack depth and expertise\, Cornerstone builds trust with its business and retail customers through respectful\, reliable relationships\, problem-solving proficiency\, and an unwavering commitment to community.<br />\n&nbsp\;<br />\nCornerstone Bank rests on the foundation that relationships are built on trust.<br />\n<br />\nwww.CornerstoneBank.com
LOCATION:The Publick House 277 Main Street\, On the Common\, Sturbridge\, 508-347-3313 www.PublickHouse.com
UID:e.2083.13647
SEQUENCE:3
DTSTAMP:20260422T050503Z
URL:https://business.cmschamber.org/events/details/cms-holiday-fun-at-five-13647
END:VEVENT

END:VCALENDAR
