BEGIN:VCALENDAR
VERSION:2.0
PRODID:-//ChamberMaster//Event Calendar 2.0//EN
METHOD:PUBLISH
X-PUBLISHED-TTL:P3D
REFRESH-INTERVAL:P3D
CALSCALE:GREGORIAN
BEGIN:VEVENT
DTSTART:20220607T160000Z
DTEND:20220607T170000Z
X-MICROSOFT-CDO-ALLDAYEVENT:FALSE
SUMMARY:CMS - Leadership Lessons Learned from the Covid-19 Pandemic
DESCRIPTION:BROWN BAG SEMINAR\n\nLeadership Lessons Learned from the Covid-19 Pandemic\n\nPresented by Rita Schiano\, Founder\, Live A Flourishing Life   \n\nJune 7\, Noon to 1:00PM\n\nCMS Chamber office\, 46 Hall Road\, Sturbridge\n\n \n\nFREE for Chamber Members\, $15 for non-Members. Space is Limited! Please RSVP.\n\nCall 508-347-2761 or email info@cmschamber.org to save your spot!\n\n \n\nThere are numerous challenges still facing businesses in the "new normal" of COVID-19. Managing these multiple challenges has left many of us feeling stressed\, fatigued and wondering how best to survive and thrive during the unprecedented professional and personal challenges of our times. This session\, presented by resilience strategist Rita Schiano\, will focus on how managing energy and positive framing are vital leadership methodologies. Rita will address these and the skills and attitudes of resilient leadership necessary to get through these challenging times.\n\n \n\nAbout the Presenter: Rita Schiano\n\nRita Schiano is a resilience strategist and coach\, speaker\, and founder of Rita Schiano ~ Live A Flourishing Life . A former corporate vice-president and small business owner\, Rita's leadership knowledge\, strategies\, and insights draw from both sides of the aisle. Organizations use Rita to help staff build resilient leadership skills\, manage stress\, and improve morale.\n\n \n\nAs a personal strategic coach\, Rita helps clients focus specifically on their most important goals\, interests\, challenges\, and needs. She received her Strategic Intervention Coaching Certificate from Robbins-Madanes.\n\n \n\nThe author of several books\, including Live A Flourishing Life\, a stress management and resilience-building process workbook\; the critically-acclaimed\, semi-autobiographical novel Painting The Invisible Man\, and Sweet Bitter Love\, Rita has written numerous articles for The Huffington Post / AOL Healthy Living and is a guest blogger for Psychology Today.\n\n \n\nRita is an adjunct professor at The American Women's College and Bay Path University and a past Professional Member of the National Speakers Association.\n\n \n\nLearn more online at www.ritaschiano.com.
X-ALT-DESC;FMTTYPE=text/html:<strong>BROWN BAG SEMINAR<br />\nLeadership Lessons Learned from the Covid-19 Pandemic</strong><br />\n<strong>Presented by Rita Schiano\, Founder\, Live A Flourishing Life&trade\;&nbsp\; </strong><br />\nJune 7\, Noon to 1:00PM<br />\nCMS Chamber office\, 46 Hall Road\, Sturbridge<br />\n&nbsp\;<br />\nFREE for Chamber Members\, $15 for non-Members. Space is Limited! Please RSVP.<br />\nCall 508-347-2761 or email info@cmschamber.org to save your spot!<br />\n&nbsp\;<br />\nThere are numerous challenges still facing businesses in the &ldquo\;new normal&rdquo\; of COVID-19. Managing these multiple challenges has left many of us feeling stressed\, fatigued and wondering how best to survive and thrive during the unprecedented professional and personal challenges of our times. This session\, presented by resilience strategist Rita Schiano\, will focus on how managing energy and positive framing are vital leadership methodologies. Rita will address these and the skills and attitudes of resilient leadership necessary to get through these challenging times.<br />\n&nbsp\;<br />\n<strong>About the Presenter: Rita Schiano</strong><br />\nRita Schiano is a resilience strategist and coach\, speaker\, and founder of Rita Schiano ~ Live A Flourishing Life&trade\;. A former corporate vice-president and small business owner\, Rita&#39\;s leadership knowledge\, strategies\, and insights draw from both sides of the aisle. Organizations use Rita to help staff build resilient leadership skills\, manage stress\, and improve morale.<br />\n&nbsp\;<br />\nAs a personal strategic coach\, Rita helps clients focus specifically on their most important goals\, interests\, challenges\, and needs. She received her Strategic Intervention Coaching Certificate from Robbins-Madanes.<br />\n&nbsp\;<br />\nThe author of several books\, including <em>Live A Flourishing Life</em>\, a stress management and resilience-building process workbook\; the critically-acclaimed\, semi-autobiographical novel <em>Painting The Invisible Man</em>\, and <em>Sweet Bitter Love</em>\, Rita has written numerous articles for <em>The Huffington Post / AOL Healthy Living</em> and is a guest blogger for <em>Psychology Today</em>.<br />\n&nbsp\;<br />\nRita is an adjunct professor at The American Women&rsquo\;s College and Bay Path University and a past Professional Member of the National Speakers Association.<br />\n&nbsp\;<br />\nLearn more online at www.ritaschiano.com.<br />\n&nbsp\;
LOCATION:CMS Chamber office\, 46 Hall Road\, Sturbridge
UID:e.2083.13942
SEQUENCE:3
DTSTAMP:20260421T202421Z
URL:https://business.cmschamber.org/events/details/cms-leadership-lessons-learned-from-the-covid-19-pandemic-13942
END:VEVENT

END:VCALENDAR
