BEGIN:VCALENDAR
VERSION:2.0
PRODID:-//ChamberMaster//Event Calendar 2.0//EN
METHOD:PUBLISH
X-PUBLISHED-TTL:P3D
REFRESH-INTERVAL:P3D
CALSCALE:GREGORIAN
BEGIN:VEVENT
DTSTART:20230504T120000Z
DTEND:20230504T133000Z
X-MICROSOFT-CDO-ALLDAYEVENT:FALSE
SUMMARY:CMS - Legislative Breakfast: Secretary of Economic Development Yvonne Hao
DESCRIPTION:Legislative Breakfast\n\nYvonne Hao\n\nSecretary of the Executive Office of Economic Development\n\nThursday\, May 4\, 2023\, 8:00am-9:30am\n\nThe Barn at Wight Farm\, 420 Main Street\, Sturbridge\, MA\n\n\n\nSponsored by UMass Memorial Health - Harrington\n\n\n\nJoin us for a breakfast event with Yvonne Hao\, Secretary of Economic Development\, at The Barn at Wight Farm on the morning of Thursday\, May 4th. Secretary Hao will share her views and there will be time for your questions. The cost is to attend is $35 per person. RSVP is required. Call 508-347-2761 or email info@cmschamber.org to reserve. The deadline for reservations is April 28.\n\n\n\nThe Agenda\n\n8:00 Registration & Breakfast\n\n8:30 Secretary Hao\n\n9:00 Questions & Answers\n\n9:30 Closing & Adjourn\n\n\n\nThe Menu\n\nBreakfast Buffet\n\nSliced Fruit Platter\n\nScrambled Eggs\n\nNew England Style Home Fries\n\nApplewood Smoked Bacon\n\nFrench Toast (warm maple syrup and berries)\n\nCoffee and Tea Station\n\nOrange and Cranberry Juice\n\nAssorted Muffins\, Cakes and Pastries\n\n\n\nThe cost to attend is $35 per person.\n\nPurchase tickets by phone or email by April 28.\n\n\n\nChamber of Central Mass South\n\n508-347-2761\n\nemail: info@cmschamber.org\n\n\n\nABOUT Secretary Hao\n\nYvonne Hao is the Secretary of the Executive Office of Economic Development. She has had more than 25 years of executive business experience as a senior executive\, including as Co-founder\, Advisor\, and Managing Director at investment firm Cove Hill Partners and as an Operating Partner at Pillar Ventures. Previously\, she was the Chief Operating Officer and Chief Financial Officer of PillPack\, an online pharmacy that was acquired by Amazon in 2018. She is also a former Operating Partner at Bain Capital. In addition\, Hao has been a Board Director of companies such as CarGurus\, Flywire\, Gentherm\, ZipRecruiter\, and Bose. She also has been involved in the community\, is the Vice Chair of the Board of Trustees of Beth Israel Lahey Health\, and a Trustee Emeriti of her alma mater\, Williams College. She lives in Williamstown and Cambridge\, and is a graduate of Williams College and the University of Cambridge.\n\n\n\nThank you to our Sponsor\n\nUMASS Memorial Health   Harrington\n\nwww.HarringtonHospital.org
X-ALT-DESC;FMTTYPE=text/html:<strong>Legislative Breakfast<br />\nYvonne Hao<br />\nSecretary of the Executive Office of Economic Development</strong><br />\nThursday\, May 4\, 2023\, 8:00am-9:30am<br />\nThe Barn at Wight Farm\, 420 Main Street\, Sturbridge\, MA<br />\n<br />\n<strong>Sponsored by UMass Memorial Health - Harrington</strong><br />\n<br />\nJoin us for a breakfast event with Yvonne Hao\, Secretary of Economic Development\, at The Barn at Wight Farm on the morning of Thursday\, May 4th. Secretary Hao will share her views and there will be time for your questions. The cost is to attend is $35 per person. RSVP is required. Call 508-347-2761 or email info@cmschamber.org to reserve. <strong>The deadline for reservations is April 28.</strong><br />\n<br />\n<strong>The Agenda</strong><br />\n8:00 Registration &amp\; Breakfast<br />\n8:30 Secretary Hao<br />\n9:00 Questions &amp\; Answers<br />\n9:30 Closing &amp\; Adjourn<br />\n<br />\n<strong>The Menu</strong><br />\nBreakfast Buffet<br />\nSliced Fruit Platter<br />\nScrambled Eggs<br />\nNew England Style Home Fries<br />\nApplewood Smoked Bacon<br />\nFrench Toast (warm maple syrup and berries)<br />\nCoffee and Tea Station<br />\nOrange and Cranberry Juice<br />\nAssorted Muffins\, Cakes and Pastries<br />\n<br />\nThe cost to attend is $35 per person.<br />\nPurchase tickets by phone or email by April 28.<br />\n<br />\n<strong>Chamber of Central Mass South<br />\n508-347-2761<br />\nemail: <a href="mailto:info@cmschamber.org?subject=Legislative%20Breakfast%20May%204">info@cmschamber.org</a></strong><br />\n<br />\n<strong>ABOUT Secretary Hao</strong><br />\nYvonne Hao is the Secretary of the Executive Office of Economic Development. She has had more than 25 years of executive business experience as a senior executive\, including as Co-founder\, Advisor\, and Managing Director at investment firm Cove Hill Partners and as an Operating Partner at Pillar Ventures. Previously\, she was the Chief Operating Officer and Chief Financial Officer of PillPack\, an online pharmacy that was acquired by Amazon in 2018. She is also a former Operating Partner at Bain Capital. In addition\, Hao has been a Board Director of companies such as CarGurus\, Flywire\, Gentherm\, ZipRecruiter\, and Bose. She also has been involved in the community\, is the Vice Chair of the Board of Trustees of Beth Israel Lahey Health\, and a Trustee Emeriti of her alma mater\, Williams College. She lives in Williamstown and Cambridge\, and is a graduate of Williams College and the University of Cambridge.<br />\n<br />\n<strong>Thank you to our Sponsor<br />\n<span style="font-size:18px">UMASS Memorial Health &ndash\; Harrington</span></strong><br />\n<a href="https://www.harringtonhospital.org/">www.HarringtonHospital.org</a><br />\n&nbsp\;
LOCATION:The Barn at Wight Farm\, 420 Main Street\, Sturbridge\, MA
UID:e.2083.15918
SEQUENCE:3
DTSTAMP:20260421T042631Z
URL:https://business.cmschamber.org/events/details/cms-legislative-breakfast-secretary-of-economic-development-yvonne-hao-15918
END:VEVENT

END:VCALENDAR
