BEGIN:VCALENDAR
VERSION:2.0
PRODID:-//ChamberMaster//Event Calendar 2.0//EN
METHOD:PUBLISH
X-PUBLISHED-TTL:P3D
REFRESH-INTERVAL:P3D
CALSCALE:GREGORIAN
BEGIN:VEVENT
DTSTART:20240301T000000Z
DTEND:20240301T020000Z
X-MICROSOFT-CDO-ALLDAYEVENT:FALSE
SUMMARY:CMS - Medium Night with Gary McKinstry
DESCRIPTION:Medium Night with Gary McKinstry\n\nJoin the Chamber of Central Mass South at Southbridge Hotel & Conference Center for a mind-blowing night with Gary McKinstry\, the incredible Psychic Medium Entertainer\, on February 29\, 2024\, at 7:00pm.\n\n\n\nInternationally known Psychic Medium Entertainer\, Gary McKinstry\, will share his gift to connect with the spirit world and bring intuitive messages to our guests at the Chamber's second annual Medium Night. Gary's work as a psychic medium for over 30 years not only includes clients in the USA\, but also Brazil\, France\, Australia\, Germany and Canada. Whether one on one or in a large arena\, Gary is dedicated to helping people in all walks of life and death and will deliver your messages with style.\n\n\n\nGary is from Dudley\, MA and he attended Bay Path Regional Vocational Technical High School. He is well known locally for his appearances at The Publick House Historic Inn. Gary has appeared on live radio shows throughout New England since 1995\, made TV appearances\, and is featured in several printed publications. Gary and his wife Virginia currently reside in Norway\, Maine.\n\n\n\nTo learn more about Gary and his work visit www.garymckinstry.com. https://www.garymckinstry.com/\n\nTickets are $50 for CMS Chamber members and their employees\, or $55 for non-Members. Cash bar.\n\nThis intimate and enlightening evening with Gary is limited to 100 attendees\, so get your tickets now!\n\n\n\nConsider dining out locally before the event! Shades Lounge at Southbridge Hotel offers New England-style comfort food and craft beers. Fins & Tales and Honest Town Eats are also close by! Pick your favorite and make your evening even more memorable!\n\n \n\nQuestions? For tickets and info give the Chamber a call at 508-347-2761 or email info@cmschamber.org.\n\n \n\nWith Gratitude to our Sponsor: Steve's Collision Center\, Inc.\n\nDedicated to Perfection - Complete satisfaction is our #1 priority at Steve's Collision Center\, Inc. We understand being in an accident is a significant inconvenience\, and we are here to help. We work with all insurance companies\, but most importantly\, we work for you as our customer. Our main goal is to exceed your expectations. That's what it takes to be the best!\n\n \n\nSteve's Collision Center\n\n210 Charlton Road\, Route 20\, Sturbridge\, MA\n\n508-347-9116\n\nhttps://www.stevescollision.com/
X-ALT-DESC;FMTTYPE=text/html:<strong>Medium Night with Gary McKinstry</strong><br />\nJoin the Chamber of Central Mass South at Southbridge Hotel &amp\; Conference Center for a mind-blowing night with Gary McKinstry\, the incredible Psychic Medium Entertainer\, on February 29\, 2024\, at 7:00pm.<br />\n<br />\nInternationally known Psychic Medium Entertainer\, Gary McKinstry\, will share his gift to connect with the spirit world and bring intuitive messages to our guests at the Chamber&rsquo\;s second annual Medium Night. Gary&rsquo\;s work as a psychic medium for over 30 years not only includes clients in the USA\, but also Brazil\, France\, Australia\, Germany and Canada. Whether one on one or in a large arena\, Gary is dedicated to helping people in all walks of life and death and will deliver your messages with style.<br />\n<br />\nGary is from Dudley\, MA and he attended Bay Path Regional Vocational Technical High School. He is well known locally for his appearances at The Publick House Historic Inn. Gary has appeared on live radio shows throughout New England since 1995\, made TV appearances\, and is featured in several printed publications. Gary and his wife Virginia currently reside in Norway\, Maine.<br />\n<br />\n<strong>To learn more about Gary</strong> and his work visit <a href="http://www.garymckinstry.com">www.garymckinstry.com</a>. https://www.garymckinstry.com/<br />\n<strong>Tickets are $50 for CMS Chamber members and their employees</strong>\, or <strong>$55 for non-Members</strong>. Cash bar.<br />\nThis intimate and enlightening evening with Gary is limited to 100 attendees\, so get your tickets now!<br />\n<br />\n<strong>Consider dining out locally before the event!</strong> <a href="https://www.southbridgehotel.com/dining.html">Shades Lounge at Southbridge Hotel</a> offers New England-style comfort food and craft beers. <a href="https://www.finsandtales858.com/">Fins &amp\; Tales</a> and <a href="https://www.honesttowneats.com/">Honest Town Eats</a> are also close by! Pick your favorite and make your evening even more memorable!<br />\n&nbsp\;<br />\n<strong>Questions?</strong> For tickets and info give the Chamber a call at 508-347-2761 or email <a href="mailto:info@cmschamber.org">info@cmschamber.org</a>.<br />\n&nbsp\;<br />\n<strong>With Gratitude to our Sponsor: Steve&rsquo\;s Collision Center\, Inc.</strong><br />\n<em>Dedicated to Perfection</em> - Complete satisfaction is our #1 priority at Steve&rsquo\;s Collision Center\, Inc. We understand being in an accident is a significant inconvenience\, and we are here to help. We work with all insurance companies\, but most importantly\, we work for you as our customer. Our main goal is to exceed your expectations. That&rsquo\;s what it takes to be the best!<br />\n&nbsp\;<br />\n<strong>Steve&rsquo\;s Collision Center</strong><br />\n210 Charlton Road\, Route 20\, Sturbridge\, MA<br />\n508-347-9116<br />\n<a href="https://www.stevescollision.com/">https://www.stevescollision.com/</a><br />\n&nbsp\;
LOCATION:Southbridge Hotel & Conference Center 14 Mechanic Street Southbridge\, MA 01550
UID:e.2083.17207
SEQUENCE:3
DTSTAMP:20260420T102231Z
URL:https://business.cmschamber.org/events/details/cms-medium-night-with-gary-mckinstry-17207
END:VEVENT

END:VCALENDAR
