BEGIN:VCALENDAR
VERSION:2.0
PRODID:-//ChamberMaster//Event Calendar 2.0//EN
METHOD:PUBLISH
X-PUBLISHED-TTL:P3D
REFRESH-INTERVAL:P3D
CALSCALE:GREGORIAN
BEGIN:VEVENT
DTSTART:20221018T210000Z
DTEND:20221018T230000Z
X-MICROSOFT-CDO-ALLDAYEVENT:FALSE
SUMMARY:CMS - Pizza Party Networking!
DESCRIPTION:Pizza Party Networking!\n\nTuesday\, October 18\, 5:00-7:00pm\n\nCHAMBER OF CENTRAL MASS SOUTH OFFICES\n\n46 Hall Road\, 2nd Floor\, Sturbridge\, MA\nLet's try something new for our first get-together of the fall season!\n\n\n\nYou are cordially invited to network with your fellow members and grab a hot slice (or several) as we host a pizza party right here at our Hall Road offices. Enjoy colorful views of the woods out back as you relax and catch up with your friends. We will supply the pizza pies and soft drinks!\n\n\n\nJust give us a ring or email to RSVP and let us know your favorite pizza topping while you're at it! \n\nWe hope to see you there!\n\n\n\nRSVP by email or phone. 508-347-2761\n\n\n\nCost is $10 for CMS Chamber Members ($20 for non-Members)
X-ALT-DESC;FMTTYPE=text/html:<strong><span style="font-size:24px">Pizza Party Networking!</span><br />\nTuesday\, October 18\, 5:00-7:00pm</strong><br />\nCHAMBER OF CENTRAL MASS SOUTH OFFICES<br />\n46 Hall Road\, 2nd Floor\, Sturbridge\, MA\n<p>Let&#39\;s try something new for our first get-together of the fall season!<br />\n<br />\nYou are cordially invited to network with your fellow members and grab a hot slice (or several) as we host a pizza party right here at our Hall Road offices. Enjoy colorful views of the woods out back as you relax and catch up with your friends. We will supply the pizza pies and soft drinks!<br />\n<br />\nJust give us a ring or email to RSVP and let us know <em>your</em> favorite pizza topping while you&#39\;re at it!&nbsp\;</p>\n\n<p>We hope to see you there!<br />\n<br />\n<strong>RSVP </strong>by <a href="mailto:info@cmschamber.org" style="user-select: auto\;">email</a> or phone. 508-347-2761<br />\n<br />\n<strong>Cost</strong> is $10 for CMS Chamber Members ($20 for non-Members)</p>\n
LOCATION:CMS Chamber offices 46 Hall Road\, 2nd floor Sturbridge\, MA
UID:e.2083.14744
SEQUENCE:3
DTSTAMP:20260421T154556Z
URL:https://business.cmschamber.org/events/details/cms-pizza-party-networking-14744
END:VEVENT

END:VCALENDAR
