BEGIN:VCALENDAR
VERSION:2.0
PRODID:-//ChamberMaster//Event Calendar 2.0//EN
METHOD:PUBLISH
X-PUBLISHED-TTL:P3D
REFRESH-INTERVAL:P3D
CALSCALE:GREGORIAN
BEGIN:VEVENT
DTSTART:20230331T203000Z
DTEND:20230331T213000Z
X-MICROSOFT-CDO-ALLDAYEVENT:FALSE
SUMMARY:CMS - Ribbon Cutting Celebration: Deep Roots Distillery USA
DESCRIPTION:You are invited to a Ribbon Cutting Ceremony!\n\nDeep Roots Distillery USA\n\n559 Main Street\, Sturbridge Marketplace\, Unit 209\, Sturbridge\, MA\n\nwww.deeprootsdistilleryusa.com\n\n \n\nFriday\, March 31\, 2023\, 4:30 - 5:30pm\n\n\n\nThe Chamber of Central Mass South cordially invites you to attend a Ribbon Cutting Ceremony to welcome Deep Roots Distillery USA to Sturbridge! Please join us on Friday\, March 31st from 4:30 to 5:30pm as we snip the red ribbon and officially welcome the public to Deep Roots' home in Sturbridge Marketplace at the Falls.\n\n\n\nMeet the team responsible for this unique new experience in town and discover the Deep Roots difference! At Deep Roots Distillery\, you'll see the difference from the moment you step up to the bar. This small business with family ideals pairs local ingredients to create the perfect marriage of flavors. The difference comes out in the taste of their in-house distilled Rum\, Moonshine\, Vodka\, Whiskey and Liqueurs! Visit online to see what they're pouring today and follow Deep Roots on social media to keep up with new items and offerings!\n\n\n\nThe distillery's owners are deeply rooted in our community focusing on partnerships that involve our neighbors as they partner with local Apiaries and Sugar Shacks for their spirits and Dairies & Farms for their small bites menu. It's a community effort at Deep Roots and that's something that will never change. "We are so happy to be able to bring what we do to south central Massachusetts and being able to support other local\, small businesses and farms while doing it\," says Deep Roots co-owner Errica Devarenne.\n\n\n\nAt the Ribbon Cutting celebration\, guests will receive small gifts of appreciation just for attending the event and chances to win a raffle! Enjoy complimentary snacks and drinks to purchase until 5:30.\n\n\n\nWhy not stick around after the ceremony and make an evening of it? Kick off your weekend at Deep Roots with live music starting at 6:00pm on this Friday night!\n\n\n\nThe Chamber of Central Mass South will present the Ribbon Cutting ceremony at 4:30pm sharp. Local dignitaries will be on hand and the snipping of the official red ribbon will be immediately followed by the open house and celebration! We invite everyone to join in as the Chamber and our guests provide a warm welcome and best wishes for the future to the folks at Deep Roots Distillery USA!\n\n \n\nAll are welcome to attend. There is no cost and no need to RSVP.
X-ALT-DESC;FMTTYPE=text/html:<div><span style="font-size:14px">You are invited to a Ribbon Cutting Ceremony!</span></div>\n\n<div><span style="font-size:18px"><strong>Deep Roots Distillery USA</strong></span><br />\n<span style="font-size:14px">559 Main Street\, Sturbridge Marketplace\, Unit 209\, Sturbridge\, MA<br />\n<a class="x1i10hfl xjbqb8w x6umtig x1b1mbwd xaqea5y xav7gou x9f619 x1ypdohk xt0psk2 xe8uvvx xdj266r x11i5rnm xat24cr x1mh8g0r xexx8yu x4uap5 x18d9i69 xkhd6sd x16tdsg8 x1hl2dhg xggy1nq x1a2a7pz xt0b8zv x1fey0fg" href="http://www.deeprootsdistilleryusa.com/?fbclid=IwAR1SnVY_bkj_g_8pgRHmw0FMVq0Cbkt7vswQ_qdy0Rn_aNJInn0EbOznQnU" rel="nofollow noopener" tabindex="0" target="_blank">www.deeprootsdistilleryusa.com</a></span><br />\n&nbsp\;</div>\n\n<div><span style="font-size:16px"><strong>Friday\, March 31\, 2023\, 4:30 - 5:30pm</strong></span></div>\n\n<div><br />\n<span style="font-size:14px">The Chamber of Central Mass South cordially invites you to attend a Ribbon Cutting Ceremony to welcome Deep Roots Distillery USA to Sturbridge! Please join us on Friday\, March 31st from 4:30 to 5:30pm as we snip the red ribbon and officially welcome the public to Deep Roots&#39\; home in Sturbridge Marketplace at the Falls.</span></div>\n\n<div><br />\n<span style="font-size:14px">Meet the team responsible for this unique new experience in town and discover the Deep Roots difference! At Deep Roots Distillery\, you&#39\;ll see the difference from the moment you step up to the bar. This small business with family ideals pairs local ingredients to create the perfect marriage of flavors. The difference comes out in the taste of their in-house distilled Rum\, Moonshine\, Vodka\, Whiskey and Liqueurs! Visit online to see what they&#39\;re pouring today and follow Deep Roots on social media to keep up with new items and offerings!</span></div>\n\n<div><br />\n<span style="font-size:14px">The distillery&#39\;s owners are deeply rooted in our community focusing on partnerships that involve our neighbors as they partner with local Apiaries and Sugar Shacks for their spirits and Dairies &amp\; Farms for their small bites menu. It&#39\;s a community effort at Deep Roots and that&#39\;s something that will never change. &quot\;We are so happy to be able to bring what we do to south central Massachusetts and being able to support other local\, small businesses and farms while doing it\,&quot\; says Deep Roots co-owner Errica Devarenne.</span></div>\n\n<div><br />\n<span style="font-size:14px">At the Ribbon Cutting celebration\, guests will receive small gifts of appreciation just for attending the event and chances to win a raffle! Enjoy complimentary snacks and drinks to purchase until 5:30.</span></div>\n\n<div><br />\n<span style="font-size:14px">Why not stick around after the ceremony and make an evening of it? Kick off your weekend at Deep Roots with live music starting at 6:00pm on this Friday night!</span></div>\n\n<div><br />\n<span style="font-size:14px">The Chamber of Central Mass South will present the Ribbon Cutting ceremony at 4:30pm sharp. Local dignitaries will be on hand and the snipping of the official red ribbon will be immediately followed by the open house and celebration! We invite everyone to join in as the Chamber and our guests provide a warm welcome and best wishes for the future to the folks at Deep Roots Distillery USA!</span><br />\n&nbsp\;</div>\n\n<div><span style="font-size:14px"><strong>All are welcome to attend. There is no cost and no need to RSVP.</strong></span></div>\n
LOCATION:559 Main Street\, Sturbridge Marketplace\, Unit 209\, Sturbridge\, MA
UID:e.2083.15475
SEQUENCE:3
DTSTAMP:20260421T055629Z
URL:https://business.cmschamber.org/events/details/cms-ribbon-cutting-celebration-deep-roots-distillery-usa-15475
END:VEVENT

END:VCALENDAR
