BEGIN:VCALENDAR
VERSION:2.0
PRODID:-//ChamberMaster//Event Calendar 2.0//EN
METHOD:PUBLISH
X-PUBLISHED-TTL:P3D
REFRESH-INTERVAL:P3D
CALSCALE:GREGORIAN
BEGIN:VEVENT
DTSTART:20221121T200000Z
DTEND:20221121T230000Z
X-MICROSOFT-CDO-ALLDAYEVENT:FALSE
SUMMARY:CMS - Ribbon Cutting Ceremony & Grand Opening: Form First Physical Therapy
DESCRIPTION:Ribbon Cutting Ceremony & Grand Opening!\n\nForm First Physical Therapy\n\n48 Main Street\, Unit B\, Sturbridge\n\nMonday\, November 21\, 3:00-6:00pm\n\n \n\nYou are invited to attend a Ribbon Cutting Ceremony and Grand Opening celebration at Form First Physical Therapy on Monday\, November 21\, from 3:00pm-6:00pm. The new office is located at 48 Main Street (Rte. 131) in Sturbridge. \n\n \n\nForm First Physical Therapy provides personalized treatment options for all of their patients. Whether you are returning to sports\, recovering from surgery\, suffering with chronic pain or seeking to improve mobility\, Form First Doctors take the time to address your needs and work with you to establish an individualized plan of care every time. \n\n \n\nFeatured Services include: Sports Injury Rehabilitation\, Pre and Post Surgical Rehabilitation\, Chronic Pain Management\, Mobile in-home or Virtual Therapy Options. Visit online for more details!\n\n \n\nThe Ribbon Cutting ceremony will be presented by the Chamber of Central Mass South at 3:00pm with local dignitaries and the snipping of the official red ribbon. After the ceremony\, all are invited to meet the owners\, Nick Murray PT DPT and Christina Murray PT DPT\, enjoy light appetizers and a glass of wine. \n\n \n\nGuests will have the opportunity to "Ask a PT" and get a professional opinion on any injury or pain they might have\, as well as receive a free fall risk/balance assessment. Form First will also offer raffles for local restaurant gift cards at their Grand Opening! \n\n \n\nEveryone is welcome to attend. There is no cost and no need to RSVP. Just come on by and join in as the Chamber and our guests provide a warm Sturbridge welcome and best wishes to our newest members!\n\n \n\nLearn more about Form First Physical Therapy at their website: www.formfirstpt.com. Reach them by phone at (774)-318-8272. \n\nFollow Form First Physical Therapy on Facebook here.
X-ALT-DESC;FMTTYPE=text/html:<strong><em><span style="color:#A61D24"><span style="font-family:georgia\,serif"><span style="font-size:15.0pt">Ribbon Cutting Ceremony &amp\; Grand Opening!</span></span></span></em></strong><br />\n<strong><span style="color:#AC481D"><span style="font-family:georgia\,serif"><span style="font-size:19.5pt">Form First Physical Therapy</span></span></span></strong><br />\n<strong><span style="font-family:georgia\,serif"><span style="font-size:13.5pt">48 Main Street\, Unit B\, Sturbridge</span></span></strong><br />\n<strong><span style="color:#A61D24"><span style="font-family:georgia\,serif"><span style="font-size:15.0pt">Monday\, November 21\, 3:00-6:00pm</span></span></span></strong><br />\n&nbsp\;<br />\n<span style="font-family:georgia\,serif"><span style="font-size:12.0pt">You are invited to attend a Ribbon Cutting Ceremony and Grand Opening celebration at Form First Physical Therapy on Monday\, November 21\, from 3:00pm-6:00pm. The new office is located at 48 Main Street (Rte. 131) in Sturbridge. </span></span><br />\n&nbsp\;<br />\n<span style="font-family:georgia\,serif"><span style="font-size:12.0pt">Form First Physical Therapy provides personalized treatment options for all of their patients. Whether you are returning to sports\, recovering from surgery\, suffering with chronic pain or seeking to improve mobility\, Form First Doctors take the time to address your needs and work with you to establish an individualized plan of care every time. </span></span><br />\n&nbsp\;<br />\n<strong><span style="color:#AC481D"><span style="font-family:georgia\,serif"><span style="font-size:12.0pt">Featured Services include:</span></span></span></strong><strong><span style="font-family:georgia\,serif"><span style="font-size:12.0pt"> Sports Injury Rehabilitation\, Pre and Post Surgical Rehabilitation\, Chronic Pain Management\, Mobile in-home or Virtual Therapy Options. </span></span></strong><a href="https://formfirstpt.com/" target="_blank"><strong><span style="color:#783214"><span style="font-family:georgia\,serif"><span style="font-size:12.0pt">Visit online for more details</span></span></span></strong></a><strong><span style="color:#783214"><span style="font-family:georgia\,serif"><span style="font-size:12.0pt">!</span></span></span></strong><br />\n&nbsp\;<br />\n<span style="font-family:georgia\,serif"><span style="font-size:12.0pt">The Ribbon Cutting ceremony will be presented by the Chamber of Central Mass South at 3:00pm with local dignitaries and the snipping of the official red ribbon. After the ceremony\, all are invited to meet the owners\, Nick Murray PT DPT and Christina Murray PT DPT\, enjoy light appetizers and a glass of wine. </span></span><br />\n&nbsp\;<br />\n<span style="font-family:georgia\,serif"><span style="font-size:12.0pt">Guests will have the opportunity to &ldquo\;Ask a PT&rdquo\; and get a professional opinion on any injury or pain they might have\, as well as receive a free fall risk/balance assessment. Form First will also offer raffles for local restaurant gift cards at their Grand Opening!&nbsp\;</span></span><br />\n&nbsp\;<br />\n<span style="font-family:georgia\,serif"><span style="font-size:12.0pt">Everyone is welcome to attend. <strong>There is no cost and no need to RSVP. </strong>Just come on by and join in as the Chamber and our guests provide a warm Sturbridge welcome and best wishes to our newest members!</span></span><br />\n&nbsp\;<br />\n<strong><span style="font-family:georgia\,serif"><span style="font-size:12.0pt">Learn more about Form First Physical Therapy </span></span></strong><span style="font-family:georgia\,serif"><span style="font-size:12.0pt">at their website: </span></span><a href="https://formfirstpt.com/" target="_blank"><span style="color:#783214"><span style="font-family:georgia\,serif"><span style="font-size:12.0pt">www.formfirstpt.com</span></span></span></a><span style="font-family:georgia\,serif"><span style="font-size:12.0pt">. Reach them by phone at (774)-318-8272. </span></span><br />\n<span style="font-family:georgia\,serif"><span style="font-size:12.0pt">Follow <strong>Form First Physical Therapy </strong></span></span><a href="https://www.facebook.com/profile.php?id=100085918773635" target="_blank"><span style="color:#005487"><span style="font-family:georgia\,serif"><span style="font-size:12.0pt">on Facebook here</span></span></span></a><span style="font-family:georgia\,serif"><span style="font-size:12.0pt">.</span></span><br />\n&nbsp\;
LOCATION:Form First Physical Therapy 48 Main Street\, Unit B\, Sturbridge
UID:e.2083.14857
SEQUENCE:3
DTSTAMP:20260421T125846Z
URL:https://business.cmschamber.org/events/details/cms-ribbon-cutting-ceremony-grand-opening-form-first-physical-therapy-14857
END:VEVENT

END:VCALENDAR
