BEGIN:VCALENDAR
VERSION:2.0
PRODID:-//ChamberMaster//Event Calendar 2.0//EN
METHOD:PUBLISH
X-PUBLISHED-TTL:P3D
REFRESH-INTERVAL:P3D
CALSCALE:GREGORIAN
BEGIN:VEVENT
DTSTART:20231215T200000Z
DTEND:20231215T210000Z
X-MICROSOFT-CDO-ALLDAYEVENT:FALSE
SUMMARY:CMS - Ribbon Cutting for Honest Town Eats
DESCRIPTION:You're Invited to a Ribbon Cutting Ceremony! \n\n \n\nHonest Town Eats\n\n13 Central Street\, Southbridge\, MA\n\nwww.HonestTownEats.com?\n\n508-909-6738\n\n \n\nFriday\, December 15 at 3:00pm\n\n \n\nAll are invited to join in on Friday\, December 15th at 3:00pm as the Chamber cuts the official red ribbon to welcome our newest member business\, Honest Town Eats\, to Southbridge! Offering Gastro-Pub style food made with a pinch of culture and a sprinkle of class\, Honest Town Eats serves unique dishes created and prepared by Chef Michael Arrastia and a perfectly curated cocktail selection by Kaynen Marrero. \n\n \n\nSample some tasty appetizers! Enjoy a drink from the cash bar. You could win a gift certificate to Honest Town Eats just for attending! Meet the HTE team and wish them well!\n\n \n\nCome see what all the buzz is about and discover the cozy vibes\, good food\, great beats and an inviting atmosphere that is so good you'll never want to leave!\n\n \n\nFor more\, visit online at www.honesttowneats.com\n\nContact HTE by phone at 508-909-6738. \n\nFollow and Like HTE: On Facebook and Instagram\n\n \n\nAll are welcome to attend. There is no cost and no need to RSVP.
X-ALT-DESC;FMTTYPE=text/html:<span style="font-size:12px"><strong><em><span style="font-family:georgia\,serif">You&#39\;re Invited to a Ribbon Cutting Ceremony! </span></em></strong><br />\n&nbsp\;<br />\n<strong><span style="color:#262222"><span style="font-family:georgia\,serif">Honest Town Eats</span></span></strong><br />\n<strong><span style="font-family:georgia\,serif">13 Central Street\, Southbridge\, MA</span></strong><br />\n<a href="https://www.honesttowneats.com/" target="_blank"><span style="color:#262222"><span style="font-family:georgia\,serif">www.HonestTownEats.com</span></span>?</a><br />\n<span style="font-family:georgia\,serif">508-909-6738</span><br />\n&nbsp\;<br />\n<strong><span style="font-family:georgia\,serif">Friday\, December 15</span></strong> at <strong><span style="font-family:georgia\,serif">3:00pm</span></strong><br />\n&nbsp\;<br />\n<span style="color:#333333"><span style="font-family:georgia\,serif">All are invited to join in on <strong>Friday\, December 15th at 3:00pm</strong> as the Chamber cuts the official red ribbon to welcome our newest member business\, <strong>Honest Town Eats\,</strong> to Southbridge! Offering Gastro-Pub style food made with a pinch of culture and a sprinkle of class\, <strong>Honest Town Eats</strong> serves unique dishes created and prepared by <strong>Chef Michael Arrastia</strong> and a perfectly curated cocktail selection by <strong>Kaynen Marrero</strong>. </span></span><br />\n&nbsp\;<br />\n<span style="color:#333333"><span style="font-family:georgia\,serif">Sample some tasty appetizers! Enjoy a drink from the cash bar. You could win a gift certificate to Honest Town Eats just for attending! Meet the HTE team and wish them well!</span></span><br />\n&nbsp\;<br />\n<span style="color:#333333"><span style="font-family:georgia\,serif">Come see what all the buzz is about and discover the <strong>cozy vibes</strong>\, <strong>good food</strong>\, <strong>great beats</strong> and an<strong> inviting atmosphere</strong> that is so good you&#39\;ll never want to leave!</span></span><br />\n&nbsp\;<br />\n<strong><span style="color:#333333"><span style="font-family:georgia\,serif">For more\, visit online at</span></span></strong> <a href="https://www.honesttowneats.com/" target="_blank"><span style="font-family:georgia\,serif">www.honesttowneats.com</span></a><br />\n<strong><span style="color:#333333"><span style="font-family:georgia\,serif">Contact HTE by phone</span></span></strong><span style="color:black"><span style="font-family:georgia\,serif"> at </span></span><span style="font-family:georgia\,serif">508-909-6738<span style="color:black">. </span></span><br />\n<strong><span style="color:#333333"><span style="font-family:georgia\,serif">Follow and Like HTE:</span></span></strong><span style="color:black"><span style="font-family:georgia\,serif"> On </span></span><a href="https://www.facebook.com/HonestTownEats" target="_blank"><span style="font-family:georgia\,serif">Facebook</span></a><span style="color:black"><span style="font-family:georgia\,serif"> and </span></span><a href="https://www.instagram.com/honesttowneats/" target="_blank"><span style="font-family:georgia\,serif">Instagram</span></a><br />\n&nbsp\;<br />\n<strong><span style="color:#745700"><span style="font-family:georgia\,serif">All are welcome to attend. There is no cost and no need to RSVP.</span></span></strong></span><br />\n&nbsp\;
LOCATION:Honest Town Eats 13 Central Street\, Southbridge\, MA
UID:e.2083.17134
SEQUENCE:3
DTSTAMP:20260420T134755Z
URL:https://business.cmschamber.org/events/details/cms-ribbon-cutting-for-honest-town-eats-17134
END:VEVENT

END:VCALENDAR
