BEGIN:VCALENDAR
VERSION:2.0
PRODID:-//ChamberMaster//Event Calendar 2.0//EN
METHOD:PUBLISH
X-PUBLISHED-TTL:P3D
REFRESH-INTERVAL:P3D
CALSCALE:GREGORIAN
BEGIN:VEVENT
DTSTART:20220105T170000Z
DTEND:20220105T183000Z
X-MICROSOFT-CDO-ALLDAYEVENT:FALSE
SUMMARY:CMS - Ribbon Cutting/Grand Opening: Premier Exteriors and Design
DESCRIPTION:The Chamber of Central Mass South cordially invites you to attend a Ribbon Cutting Ceremony and Grand Opening at Premier Exteriors and Design on Wednesday\, January 5th from noon to 1:30pm. Located at 500 Main Street\, Sturbridge (Fiskdale)\, the former Bank of America branch location\, Premier Exteriors and Design offers services including metal & asphalt roofing\, vinyl siding\, energy efficient windows and doors\, gutters and gutter protection\, custom decks\, fences and hardscaping options. Premier Exteriors and Design opened for business at their Sturbridge location in September of 2021.\n\nThe Grand Opening event will feature a Ribbon Cutting ceremony presented by the Chamber of Central Mass South\, presentations by local dignitaries\, and opportunities for guests to meet the staff and tour the showroom. There will be light refreshments\, coffee and soft drinks\, and guests who place an order for services on this day will receive a 5% discount. All are welcome to attend. There is no cost and no need to RSVP. Just swing by and join in as the Chamber and our guests provide a warm Sturbridge welcome and best wishes to this new business.\n\n"We are excited to become members of such a great community\," said Rob Germain\, Event Marketing Manager at Premier Exteriors & Design. "We would love to learn who you are and show you how we can help you save money today and live better tomorrow."\n\nLearn more about Premier Exteriors and Design at their website: www.premierexteriorsanddesign.com. Reach them by phone at 413-207-6074.
X-ALT-DESC;FMTTYPE=text/html:<p>The Chamber of Central Mass South cordially invites you to attend a Ribbon Cutting Ceremony and Grand Opening at Premier Exteriors and Design on Wednesday\, January 5th from noon to 1:30pm. Located at 500 Main Street\, Sturbridge (Fiskdale)\, the former Bank of America branch location\, Premier Exteriors and Design offers services including metal &amp\; asphalt roofing\, vinyl siding\, energy efficient windows and doors\, gutters and gutter protection\, custom decks\, fences and hardscaping options. Premier Exteriors and Design opened for business at their Sturbridge location in September of 2021.</p>\n\n<p>The Grand Opening event will feature a Ribbon Cutting ceremony presented by the Chamber of Central Mass South\, presentations by local dignitaries\, and opportunities for guests to meet the staff and tour the showroom. There will be light refreshments\, coffee and soft drinks\, and guests who place an order for services on this day will receive a 5% discount. All are welcome to attend. There is no cost and no need to RSVP. Just swing by and join in as the Chamber and our guests provide a warm Sturbridge welcome and best wishes to this new business.</p>\n\n<p>&ldquo\;We are excited to become members of such a great community\,&rdquo\; said Rob Germain\, Event Marketing Manager at Premier Exteriors &amp\; Design. &ldquo\;We would love to learn who you are and show you how we can help you save money today and live better tomorrow.&rdquo\;</p>\n\n<p>Learn more about Premier Exteriors and Design at their website: <a href="https://www.premierexteriorsanddesign.com/" rel="noopener" target="_blank">www.premierexteriorsanddesign.com</a>. Reach them by phone at 413-207-6074.</p>\n
LOCATION:Premier Exteriors and Design\, 500 Main Street\, Suite 1\, Sturbridge (Fiskdale) 01518
UID:e.2083.13660
SEQUENCE:3
DTSTAMP:20260422T041017Z
URL:https://business.cmschamber.org/events/details/cms-ribbon-cutting-grand-opening-premier-exteriors-and-design-13660
END:VEVENT

END:VCALENDAR
