BEGIN:VCALENDAR
VERSION:2.0
PRODID:-//ChamberMaster//Event Calendar 2.0//EN
METHOD:PUBLISH
X-PUBLISHED-TTL:P3D
REFRESH-INTERVAL:P3D
CALSCALE:GREGORIAN
BEGIN:VEVENT
DTSTART:20211002T140000Z
DTEND:20211002T170000Z
X-MICROSOFT-CDO-ALLDAYEVENT:FALSE
SUMMARY:CMS -Ribbon Cutting/Re-opening Celebration: Cornerstone Bank
DESCRIPTION:Cornerstone Bank\, a community bank with 12 locations throughout Central Massachusetts\, will host a reopening celebration at its Sturbridge branch located at 200 Charlton Road\, Route 20\, on Saturday\, October 2. The event\, which will unveil new renovations\, will be held from 10:00 am  1:00 pm with CMS Chamber presiding over an official ribbon cutting at noon\n\n"We are excited to celebrate this newly remodeled branch with our community\," said Cornerstone Bank CEO Todd Tallman. "We invite customers and our community to stop by with their family for games\, food\, and entertainment. Come check out our renovated branch\, which has been elevated with a more modern and functional design for our staff and more importantly our customers. I look forward to seeing you there."\n\nThe public is welcome to attend and enjoy fun for the whole family including a bounce house\, face painting\, ice cream truck\, balloon artist\, games\, giveaways\, and more. For more information about Cornerstone Bank and its services\, please visit cornerstonebank.com.
X-ALT-DESC;FMTTYPE=text/html:<p><a href="https://cornerstonebank.com/" rel="noopener" target="_blank">Cornerstone Bank</a>\, a community bank with 12 locations throughout Central Massachusetts\, will host a reopening celebration at its Sturbridge branch located at 200 Charlton Road\, Route 20\, on Saturday\, October 2. The event\, which will unveil new renovations\, will be held from 10:00 am &ndash\;1:00 pm with CMS Chamber presiding over an official ribbon cutting at noon</p>\n\n<p>&ldquo\;We are excited to celebrate this newly remodeled branch with our community\,&rdquo\; said Cornerstone Bank CEO Todd Tallman. &ldquo\;We invite customers and our community to stop by with their family for games\, food\, and entertainment. Come check out our renovated branch\, which has been elevated with a more modern and functional design for our staff and more importantly our customers. I look forward to seeing you there.&rdquo\;</p>\n\n<p>The public is welcome to attend and enjoy fun for the whole family including a bounce house\, face painting\, ice cream truck\, balloon artist\, games\, giveaways\, and more. For more information about Cornerstone Bank and its services\, please visit <a href="http://www.cornerstonebank.com" rel="noopener" target="_blank">cornerstonebank.com</a>.</p>\n
LOCATION:Cornerstone Bank - Sturbridge Branch 200 Charlton Road\, Rte 20\, Sturbridge
UID:e.2083.13152
SEQUENCE:3
DTSTAMP:20260422T075128Z
URL:https://business.cmschamber.org/events/details/cms-ribbon-cutting-re-opening-celebration-cornerstone-bank-13152
END:VEVENT

END:VCALENDAR
