BEGIN:VCALENDAR
VERSION:2.0
PRODID:-//ChamberMaster//Event Calendar 2.0//EN
METHOD:PUBLISH
X-PUBLISHED-TTL:P3D
REFRESH-INTERVAL:P3D
CALSCALE:GREGORIAN
BEGIN:VEVENT
DTSTART:20220716T160000Z
DTEND:20220716T170000Z
X-MICROSOFT-CDO-ALLDAYEVENT:FALSE
SUMMARY:CMS - Ribbon Cutting: Tutti Quanti
DESCRIPTION:The Chamber of Central Mass South cordially invites the public to attend a Ribbon Cutting Ceremony at Tutti Quanti on Saturday\, July 16th from noon to 1:00pm. Located at 538 Main Street\, Sturbridge (Fiskdale)\, Tutti Quanti is an authentic Italian market\, where you will find the highest quality imported Italian products\, and personal service. Discover amazing oils\, vinegars\, cheese\, olives\, cured meats\, pasta\, desserts and much more imported from Italy. \n\nOwners Mike and Laurie Placella are excited to announce their Grand Opening to the public happens when they officially open for business on Saturday\, July 9. The Ribbon Cutting ceremony at Tutti Quanti will be presented by the Chamber of Central Mass South at noon on the following Saturday\, July 16. The ceremony will include presentations by local dignitaries\, opportunities for guests to meet the owners and tour the store\, and the snipping of the official red ribbon. All are welcome to attend. There is no cost and no need to RSVP. Just swing by and join in as the Chamber and our guests provide a warm Sturbridge welcome and best wishes to this new business. \n\nLearn more about Tutti Quanti at their website: www.tuttiquantifoods.com. Reach them by phone at 774-241-0476. Follow the market on Facebook and Instagram by searching TuttiQuantiFoods.
X-ALT-DESC;FMTTYPE=text/html:<p>The Chamber of Central Mass South cordially invites the public to attend a <strong>Ribbon Cutting Ceremony at Tutti Quanti on Saturday\, July 16th from noon to 1:00pm.</strong> Located at 538 Main Street\, Sturbridge (Fiskdale)\, Tutti Quanti is an authentic Italian market\, where you will find the highest quality imported Italian products\, and personal service. Discover amazing oils\, vinegars\, cheese\, olives\, cured meats\, pasta\, desserts and much more imported from Italy.&nbsp\;</p>\n\n<p>Owners Mike and Laurie Placella are excited to announce their Grand Opening to the public happens when they <strong>officially open for business on Saturday\, July 9</strong>. The Ribbon Cutting ceremony at Tutti Quanti will be presented by the Chamber of Central Mass South at noon on the following Saturday\, July 16. The ceremony will include presentations by local dignitaries\, opportunities for guests to meet the owners and tour the store\, and the snipping of the official red ribbon. All are welcome to attend. There is no cost and no need to RSVP. Just swing by and join in as the Chamber and our guests provide a warm Sturbridge welcome and best wishes to this new business.&nbsp\;</p>\n\n<p><strong>Learn more about Tutti Quanti</strong> at their website: <a href="https://www.tuttiquantifoods.com/" rel="noopener noreferrer" style="user-select: auto\;" target="_blank">www.tuttiquantifoods.com</a>. Reach them by phone at 774-241-0476. Follow the market on Facebook and Instagram by searching TuttiQuantiFoods.</p>\n
LOCATION:Tutti Quanti\, 538 Main Street\, Sturbridge\, 01518
UID:e.2083.13974
SEQUENCE:3
DTSTAMP:20260421T184500Z
URL:https://business.cmschamber.org/events/details/cms-ribbon-cutting-tutti-quanti-13974
END:VEVENT

END:VCALENDAR
