BEGIN:VCALENDAR
VERSION:2.0
PRODID:-//ChamberMaster//Event Calendar 2.0//EN
METHOD:PUBLISH
X-PUBLISHED-TTL:P3D
REFRESH-INTERVAL:P3D
CALSCALE:GREGORIAN
BEGIN:VEVENT
DTSTART:20230622T210000Z
DTEND:20230623T000000Z
X-MICROSOFT-CDO-ALLDAYEVENT:FALSE
SUMMARY:CMS - Summer Outing: A New England Clambake
DESCRIPTION:CMS Chamber Summer Outing\n\nA New England Clambake\n\nat The Publick House\n\n277 Main Street\, On The Common\, Sturbridge\, MA 01566\n\nJUNE 22\, 5:00-8:00pm\n\n\n\nCelebrate the first day of summer with a spectacular feast! Join the Chamber of Central Mass South for a traditional New England Clambake hosted by The Publick House! We can't wait to get together with our Members and friends and enjoy a summer clambake! All are welcome! Here are the details!\n\n\n\nTHE MENU\n\nYOUR CHOICE: Lobster\, Steak or Vegetarian Entr e\n\nwith Hors D'oeuvres\, Dinner Rolls\, Clam Chowder\, Mussels\, Cornbread\, Chef's Potato\, Corn on the Cob\, Chef's Vegetable\, Salads\, and Chef's Choice Dessert\n\n\n\nWhy not make this your company outing?\n\nGroups of any size can be accommodated. Just tell us how many are in your party\, and we'll reserve your table.\n\n\n\nCOST: $65 PER PERSON\n\nRSVP DEADLINE IS JUNE 16.\n\nRESERVE NOW BY PHONE 508-347-2761 OR EMAIL INFO@CMSCHAMBER.ORG\n\n*PLEASE INCLUDE YOUR MEAL CHOICE(S) LOBSTER\, STEAK OR VEGGIE ENTREE\n\n\n\nWITH GRATITUDE TO OUR SUMMER CLAMBAKE SPONSOR! COUNTRY BANK
X-ALT-DESC;FMTTYPE=text/html:<p><strong>CMS Chamber Summer Outing<br />\nA New England Clambake</strong><br />\nat The Publick House<br />\n277 Main Street\, On The Common\, Sturbridge\, MA 01566<br />\n<strong>JUNE 22\, 5:00-8:00pm</strong><br />\n<br />\nCelebrate the first day of summer with a spectacular feast! Join the Chamber of Central Mass South for a traditional New England Clambake hosted by The Publick House! We can&#39\;t wait to get together with our Members and friends and enjoy a summer clambake! All are welcome! Here are the details!<br />\n<br />\n<strong>THE MENU<br />\nYOUR CHOICE: Lobster\, Steak or Vegetarian Entr&eacute\;e</strong><br />\nwith Hors D&rsquo\;oeuvres\, Dinner Rolls\, Clam Chowder\, Mussels\, Cornbread\, Chef&#39\;s Potato\, Corn on the Cob\, Chef&#39\;s Vegetable\, Salads\, and Chef&#39\;s Choice Dessert<br />\n<br />\n<strong>Why not make this your company outing?</strong><br />\nGroups of any size can be accommodated. Just tell us how many are in your party\, and we&#39\;ll reserve your table.<br />\n<br />\n<strong>COST: $65 PER PERSON<br />\nRSVP DEADLINE IS JUNE 16.</strong><br />\nRESERVE NOW BY PHONE 508-347-2761 OR EMAIL <a href="mailto:INFO@CMSCHAMBER.ORG" style="user-select: auto\;">INFO@CMSCHAMBER.ORG</a><br />\n<em>*PLEASE INCLUDE YOUR MEAL CHOICE(S) LOBSTER\, STEAK OR VEGGIE ENTREE</em><br />\n<br />\n<span style="font-size:16px"><strong>WITH GRATITUDE TO OUR SUMMER CLAMBAKE SPONSOR! COUNTRY BANK</strong></span></p>\n
LOCATION:The Publick House\, 277 Main Street\, On The Common\, Sturbridge\, MA 01566
UID:e.2083.15949
SEQUENCE:3
DTSTAMP:20260421T023546Z
URL:https://business.cmschamber.org/events/details/cms-summer-outing-a-new-england-clambake-15949
END:VEVENT

END:VCALENDAR
