BEGIN:VCALENDAR
VERSION:2.0
PRODID:-//ChamberMaster//Event Calendar 2.0//EN
METHOD:PUBLISH
X-PUBLISHED-TTL:P3D
REFRESH-INTERVAL:P3D
CALSCALE:GREGORIAN
BEGIN:VEVENT
DTSTART:20231014T140000Z
DTEND:20231015T200000Z
X-MICROSOFT-CDO-ALLDAYEVENT:FALSE
SUMMARY:CMS -The 33rd Annual Harvest Festival
DESCRIPTION:The 33rd Annual Harvest Festival\n\nOctober 14 & 15\, 2023\n\nSturbridge Town Common\n\n\n\nThe Annual Harvest Festival on the Sturbridge Town Common is a family fun tradition. The event includes countless local crafters\, artisans\, specialty food vendors and farm fresh harvests.\n\n\n\nCRAFTERS! LIVE MUSIC & MAGIC! SPECIALTY FOOD TRUCKS!\n\n\n\nENTERTAINMENT SCHEDULE\n\n\n\nSATURDAY\n\n10:00-12:45pm  ERIN HARPE'S COUNTRY BLUES DUO\n\n1:15-2:00pm  Magic Show by AWESOME ROBB (followed by 2 hours of roving Magic)\n\n2:30-5:00pm  RAILROAD HOUSE\n\n\n\nSUNDAY\n\n11:30-12:15pm  Magic Show by AWESOME ROBB (followed by 2 hours of roving Magic)\n\n1:00-3:45pm  NEVER SAY NEVER\n\n\n\nFOOD TRUCKS LINEUP (Both days)\n\nFRY'D GUYS\n\nJB'S MOBILE CAFE\n\nTHAI PLACE FOOD TRUCK\n\nUNCLE E'S BBQ EXPRESS\n\nMELISSA FLAKERTY CAKES\n\n\n\nADMISSION IS FREE! PARKING IS FREE!\n\nFestival hours are 10am to 5pm on Saturday and 11am to 4pm on Sunday. Rain or Shine.\n\n\n\nPRESENTED BY THE CHAMBER OF CENTRAL MASS SOUTH\n\nWITH THANKS TO OUR SPONSOR: STURBRIDGE TOURIST ASSOCIATION
X-ALT-DESC;FMTTYPE=text/html:<strong><span style="font-size:18px">The 33rd Annual Harvest Festival</span><br />\nOctober 14 &amp\; 15\, 2023</strong><br />\nSturbridge Town Common<br />\n<br />\nThe Annual Harvest Festival on the Sturbridge Town Common is a family fun tradition. The event includes countless local crafters\, artisans\, specialty food vendors and farm fresh harvests.<br />\n<br />\n<em><strong>CRAFTERS! LIVE MUSIC &amp\; MAGIC! SPECIALTY FOOD TRUCKS!</strong></em><br />\n<br />\n<strong>ENTERTAINMENT SCHEDULE<br />\n<br />\nSATURDAY</strong><br />\n10:00-12:45pm&nbsp\; ERIN HARPE&#39\;S COUNTRY BLUES DUO<br />\n1:15-2:00pm&nbsp\; Magic Show by AWESOME ROBB (followed by 2 hours of roving Magic)<br />\n2:30-5:00pm&nbsp\; RAILROAD HOUSE<br />\n<br />\n<strong>SUNDAY</strong><br />\n11:30-12:15pm&nbsp\; Magic Show by AWESOME ROBB (followed by 2 hours of roving Magic)<br />\n1:00-3:45pm&nbsp\; NEVER SAY NEVER<br />\n<br />\n<strong>FOOD TRUCKS LINEUP (Both days)</strong><br />\nFRY&#39\;D GUYS<br />\nJB&#39\;S MOBILE CAFE<br />\nTHAI PLACE FOOD TRUCK<br />\nUNCLE E&#39\;S BBQ EXPRESS<br />\nMELISSA FLAKERTY CAKES<br />\n<br />\n<strong>ADMISSION IS FREE! PARKING IS FREE!</strong><br />\nFestival hours are 10am to 5pm on Saturday and 11am to 4pm on Sunday. Rain or Shine.<br />\n<br />\nPRESENTED BY THE CHAMBER OF CENTRAL MASS SOUTH<br />\nWITH THANKS TO OUR SPONSOR: STURBRIDGE TOURIST ASSOCIATION
LOCATION:Sturbridge Town Common\, 6 Chamberlain Ave\, Sturbridge\, MA
UID:e.2083.16460
SEQUENCE:3
DTSTAMP:20260420T171154Z
URL:https://business.cmschamber.org/events/details/cms-the-33rd-annual-harvest-festival-16460
END:VEVENT

END:VCALENDAR
