BEGIN:VCALENDAR
VERSION:2.0
PRODID:-//ChamberMaster//Event Calendar 2.0//EN
METHOD:PUBLISH
X-PUBLISHED-TTL:P3D
REFRESH-INTERVAL:P3D
CALSCALE:GREGORIAN
BEGIN:VEVENT
DTSTART:20200519T160000Z
DTEND:20200519T170000Z
X-MICROSOFT-CDO-ALLDAYEVENT:FALSE
SUMMARY:CMS - Webinar: Social Media Video for COVID-19 Recovery
DESCRIPTION:Webinar: Social Media Video for COVID-19 Recovery: \n\nBest Practices Detailed for Each CMS Local Business\n\nTuesday\, May 19\, 2020\, Noon-1:00PM\, \n\nFREE for Members!\n\nThe Chamber of Central Mass South invites you to a webinar on how to make more effective use of video in your business's social media. Chamber of Central Mass South's Venly Fellow Hannah London will take you through best practices for your particular business that you will want to incorporate as part of your COVID-19 Recovery. Hannah will detail an assessment for how each of our member businesses benchmark on best practices individually and by market category.\n\n \n\nPLEASE REGISTER AT THIS LINK\n\nOR BY EMAILING PAULETTE (PJH@CMSCHAMBER.ORG)\n\nWE WILL CONFIRM AND SEND YOU A LINK TO JOIN THE WEBINAR THROUGH WEBEX.\n\n \n\nAbout Venly\n\nBased in Cambridge\, Massachusetts\, Venly is a for-profit social enterprise that provides a one-year Fellowship to train local business leaders on social media and other technology-enabled best practices. Venly Fellows are recent graduates and returning veterans who are certified as trainers in partnership with local chambers of commerce and other hubs for community commerce innovation. Venly's mission is to help local businesses grow\, create jobs\, and strengthen each community Venly serves. Venly Fellows deliver their field-based training through Venly Institute's distributed systems for benchmarking\, certification\, and access to industry-specific capabilities and services.
X-ALT-DESC;FMTTYPE=text/html:<strong><span style="color:#275627"><span style="font-family:arial\,sans-serif"><span style="font-size:15.0pt">Webinar: Social Media Video for COVID-19 Recovery: </span></span></span></strong><br />\n<strong><span style="color:#275627"><span style="font-family:arial\,sans-serif"><span style="font-size:15.0pt">Best Practices Detailed for Each CMS Local Business</span></span></span></strong><br />\n<strong><span style="color:#275627"><span style="font-family:arial\,sans-serif"><span style="font-size:15.0pt">Tuesday\, May 19\, 2020\, Noon-1:00PM\, </span></span></span></strong><br />\n<strong><em><span style="color:#275627"><span style="font-family:arial\,sans-serif"><span style="font-size:15.0pt">FREE for Members!</span></span></span></em></strong><br />\n<span style="color:black"><span style="font-family:arial\,sans-serif"><span style="font-size:12.0pt">The Chamber of Central Mass South invites you to a webinar on how to make more effective use of video in your business&rsquo\;s social media. Chamber of Central Mass South&rsquo\;s Venly Fellow </span></span></span><span style="color:black"><span style="font-family:arial\,sans-serif"><span style="font-size:10.5pt"><a href="http://r20.rs6.net/tn.jsp?f=0011on6qJagqXQ8_VQw6BglaCG3aAGQo4I5IoYmRmOolT8PAw4QMAYlNU9c17TQ6u1ljec_nV2BEx8xMRgDpvYR9fkM_IhcHHsKtOLttFNXptady63E6LZ2Nk2cNiAWmJfINEw1s7ArVuL4yGBUfqq0O7fWBE5MUqRrsfk2ejlThOczXJfRjgqJXQ==&amp\;c=&amp\;ch=" target="_blank"><span style="font-size:12.0pt">Hannah London</span></a> </span></span></span><span style="color:black"><span style="font-family:arial\,sans-serif"><span style="font-size:12.0pt">will take you through best practices for your particular business that you will want to incorporate as part of your COVID-19 Recovery. Hannah will detail an assessment for how each of our member businesses benchmark on best practices individually and by market category.</span></span></span><br />\n&nbsp\;<br />\n<strong><span style="color:black"><span style="font-family:arial\,sans-serif"><span style="font-size:12.0pt">PLEASE REGISTER </span></span></span></strong><span style="color:black"><span style="font-family:arial\,sans-serif"><span style="font-size:10.5pt"><a href="http://r20.rs6.net/tn.jsp?f=0011on6qJagqXQ8_VQw6BglaCG3aAGQo4I5IoYmRmOolT8PAw4QMAYlNZin0y6kKTatd2lZo7Zb-wEDOQe9pX90hAbxKi3bD1uDTcUCqzTutG1DxuAhGOkTZz90pZKlVFK5MnSndl5YoaPtlYM8GDQEf1Z9YXjK4UB4ldtzWLmAmYhZyqOfRh_iZ_Z9GEzjC6XzcE96MRli_YFcg8qpqrH9TE3Hwb0DJ_sFpE1E3-ZtlhMMYx3Wi1Olsw-KOD_a921Y&amp\;c=&amp\;ch=" target="_blank"><strong><span style="font-size:12.0pt">AT THIS LINK</span></strong></a></span></span></span><br />\n<strong><span style="color:black"><span style="font-family:arial\,sans-serif"><span style="font-size:12.0pt">OR BY EMAILING PAULETTE (</span></span></span></strong><span style="color:black"><span style="font-family:arial\,sans-serif"><span style="font-size:10.5pt"><a href="mailto:pjh@cmschamber.org" target="_blank"><strong><span style="font-size:12.0pt">PJH@CMSCHAMBER.ORG</span></strong></a></span></span></span><strong><span style="color:black"><span style="font-family:arial\,sans-serif"><span style="font-size:12.0pt">)</span></span></span></strong><br />\n<strong><span style="color:black"><span style="font-family:arial\,sans-serif"><span style="font-size:12.0pt">WE WILL CONFIRM AND SEND YOU A LINK TO JOIN THE WEBINAR THROUGH WEBEX.</span></span></span></strong><br />\n&nbsp\;<br />\n<strong><span style="color:black"><span style="font-family:arial\,sans-serif"><span style="font-size:12.0pt">About Venly</span></span></span></strong><br />\n<span style="color:black"><span style="font-family:arial\,sans-serif"><span style="font-size:12.0pt">Based in Cambridge\, Massachusetts\, </span></span></span><span style="color:black"><span style="font-family:arial\,sans-serif"><span style="font-size:10.5pt"><a href="http://r20.rs6.net/tn.jsp?f=0011on6qJagqXQ8_VQw6BglaCG3aAGQo4I5IoYmRmOolT8PAw4QMAYlNU9c17TQ6u1lwOoUNm9oUU5uk3M-EFkGzIsVqJ6eZNCMZIK2wm-mmn197MT_vTMzxf-t2XgxVzrBuQMPzkQS9UY=&amp\;c=&amp\;ch=" target="_blank"><span style="font-size:12.0pt">Venly</span></a> </span></span></span><span style="color:black"><span style="font-family:arial\,sans-serif"><span style="font-size:12.0pt">is a for-profit social enterprise that provides a one-year Fellowship to train local business leaders on social media and other technology-enabled best practices. Venly Fellows are recent graduates and returning veterans who are certified as trainers in partnership with local chambers of commerce and other hubs for community commerce innovation. Venly&rsquo\;s mission is to help local businesses grow\, create jobs\, and strengthen each community Venly serves. Venly Fellows deliver their field-based training through Venly Institute&rsquo\;s distributed systems for benchmarking\, certification\, and access to industry-specific capabilities and services.</span></span></span>
LOCATION:Online
UID:e.2083.12110
SEQUENCE:3
DTSTAMP:20260423T101014Z
URL:https://business.cmschamber.org/events/details/cms-webinar-social-media-video-for-covid-19-recovery-12110
END:VEVENT

END:VCALENDAR
