BEGIN:VCALENDAR
VERSION:2.0
PRODID:-//ChamberMaster//Event Calendar 2.0//EN
METHOD:PUBLISH
X-PUBLISHED-TTL:P3D
REFRESH-INTERVAL:P3D
CALSCALE:GREGORIAN
BEGIN:VEVENT
DTSTART:20220831T160000Z
DTEND:20220831T170000Z
X-MICROSOFT-CDO-ALLDAYEVENT:FALSE
SUMMARY:Coalition for Safe Drinking Water Informational Session
DESCRIPTION:The Coalition for Safe Drinking Water is a group of diverse individuals and organizations advocating for equitable access to safe drinking water for private well owners across Massachusetts.\n\n\n\nLed by RCAP Solutions and The Health Foundation of Central Massachusetts\, the goal of this grassroots effort is to effect change by moving the state legislature to enable the Massachusetts Department of Environmental Protection (MassDEP) to enact sensible\, health-based regulations for private wells and to offer financial resources for homeowners who discover contaminants in their well water.\n\n\n\nUnlike with public water systems\, there are currently no statewide regulations to ensure private well water is safe from contaminants like PFAS\, arsenic\, radon\, and more. This problem can be solved\, but it will take leadership from community advocates\, non-profit organizations\, legislators\, and others.
X-ALT-DESC;FMTTYPE=text/html:The Coalition for Safe Drinking Water is a group of diverse individuals and organizations advocating for equitable access to safe drinking water for private well owners across Massachusetts.<br />\n<br />\nLed by RCAP Solutions and The Health Foundation of Central Massachusetts\, the goal of this grassroots effort is to effect change by moving the state legislature to enable the Massachusetts Department of Environmental Protection (MassDEP) to enact sensible\, health-based regulations for private wells and to offer financial resources for homeowners who discover contaminants in their well water.<br />\n<br />\nUnlike with public water systems\, there are currently no statewide regulations to ensure private well water is safe from contaminants like PFAS\, arsenic\, radon\, and more. This problem can be solved\, but it will take leadership from community advocates\, non-profit organizations\, legislators\, and others.
LOCATION:Online (via Zoom)
UID:e.2083.14703
SEQUENCE:3
DTSTAMP:20260421T184223Z
URL:https://business.cmschamber.org/events/details/coalition-for-safe-drinking-water-informational-session-14703
END:VEVENT

END:VCALENDAR
