BEGIN:VCALENDAR
VERSION:2.0
PRODID:-//ChamberMaster//Event Calendar 2.0//EN
METHOD:PUBLISH
X-PUBLISHED-TTL:P3D
REFRESH-INTERVAL:P3D
CALSCALE:GREGORIAN
BEGIN:VEVENT
DTSTART:20230323T210000Z
DTEND:20230323T230000Z
X-MICROSOFT-CDO-ALLDAYEVENT:FALSE
SUMMARY:Colonial Life Recruiting Open House
DESCRIPTION:Career Opportunity event!\n\n\n\nWe can help you spring into a new career! Spring is a time for change and growth\, and we are looking for entrepreneur like-minded people to join our team!\n\n\n\nCome meet our team and learn about the opportunities with Colonial Life!\n\n\n\nRefreshments will be served. Please RSVP to thart@coloniallife.com\n\n\n\nWe look forward to seeing you!
X-ALT-DESC;FMTTYPE=text/html:Career Opportunity event!<br />\n<br />\nWe can help you spring into a new career! Spring is a time for change and growth\, and we are looking for entrepreneur like-minded people to join our team!<br />\n<br />\nCome meet our team and learn about the opportunities with Colonial Life!<br />\n<br />\nRefreshments will be served. Please RSVP to thart@coloniallife.com<br />\n<br />\nWe look forward to seeing you!
LOCATION:1 Mercantile Street Suite 130 Worcester MA 01608
UID:e.2083.15478
SEQUENCE:3
DTSTAMP:20260421T055630Z
URL:https://business.cmschamber.org/events/details/colonial-life-recruiting-open-house-15478
END:VEVENT

END:VCALENDAR
