BEGIN:VCALENDAR
VERSION:2.0
PRODID:-//ChamberMaster//Event Calendar 2.0//EN
METHOD:PUBLISH
X-PUBLISHED-TTL:P3D
REFRESH-INTERVAL:P3D
CALSCALE:GREGORIAN
BEGIN:VEVENT
DTSTART:20220228T230000Z
DTEND:20220301T003000Z
X-MICROSOFT-CDO-ALLDAYEVENT:FALSE
SUMMARY:Committing to the “Why”: The Power of Purpose in Business
DESCRIPTION:If you've ever spent time around kids\, you've been barraged with that most classic of childhood queries: "Why?" From the youngest age\, even as we are just learning to question the world around us\, we intuitively know that the motive behind an action is the most important piece of any story. And when it comes to your business   whether you're a seasoned entrepreneur or you're still in the whiteboard phase   knowing your "why" will help you stay committed to your dream and get others on board\, too. Steering toward our North Star\, however\, is not always easy\, particularly when we feel the pressure of outside expectations -- real or imagined\, culturally ingrained or race-based.\n\nIn this panel discussion in honor of Black History Month\, you will hear from FOUR Black women entrepreneurs at different stages of the business life cycle. They will describe how they arrived at their "why" and how they keep that "why" top of mind through the day-to-day grind and the internal and external challenges and crises (hello\, COVID!). You will leave with a clear understanding of why discovering and prioritizing your "why" is the no. 1 business move you can make.
X-ALT-DESC;FMTTYPE=text/html:<p>If you&rsquo\;ve ever spent time around kids\, you&rsquo\;ve been barraged with that most classic of childhood queries: &ldquo\;Why?&rdquo\; From the youngest age\, even as we are just learning to question the world around us\, we intuitively know that the motive behind an action is the most important piece of any story. And when it comes to your business &ndash\; whether you&rsquo\;re a seasoned entrepreneur or you&rsquo\;re still in the whiteboard phase &ndash\; knowing your &ldquo\;why&rdquo\; will help you stay committed to your dream and get others on board\, too. Steering toward our North Star\, however\, is not always easy\, particularly when we feel the pressure of outside expectations -- real or imagined\, culturally ingrained or race-based.</p>\n\n<p>In this panel discussion in honor of Black History Month\, you will hear from FOUR Black women entrepreneurs at different stages of the business life cycle. They will describe how they arrived at their &ldquo\;why&rdquo\; and how they keep that &ldquo\;why&rdquo\; top of mind through the day-to-day grind and the internal and external challenges and crises (hello\, COVID!). You will leave with a clear understanding of why discovering and prioritizing your &ldquo\;why&rdquo\; is the no. 1 business move you can make.</p>\n
LOCATION:Zoom
UID:e.2083.13816
SEQUENCE:3
DTSTAMP:20260422T021943Z
URL:https://business.cmschamber.org/events/details/committing-to-the-why-the-power-of-purpose-in-business-13816
END:VEVENT

END:VCALENDAR
