BEGIN:VCALENDAR
VERSION:2.0
PRODID:-//ChamberMaster//Event Calendar 2.0//EN
METHOD:PUBLISH
X-PUBLISHED-TTL:P3D
REFRESH-INTERVAL:P3D
CALSCALE:GREGORIAN
BEGIN:VEVENT
DTSTART:20220616T170000Z
DTEND:20220616T180000Z
X-MICROSOFT-CDO-ALLDAYEVENT:FALSE
SUMMARY:Commonwealth Online Webinar | How to Build a Great Workplace Culture
DESCRIPTION:The culture of your organization determines the rules you live by\, the practices you implement\, the ways you innovate\, the people you hire\, and the direction you take your company. In short\, whether you'll be successful and how successful you can be.\n\nIn this webinar\, we'll cover everything from identifying and evaluating the culture you have\, to determining what culture works best given your industry and growth\, to the steps you can take to make your workplace awesome.\n\n\n\nMore information & registration can be found on the Commonwealth Payroll & HR website.
X-ALT-DESC;FMTTYPE=text/html:<p>The culture of your organization determines the rules you live by\, the practices you implement\, the ways you innovate\, the people you hire\, and the direction you take your company. In short\, whether you&rsquo\;ll be successful and how successful you can be.</p>\n\n<p>In this webinar\, we&rsquo\;ll cover everything from identifying and evaluating the culture you have\, to determining what culture works best given your industry and growth\, to the steps you can take to make your workplace awesome.<br />\n<br />\nMore information &amp\; registration can be found on the Commonwealth Payroll &amp\; HR website.</p>\n
LOCATION:Online
UID:e.2083.13936
SEQUENCE:3
DTSTAMP:20260421T202729Z
URL:https://business.cmschamber.org/events/details/commonwealth-online-webinar-how-to-build-a-great-workplace-culture-13936
END:VEVENT

END:VCALENDAR
