BEGIN:VCALENDAR
VERSION:2.0
PRODID:-//ChamberMaster//Event Calendar 2.0//EN
METHOD:PUBLISH
X-PUBLISHED-TTL:P3D
REFRESH-INTERVAL:P3D
CALSCALE:GREGORIAN
BEGIN:VEVENT
DTSTART:20220721T170000Z
DTEND:20220721T180000Z
X-MICROSOFT-CDO-ALLDAYEVENT:FALSE
SUMMARY:Commonwealth Online Webinar | Preventing & Addressing Unlawful Harassment
DESCRIPTION:When does behavior cross the line in the workplace? Join us as we define unlawful harassment and provide insight into the obligations of employers and managers. With a focus on preventative measures\, best practices\, and relevant laws\, you'll walk away with tips on the most effective steps to prevent and correct unlawful harassment. \n\nMore information can be found on the Commonwealth Payroll & HR website.
X-ALT-DESC;FMTTYPE=text/html:<p><span style="font-size:14px"><span style="color:rgb(43\, 43\, 43)\; font-family:open sans\,sans-serif">When does behavior cross the line in the workplace? Join us as we define unlawful harassment and provide insight into the obligations of employers and managers. With a focus on preventative measures\, best practices\, and relevant laws\, you&rsquo\;ll walk away with tips on the most effective steps to prevent and correct unlawful harassment.&nbsp\;</span></span></p>\n\n<p><span style="font-size:14px"><span style="color:rgb(43\, 43\, 43)\; font-family:open sans\,sans-serif">More information can be found on the Commonwealth Payroll &amp\; HR website.</span></span></p>\n
LOCATION:Online
UID:e.2083.13964
SEQUENCE:3
DTSTAMP:20260421T185659Z
URL:https://business.cmschamber.org/events/details/commonwealth-online-webinar-preventing-addressing-unlawful-harassment-13964
END:VEVENT

END:VCALENDAR
